BEGIN:VCALENDAR
VERSION:2.0
PRODID:-//Temple Beth Shalom - ECPv6.15.17.1//NONSGML v1.0//EN
CALSCALE:GREGORIAN
METHOD:PUBLISH
X-WR-CALNAME:Temple Beth Shalom
X-ORIGINAL-URL:https://tbsneedham.org
X-WR-CALDESC:Events for Temple Beth Shalom
REFRESH-INTERVAL;VALUE=DURATION:PT1H
X-Robots-Tag:noindex
X-PUBLISHED-TTL:PT1H
BEGIN:VTIMEZONE
TZID:US/Eastern
BEGIN:DAYLIGHT
TZOFFSETFROM:-0500
TZOFFSETTO:-0400
TZNAME:EDT
DTSTART:20240310T070000
END:DAYLIGHT
BEGIN:STANDARD
TZOFFSETFROM:-0400
TZOFFSETTO:-0500
TZNAME:EST
DTSTART:20241103T060000
END:STANDARD
BEGIN:DAYLIGHT
TZOFFSETFROM:-0500
TZOFFSETTO:-0400
TZNAME:EDT
DTSTART:20250309T070000
END:DAYLIGHT
BEGIN:STANDARD
TZOFFSETFROM:-0400
TZOFFSETTO:-0500
TZNAME:EST
DTSTART:20251102T060000
END:STANDARD
BEGIN:DAYLIGHT
TZOFFSETFROM:-0500
TZOFFSETTO:-0400
TZNAME:EDT
DTSTART:20260308T070000
END:DAYLIGHT
BEGIN:STANDARD
TZOFFSETFROM:-0400
TZOFFSETTO:-0500
TZNAME:EST
DTSTART:20261101T060000
END:STANDARD
END:VTIMEZONE
BEGIN:VTIMEZONE
TZID:America/New_York
BEGIN:DAYLIGHT
TZOFFSETFROM:-0500
TZOFFSETTO:-0400
TZNAME:EDT
DTSTART:20240310T070000
END:DAYLIGHT
BEGIN:STANDARD
TZOFFSETFROM:-0400
TZOFFSETTO:-0500
TZNAME:EST
DTSTART:20241103T060000
END:STANDARD
BEGIN:DAYLIGHT
TZOFFSETFROM:-0500
TZOFFSETTO:-0400
TZNAME:EDT
DTSTART:20250309T070000
END:DAYLIGHT
BEGIN:STANDARD
TZOFFSETFROM:-0400
TZOFFSETTO:-0500
TZNAME:EST
DTSTART:20251102T060000
END:STANDARD
BEGIN:DAYLIGHT
TZOFFSETFROM:-0500
TZOFFSETTO:-0400
TZNAME:EDT
DTSTART:20260308T070000
END:DAYLIGHT
BEGIN:STANDARD
TZOFFSETFROM:-0400
TZOFFSETTO:-0500
TZNAME:EST
DTSTART:20261101T060000
END:STANDARD
END:VTIMEZONE
BEGIN:VEVENT
DTSTART;VALUE=DATE:20250207
DTEND;VALUE=DATE:20250210
DTSTAMP:20260422T104640
CREATED:20241226T203231Z
LAST-MODIFIED:20250414T150616Z
UID:10001779-1738886400-1739145599@tbsneedham.org
SUMMARY:Sisterhood Retreat
DESCRIPTION:Sisterhood Retreat February 7-9\, 2025 – Cape Cod \nJoin us for a unique and exciting weekend filled with friendship\, creativity\, worship\, laughter\, and song! The weekend will be led by Rabbi Elyse Pincus-Abrahams\, Emily Perlman\, and your Sisterhood retreat planning committee. This retreat is designed to provide participants with a relaxed environment to unwind\, reconnect with old friends\, and meet new friends! Space is limited to 45 women. \n$150 for double occupancy; $300 for single occupancy. \nRegister here. \nThis event is for Sisterhood members only (all female-identifying members of TBS and any non-TBS paid members).\nIf you would like to be involved\, contact sisterhood@tbsneedham.org.
URL:https://tbsneedham.org/event/sisterhood-retreat/
LOCATION:Outside of Temple
CATEGORIES:Events,Sisterhood
END:VEVENT
BEGIN:VEVENT
DTSTART;TZID=America/New_York:20250208T083000
DTEND;TZID=America/New_York:20250208T090000
DTSTAMP:20260422T104640
CREATED:20250102T180658Z
LAST-MODIFIED:20250709T163958Z
UID:10003938-1739003400-1739005200@tbsneedham.org
SUMMARY:Lay-Led Shabbat Morning Service
DESCRIPTION:Join in virtually\, or join us in person in the Beit Midrash! Please refer to your Shabbat Shalom email for the Zoom information.
URL:https://tbsneedham.org/event/lay-led-shabbat-morning-service-27/2025-02-08/
CATEGORIES:Worship
END:VEVENT
BEGIN:VEVENT
DTSTART;TZID=America/New_York:20250208T091500
DTEND;TZID=America/New_York:20250208T101500
DTSTAMP:20260422T104640
CREATED:20250102T162833Z
LAST-MODIFIED:20250709T165122Z
UID:10004631-1739006100-1739009700@tbsneedham.org
SUMMARY:Torah Study
DESCRIPTION:No previous experience with Torah study is required…just an open mind and a desire to learn more!
URL:https://tbsneedham.org/event/torah-study-29/2025-02-08/
CATEGORIES:Worship
ATTACH;FMTTYPE=image/webp:https://tbsneedham.org/wp-content/uploads/2024/11/Morning-Minyan.webp
END:VEVENT
BEGIN:VEVENT
DTSTART;TZID=America/New_York:20250208T091500
DTEND;TZID=America/New_York:20250208T101500
DTSTAMP:20260422T104640
CREATED:20250102T175654Z
LAST-MODIFIED:20250414T150617Z
UID:10002637-1739006100-1739009700@tbsneedham.org
SUMMARY:Finding Our Jewish Values in the Torah
DESCRIPTION:Each week we will focus on a single Jewish moral or ethical value found in that week’s parshah (Torah portion). These will include\, but not be limited to: Justice\, Compassion\, Environmental Ethics\, and Business Ethics. A variety of rabbinic sources will enrich our exploration as we seek to apply each week’s value to our lives today. \nJoin us in person at TBS or drop in online at t-b-s.me/findingvalues.
URL:https://tbsneedham.org/event/finding-our-jewish-values-in-the-torah-26/2025-02-08/
CATEGORIES:Adult Learning,Classes
END:VEVENT
BEGIN:VEVENT
DTSTART;TZID=US/Eastern:20250208T110000
DTEND;TZID=US/Eastern:20250208T123000
DTSTAMP:20260422T104640
CREATED:20241226T203231Z
LAST-MODIFIED:20250414T150616Z
UID:10001780-1739012400-1739017800@tbsneedham.org
SUMMARY:Shabbat Community Hike
DESCRIPTION:Register at t-b-s.me/shabbathikes.
URL:https://tbsneedham.org/event/shabbat-community-hike/
LOCATION:Outside of Temple
CATEGORIES:Events,Holidays
END:VEVENT
BEGIN:VEVENT
DTSTART;TZID=US/Eastern:20250208T130000
DTEND;TZID=US/Eastern:20250208T160000
DTSTAMP:20260422T104640
CREATED:20241227T204314Z
LAST-MODIFIED:20250414T150616Z
UID:10001848-1739019600-1739030400@tbsneedham.org
SUMMARY:Etzim Mitzvah Corps at GBFB
DESCRIPTION:
URL:https://tbsneedham.org/event/etzim-mitzvah-corps-at-gbfb/
LOCATION:Outside of Temple
CATEGORIES:Etzim (8th-12th Grade),K-12 Learning Programs
END:VEVENT
BEGIN:VEVENT
DTSTART;TZID=US/Eastern:20250208T140000
DTEND;TZID=US/Eastern:20250208T150000
DTSTAMP:20260422T104640
CREATED:20250103T171727Z
LAST-MODIFIED:20250414T150604Z
UID:10004608-1739023200-1739026800@tbsneedham.org
SUMMARY:Shabbat Family Hike
DESCRIPTION:Register at t-b-s.me/familyhikes.
URL:https://tbsneedham.org/event/shabbat-family-hike-2/
LOCATION:Outside of Temple
CATEGORIES:Families with School Age Children,Holidays
END:VEVENT
BEGIN:VEVENT
DTSTART;TZID=US/Eastern:20250208T184500
DTEND;TZID=US/Eastern:20250208T200000
DTSTAMP:20260422T104640
CREATED:20250106T191402Z
LAST-MODIFIED:20250414T150604Z
UID:10004896-1739040300-1739044800@tbsneedham.org
SUMMARY:Canceled due to weather: Mayim Tamid Havdalah
DESCRIPTION:Please check your Shavua Tov email for the registration form.
URL:https://tbsneedham.org/event/mayim-tamid-havdalah/
LOCATION:Carmen Hall
CATEGORIES:K-12 Learning Programs,Mayim Tamid
END:VEVENT
END:VCALENDAR