BEGIN:VCALENDAR
VERSION:2.0
PRODID:-//Temple Beth Shalom - ECPv6.15.17.1//NONSGML v1.0//EN
CALSCALE:GREGORIAN
METHOD:PUBLISH
X-ORIGINAL-URL:https://tbsneedham.org
X-WR-CALDESC:Events for Temple Beth Shalom
REFRESH-INTERVAL;VALUE=DURATION:PT1H
X-Robots-Tag:noindex
X-PUBLISHED-TTL:PT1H
BEGIN:VTIMEZONE
TZID:America/New_York
BEGIN:DAYLIGHT
TZOFFSETFROM:-0500
TZOFFSETTO:-0400
TZNAME:EDT
DTSTART:20240310T070000
END:DAYLIGHT
BEGIN:STANDARD
TZOFFSETFROM:-0400
TZOFFSETTO:-0500
TZNAME:EST
DTSTART:20241103T060000
END:STANDARD
BEGIN:DAYLIGHT
TZOFFSETFROM:-0500
TZOFFSETTO:-0400
TZNAME:EDT
DTSTART:20250309T070000
END:DAYLIGHT
BEGIN:STANDARD
TZOFFSETFROM:-0400
TZOFFSETTO:-0500
TZNAME:EST
DTSTART:20251102T060000
END:STANDARD
BEGIN:DAYLIGHT
TZOFFSETFROM:-0500
TZOFFSETTO:-0400
TZNAME:EDT
DTSTART:20260308T070000
END:DAYLIGHT
BEGIN:STANDARD
TZOFFSETFROM:-0400
TZOFFSETTO:-0500
TZNAME:EST
DTSTART:20261101T060000
END:STANDARD
END:VTIMEZONE
BEGIN:VTIMEZONE
TZID:US/Eastern
BEGIN:DAYLIGHT
TZOFFSETFROM:-0500
TZOFFSETTO:-0400
TZNAME:EDT
DTSTART:20240310T070000
END:DAYLIGHT
BEGIN:STANDARD
TZOFFSETFROM:-0400
TZOFFSETTO:-0500
TZNAME:EST
DTSTART:20241103T060000
END:STANDARD
BEGIN:DAYLIGHT
TZOFFSETFROM:-0500
TZOFFSETTO:-0400
TZNAME:EDT
DTSTART:20250309T070000
END:DAYLIGHT
BEGIN:STANDARD
TZOFFSETFROM:-0400
TZOFFSETTO:-0500
TZNAME:EST
DTSTART:20251102T060000
END:STANDARD
BEGIN:DAYLIGHT
TZOFFSETFROM:-0500
TZOFFSETTO:-0400
TZNAME:EDT
DTSTART:20260308T070000
END:DAYLIGHT
BEGIN:STANDARD
TZOFFSETFROM:-0400
TZOFFSETTO:-0500
TZNAME:EST
DTSTART:20261101T060000
END:STANDARD
END:VTIMEZONE
BEGIN:VEVENT
DTSTART;TZID=America/New_York:20250225T103000
DTEND;TZID=America/New_York:20250225T231500
DTSTAMP:20260422T072927
CREATED:20250102T201438Z
LAST-MODIFIED:20250414T150629Z
UID:10004522-1740479400-1740525300@tbsneedham.org
SUMMARY:Jam Baby
DESCRIPTION:Join in the fun with your child: Sing songs! Play instruments! Dance around and JAM! The first years are critical in a child’s musical development. JamBaby classes provide a fun atmosphere while promoting musical learning\, socialization\, and the most exciting introduction to the wonder and joy of music. Taught by the amazing musician of Jammin’ With You! \nRegister here.
URL:https://tbsneedham.org/event/jam-baby-19/2025-02-25/
CATEGORIES:Families with Young Children
ATTACH;FMTTYPE=image/jpeg:https://tbsneedham.org/wp-content/uploads/2025/01/JamBaby-Childrens-Center-e1736185016585.jpeg
END:VEVENT
BEGIN:VEVENT
DTSTART;TZID=America/New_York:20250225T184500
DTEND;TZID=America/New_York:20250225T191500
DTSTAMP:20260422T072927
CREATED:20250102T162535Z
LAST-MODIFIED:20251201T153637Z
UID:10001864-1740509100-1740510900@tbsneedham.org
SUMMARY:Lay-Led Evening Minyan (online)
DESCRIPTION:Members of our community gather virtually for a warm and inclusive lay-led service.  These services take place even if there are fewer than ten participants\, last about 20-30 minutes\, and are a meaningful way to end your day. Join us on Zoom here.
URL:https://tbsneedham.org/event/lay-led-evening-minyan-online/2025-02-25/
CATEGORIES:Worship
END:VEVENT
BEGIN:VEVENT
DTSTART;TZID=US/Eastern:20250225T190000
DTEND;TZID=US/Eastern:20250225T203000
DTSTAMP:20260422T072927
CREATED:20241230T203324Z
LAST-MODIFIED:20250414T150602Z
UID:10001798-1740510000-1740515400@tbsneedham.org
SUMMARY:Israel - The Generational Divide: A Course for Parents Struggling to Understand Their Children's Perspectives on Israel
DESCRIPTION:Register: t-b-s.me/generationaldivide \nThe crisis in Israel has caused divides within and beyond the Jewish community. We have heard so many stories of families at odds with each other over Israel\, family members who are unable or unwilling to communicate with each other. This course is specifically for parents who are wrestling with their college-age children’s views on Israel. We are hoping to bring parents together to learn and think together about Israel and about family. The course will be a mix of various types of learning. We will be looking at different perspectives on Israel\, including that part of the Jewish community which questions Israel\, not with the eye to tear down but to try to critically understand this worldview. While primarily designed for parents\, other adults with college-age or older high school students in their lives (e.g.\, grandparents and other caregivers) are also welcome to participate. \nCo-Sponsored by Hebrew College and Temple Beth Shalom\, Needham \nCost: Free to Temple Beth Shalom Members \nLocation: In-person at Temple Beth Shalom \nFor more information\, view the flyer or contact adultlearning@hebrewcollege.edu
URL:https://tbsneedham.org/event/israel-the-generational-divide-a-course-for-parents-struggling-to-understand-their-childrens-perspectives-on-israel/
LOCATION:Carmen Hall
CATEGORIES:Adult Learning,Events,Homepage Feature
ATTACH;FMTTYPE=image/jpeg:https://tbsneedham.org/wp-content/uploads/2024/12/Flag_of_Israel__84683-e1736190971477.jpg
END:VEVENT
END:VCALENDAR