BEGIN:VCALENDAR
VERSION:2.0
PRODID:-//Temple Beth Shalom - ECPv6.15.17.1//NONSGML v1.0//EN
CALSCALE:GREGORIAN
METHOD:PUBLISH
X-WR-CALNAME:Temple Beth Shalom
X-ORIGINAL-URL:https://tbsneedham.org
X-WR-CALDESC:Events for Temple Beth Shalom
REFRESH-INTERVAL;VALUE=DURATION:PT1H
X-Robots-Tag:noindex
X-PUBLISHED-TTL:PT1H
BEGIN:VTIMEZONE
TZID:America/New_York
BEGIN:DAYLIGHT
TZOFFSETFROM:-0500
TZOFFSETTO:-0400
TZNAME:EDT
DTSTART:20240310T070000
END:DAYLIGHT
BEGIN:STANDARD
TZOFFSETFROM:-0400
TZOFFSETTO:-0500
TZNAME:EST
DTSTART:20241103T060000
END:STANDARD
BEGIN:DAYLIGHT
TZOFFSETFROM:-0500
TZOFFSETTO:-0400
TZNAME:EDT
DTSTART:20250309T070000
END:DAYLIGHT
BEGIN:STANDARD
TZOFFSETFROM:-0400
TZOFFSETTO:-0500
TZNAME:EST
DTSTART:20251102T060000
END:STANDARD
BEGIN:DAYLIGHT
TZOFFSETFROM:-0500
TZOFFSETTO:-0400
TZNAME:EDT
DTSTART:20260308T070000
END:DAYLIGHT
BEGIN:STANDARD
TZOFFSETFROM:-0400
TZOFFSETTO:-0500
TZNAME:EST
DTSTART:20261101T060000
END:STANDARD
END:VTIMEZONE
BEGIN:VTIMEZONE
TZID:US/Eastern
BEGIN:DAYLIGHT
TZOFFSETFROM:-0500
TZOFFSETTO:-0400
TZNAME:EDT
DTSTART:20240310T070000
END:DAYLIGHT
BEGIN:STANDARD
TZOFFSETFROM:-0400
TZOFFSETTO:-0500
TZNAME:EST
DTSTART:20241103T060000
END:STANDARD
BEGIN:DAYLIGHT
TZOFFSETFROM:-0500
TZOFFSETTO:-0400
TZNAME:EDT
DTSTART:20250309T070000
END:DAYLIGHT
BEGIN:STANDARD
TZOFFSETFROM:-0400
TZOFFSETTO:-0500
TZNAME:EST
DTSTART:20251102T060000
END:STANDARD
BEGIN:DAYLIGHT
TZOFFSETFROM:-0500
TZOFFSETTO:-0400
TZNAME:EDT
DTSTART:20260308T070000
END:DAYLIGHT
BEGIN:STANDARD
TZOFFSETFROM:-0400
TZOFFSETTO:-0500
TZNAME:EST
DTSTART:20261101T060000
END:STANDARD
END:VTIMEZONE
BEGIN:VEVENT
DTSTART;TZID=America/New_York:20250308T083000
DTEND;TZID=America/New_York:20250308T090000
DTSTAMP:20260424T140345
CREATED:20250102T180658Z
LAST-MODIFIED:20250709T163958Z
UID:10003942-1741422600-1741424400@tbsneedham.org
SUMMARY:Lay-Led Shabbat Morning Service
DESCRIPTION:Join in virtually\, or join us in person in the Beit Midrash! Please refer to your Shabbat Shalom email for the Zoom information.
URL:https://tbsneedham.org/event/lay-led-shabbat-morning-service-27/2025-03-08/
CATEGORIES:Worship
END:VEVENT
BEGIN:VEVENT
DTSTART;TZID=US/Eastern:20250308T090000
DTEND;TZID=US/Eastern:20250308T100000
DTSTAMP:20260424T140345
CREATED:20241226T203204Z
LAST-MODIFIED:20250414T150602Z
UID:10001769-1741424400-1741428000@tbsneedham.org
SUMMARY:FwYC Shabbat program
DESCRIPTION:Registration coming soon!
URL:https://tbsneedham.org/event/fwyc-shabbat-program/
LOCATION:Carmen Hall
CATEGORIES:Families with Young Children,Holidays
END:VEVENT
BEGIN:VEVENT
DTSTART;TZID=US/Eastern:20250308T090000
DTEND;TZID=US/Eastern:20250308T100000
DTSTAMP:20260424T140345
CREATED:20250305T152048Z
LAST-MODIFIED:20250414T150602Z
UID:10005046-1741424400-1741428000@tbsneedham.org
SUMMARY:Tot Shabbat
DESCRIPTION:Join Joanie Leeds for a joyful\, musical experience designed for young children and their families. Renowned for her Grammy-winning music\, Joanie Leeds blends spirited melodies with interactive storytelling\, creating a warm\, welcoming environment. Jewish traditions\, lively songs\, and simple prayers will encourage clapping\, dancing\, and singing along. Geared towards families with children ages 0-6. Register: t-b-s.me/JoanieLeeds
URL:https://tbsneedham.org/event/tot-shabbat/
LOCATION:Carmen Hall
CATEGORIES:Families with Young Children
END:VEVENT
BEGIN:VEVENT
DTSTART;TZID=US/Eastern:20250308T090000
DTEND;TZID=US/Eastern:20250308T170000
DTSTAMP:20260424T140345
CREATED:20250106T191636Z
LAST-MODIFIED:20250414T150602Z
UID:10004899-1741424400-1741453200@tbsneedham.org
SUMMARY:Needham's Art in Bloom
DESCRIPTION:Needham’s Art in Bloom will be celebrating its 17th year at the Needham Public Library\, sponsored by Beth Shalom Garden Club with participants from the Needham Garden Club and Kalmia Garden Club.  \nWe hope you will come to see 50 pieces of Needham High School artwork interpreted with flowers!
URL:https://tbsneedham.org/event/needhams-art-in-bloom/
LOCATION:Outside of Temple
CATEGORIES:Events,Garden Club
ATTACH;FMTTYPE=image/jpeg:https://tbsneedham.org/wp-content/uploads/2025/01/Art-in-Bloom-iamge-scaled-e1738090679332.jpg
END:VEVENT
BEGIN:VEVENT
DTSTART;TZID=America/New_York:20250308T091500
DTEND;TZID=America/New_York:20250308T101500
DTSTAMP:20260424T140345
CREATED:20250102T162833Z
LAST-MODIFIED:20250709T165122Z
UID:10004635-1741425300-1741428900@tbsneedham.org
SUMMARY:Torah Study
DESCRIPTION:No previous experience with Torah study is required…just an open mind and a desire to learn more!
URL:https://tbsneedham.org/event/torah-study-29/2025-03-08/
CATEGORIES:Worship
ATTACH;FMTTYPE=image/webp:https://tbsneedham.org/wp-content/uploads/2024/11/Morning-Minyan.webp
END:VEVENT
BEGIN:VEVENT
DTSTART;TZID=America/New_York:20250308T091500
DTEND;TZID=America/New_York:20250308T101500
DTSTAMP:20260424T140345
CREATED:20250102T175654Z
LAST-MODIFIED:20250414T150617Z
UID:10002641-1741425300-1741428900@tbsneedham.org
SUMMARY:Finding Our Jewish Values in the Torah
DESCRIPTION:Each week we will focus on a single Jewish moral or ethical value found in that week’s parshah (Torah portion). These will include\, but not be limited to: Justice\, Compassion\, Environmental Ethics\, and Business Ethics. A variety of rabbinic sources will enrich our exploration as we seek to apply each week’s value to our lives today. \nJoin us in person at TBS or drop in online at t-b-s.me/findingvalues.
URL:https://tbsneedham.org/event/finding-our-jewish-values-in-the-torah-26/2025-03-08/
CATEGORIES:Adult Learning,Classes
END:VEVENT
BEGIN:VEVENT
DTSTART;TZID=US/Eastern:20250308T110000
DTEND;TZID=US/Eastern:20250308T123000
DTSTAMP:20260424T140345
CREATED:20250103T171751Z
LAST-MODIFIED:20250414T150549Z
UID:10004611-1741431600-1741437000@tbsneedham.org
SUMMARY:Shabbat Community Hike
DESCRIPTION:Register at t-b-s.me/shabbathikes.
URL:https://tbsneedham.org/event/shabbat-community-hike-3/
LOCATION:Outside of Temple
CATEGORIES:Events,Holidays
END:VEVENT
BEGIN:VEVENT
DTSTART;TZID=US/Eastern:20250308T140000
DTEND;TZID=US/Eastern:20250308T150000
DTSTAMP:20260424T140345
CREATED:20250103T171751Z
LAST-MODIFIED:20250414T150548Z
UID:10004612-1741442400-1741446000@tbsneedham.org
SUMMARY:Shabbat Family Hike
DESCRIPTION:Register at t-b-s.me/familyhikes.
URL:https://tbsneedham.org/event/shabbat-family-hike-3/
LOCATION:Outside of Temple
CATEGORIES:Families with School Age Children,Holidays
END:VEVENT
END:VCALENDAR