BEGIN:VCALENDAR
VERSION:2.0
PRODID:-//Temple Beth Shalom - ECPv6.15.17.1//NONSGML v1.0//EN
CALSCALE:GREGORIAN
METHOD:PUBLISH
X-WR-CALNAME:Temple Beth Shalom
X-ORIGINAL-URL:https://tbsneedham.org
X-WR-CALDESC:Events for Temple Beth Shalom
REFRESH-INTERVAL;VALUE=DURATION:PT1H
X-Robots-Tag:noindex
X-PUBLISHED-TTL:PT1H
BEGIN:VTIMEZONE
TZID:US/Eastern
BEGIN:DAYLIGHT
TZOFFSETFROM:-0500
TZOFFSETTO:-0400
TZNAME:EDT
DTSTART:20240310T070000
END:DAYLIGHT
BEGIN:STANDARD
TZOFFSETFROM:-0400
TZOFFSETTO:-0500
TZNAME:EST
DTSTART:20241103T060000
END:STANDARD
BEGIN:DAYLIGHT
TZOFFSETFROM:-0500
TZOFFSETTO:-0400
TZNAME:EDT
DTSTART:20250309T070000
END:DAYLIGHT
BEGIN:STANDARD
TZOFFSETFROM:-0400
TZOFFSETTO:-0500
TZNAME:EST
DTSTART:20251102T060000
END:STANDARD
BEGIN:DAYLIGHT
TZOFFSETFROM:-0500
TZOFFSETTO:-0400
TZNAME:EDT
DTSTART:20260308T070000
END:DAYLIGHT
BEGIN:STANDARD
TZOFFSETFROM:-0400
TZOFFSETTO:-0500
TZNAME:EST
DTSTART:20261101T060000
END:STANDARD
END:VTIMEZONE
BEGIN:VTIMEZONE
TZID:America/New_York
BEGIN:DAYLIGHT
TZOFFSETFROM:-0500
TZOFFSETTO:-0400
TZNAME:EDT
DTSTART:20240310T070000
END:DAYLIGHT
BEGIN:STANDARD
TZOFFSETFROM:-0400
TZOFFSETTO:-0500
TZNAME:EST
DTSTART:20241103T060000
END:STANDARD
BEGIN:DAYLIGHT
TZOFFSETFROM:-0500
TZOFFSETTO:-0400
TZNAME:EDT
DTSTART:20250309T070000
END:DAYLIGHT
BEGIN:STANDARD
TZOFFSETFROM:-0400
TZOFFSETTO:-0500
TZNAME:EST
DTSTART:20251102T060000
END:STANDARD
BEGIN:DAYLIGHT
TZOFFSETFROM:-0500
TZOFFSETTO:-0400
TZNAME:EDT
DTSTART:20260308T070000
END:DAYLIGHT
BEGIN:STANDARD
TZOFFSETFROM:-0400
TZOFFSETTO:-0500
TZNAME:EST
DTSTART:20261101T060000
END:STANDARD
END:VTIMEZONE
BEGIN:VEVENT
DTSTART;TZID=US/Eastern:20250312T091500
DTEND;TZID=US/Eastern:20250312T094500
DTSTAMP:20260422T090432
CREATED:20250205T201307Z
LAST-MODIFIED:20250414T150548Z
UID:10005024-1741770900-1741772700@tbsneedham.org
SUMMARY:Diaper Drive supporting Beantown Baby Diaper Bank
DESCRIPTION:Join Social Action in supporting Beantown Baby Diaper Bank’s efforts to ensure Massachusetts families can keep their babies healthy\, clean\, and dry. ⅓ of families with young children in Massachusetts can not afford an adequate diaper supply. To help\, Social Action is collecting diaper donations on behalf of Beantown Baby. In the last two years\, our community has donated an average of 2\,430 diapers to this great cause. Let’s try to raise the bar this year and make it an even 2\,500 for 2025!! Any brand of diapers\, new or open packages\, pull-ups and swim diapers are accepted! If you cannot make our drive-thru collection\, please email socialaction@tbsneedham.org to arrange a drop off at a TBS member’s home February 1st-March 11th.\nSign up here to donate.
URL:https://tbsneedham.org/event/diaper-drive-supporting-beantown-baby-diaper-bank/
LOCATION:Parking Lot (Front)
CATEGORIES:Events,Social Action
END:VEVENT
BEGIN:VEVENT
DTSTART;TZID=America/New_York:20250312T184500
DTEND;TZID=America/New_York:20250312T191500
DTSTAMP:20260422T090432
CREATED:20250102T162535Z
LAST-MODIFIED:20251201T153637Z
UID:10001869-1741805100-1741806900@tbsneedham.org
SUMMARY:Lay-Led Evening Minyan (online)
DESCRIPTION:Members of our community gather virtually for a warm and inclusive lay-led service.  These services take place even if there are fewer than ten participants\, last about 20-30 minutes\, and are a meaningful way to end your day. Join us on Zoom here.
URL:https://tbsneedham.org/event/lay-led-evening-minyan-online/2025-03-12/
CATEGORIES:Worship
END:VEVENT
END:VCALENDAR