BEGIN:VCALENDAR
VERSION:2.0
PRODID:-//Temple Beth Shalom - ECPv6.15.17.1//NONSGML v1.0//EN
CALSCALE:GREGORIAN
METHOD:PUBLISH
X-ORIGINAL-URL:https://tbsneedham.org
X-WR-CALDESC:Events for Temple Beth Shalom
REFRESH-INTERVAL;VALUE=DURATION:PT1H
X-Robots-Tag:noindex
X-PUBLISHED-TTL:PT1H
BEGIN:VTIMEZONE
TZID:America/New_York
BEGIN:DAYLIGHT
TZOFFSETFROM:-0500
TZOFFSETTO:-0400
TZNAME:EDT
DTSTART:20240310T070000
END:DAYLIGHT
BEGIN:STANDARD
TZOFFSETFROM:-0400
TZOFFSETTO:-0500
TZNAME:EST
DTSTART:20241103T060000
END:STANDARD
BEGIN:DAYLIGHT
TZOFFSETFROM:-0500
TZOFFSETTO:-0400
TZNAME:EDT
DTSTART:20250309T070000
END:DAYLIGHT
BEGIN:STANDARD
TZOFFSETFROM:-0400
TZOFFSETTO:-0500
TZNAME:EST
DTSTART:20251102T060000
END:STANDARD
BEGIN:DAYLIGHT
TZOFFSETFROM:-0500
TZOFFSETTO:-0400
TZNAME:EDT
DTSTART:20260308T070000
END:DAYLIGHT
BEGIN:STANDARD
TZOFFSETFROM:-0400
TZOFFSETTO:-0500
TZNAME:EST
DTSTART:20261101T060000
END:STANDARD
END:VTIMEZONE
BEGIN:VTIMEZONE
TZID:US/Eastern
BEGIN:DAYLIGHT
TZOFFSETFROM:-0500
TZOFFSETTO:-0400
TZNAME:EDT
DTSTART:20240310T070000
END:DAYLIGHT
BEGIN:STANDARD
TZOFFSETFROM:-0400
TZOFFSETTO:-0500
TZNAME:EST
DTSTART:20241103T060000
END:STANDARD
BEGIN:DAYLIGHT
TZOFFSETFROM:-0500
TZOFFSETTO:-0400
TZNAME:EDT
DTSTART:20250309T070000
END:DAYLIGHT
BEGIN:STANDARD
TZOFFSETFROM:-0400
TZOFFSETTO:-0500
TZNAME:EST
DTSTART:20251102T060000
END:STANDARD
BEGIN:DAYLIGHT
TZOFFSETFROM:-0500
TZOFFSETTO:-0400
TZNAME:EDT
DTSTART:20260308T070000
END:DAYLIGHT
BEGIN:STANDARD
TZOFFSETFROM:-0400
TZOFFSETTO:-0500
TZNAME:EST
DTSTART:20261101T060000
END:STANDARD
END:VTIMEZONE
BEGIN:VEVENT
DTSTART;TZID=America/New_York:20250321T090000
DTEND;TZID=America/New_York:20250321T100000
DTSTAMP:20260422T072917
CREATED:20250102T180105Z
LAST-MODIFIED:20250414T150629Z
UID:10002904-1742547600-1742551200@tbsneedham.org
SUMMARY:Pre-Shabbat Yoga
DESCRIPTION:Step into fall with strength\, balance and alignment through the practice of yoga. Join experienced yoga teacher Stephanie Javaheri for a weekly mindful yoga ‘work in’ to cultivate awareness physically and mentally. Feel better in your body and your mind. Slow physical movement\, breathwork and meditation blend together in this 1-hour class. \nDrop in at TBS for the in-person class\, or click here to join in via Zoom; no registration is necessary.
URL:https://tbsneedham.org/event/pre-shabbat-yoga-22/2025-03-21/
CATEGORIES:Adult Learning,Classes
END:VEVENT
BEGIN:VEVENT
DTSTART;TZID=America/New_York:20250321T181500
DTEND;TZID=America/New_York:20250321T194500
DTSTAMP:20260422T072917
CREATED:20250102T180530Z
LAST-MODIFIED:20250709T170642Z
UID:10003684-1742580900-1742586300@tbsneedham.org
SUMMARY:Erev Shabbat Service
DESCRIPTION:If you are a TBS member who would like to join us virtually\, please check your Shabbat Shalom email for the link.
URL:https://tbsneedham.org/event/erev-shabbat-service-26/2025-03-21/
CATEGORIES:Worship
END:VEVENT
BEGIN:VEVENT
DTSTART;TZID=US/Eastern:20250321T193000
DTEND;TZID=US/Eastern:20250321T203000
DTSTAMP:20260422T072917
CREATED:20241226T203416Z
LAST-MODIFIED:20250414T150548Z
UID:10001814-1742585400-1742589000@tbsneedham.org
SUMMARY:Community Dinner
DESCRIPTION:
URL:https://tbsneedham.org/event/community-dinner-3/
LOCATION:Carmen Hall
CATEGORIES:Events,Holidays
END:VEVENT
END:VCALENDAR