BEGIN:VCALENDAR
VERSION:2.0
PRODID:-//Temple Beth Shalom - ECPv6.15.17.1//NONSGML v1.0//EN
CALSCALE:GREGORIAN
METHOD:PUBLISH
X-WR-CALNAME:Temple Beth Shalom
X-ORIGINAL-URL:https://tbsneedham.org
X-WR-CALDESC:Events for Temple Beth Shalom
REFRESH-INTERVAL;VALUE=DURATION:PT1H
X-Robots-Tag:noindex
X-PUBLISHED-TTL:PT1H
BEGIN:VTIMEZONE
TZID:America/New_York
BEGIN:DAYLIGHT
TZOFFSETFROM:-0500
TZOFFSETTO:-0400
TZNAME:EDT
DTSTART:20240310T070000
END:DAYLIGHT
BEGIN:STANDARD
TZOFFSETFROM:-0400
TZOFFSETTO:-0500
TZNAME:EST
DTSTART:20241103T060000
END:STANDARD
BEGIN:DAYLIGHT
TZOFFSETFROM:-0500
TZOFFSETTO:-0400
TZNAME:EDT
DTSTART:20250309T070000
END:DAYLIGHT
BEGIN:STANDARD
TZOFFSETFROM:-0400
TZOFFSETTO:-0500
TZNAME:EST
DTSTART:20251102T060000
END:STANDARD
BEGIN:DAYLIGHT
TZOFFSETFROM:-0500
TZOFFSETTO:-0400
TZNAME:EDT
DTSTART:20260308T070000
END:DAYLIGHT
BEGIN:STANDARD
TZOFFSETFROM:-0400
TZOFFSETTO:-0500
TZNAME:EST
DTSTART:20261101T060000
END:STANDARD
END:VTIMEZONE
BEGIN:VTIMEZONE
TZID:US/Eastern
BEGIN:DAYLIGHT
TZOFFSETFROM:-0500
TZOFFSETTO:-0400
TZNAME:EDT
DTSTART:20240310T070000
END:DAYLIGHT
BEGIN:STANDARD
TZOFFSETFROM:-0400
TZOFFSETTO:-0500
TZNAME:EST
DTSTART:20241103T060000
END:STANDARD
BEGIN:DAYLIGHT
TZOFFSETFROM:-0500
TZOFFSETTO:-0400
TZNAME:EDT
DTSTART:20250309T070000
END:DAYLIGHT
BEGIN:STANDARD
TZOFFSETFROM:-0400
TZOFFSETTO:-0500
TZNAME:EST
DTSTART:20251102T060000
END:STANDARD
BEGIN:DAYLIGHT
TZOFFSETFROM:-0500
TZOFFSETTO:-0400
TZNAME:EDT
DTSTART:20260308T070000
END:DAYLIGHT
BEGIN:STANDARD
TZOFFSETFROM:-0400
TZOFFSETTO:-0500
TZNAME:EST
DTSTART:20261101T060000
END:STANDARD
END:VTIMEZONE
BEGIN:VEVENT
DTSTART;TZID=America/New_York:20250326T184500
DTEND;TZID=America/New_York:20250326T191500
DTSTAMP:20260422T090422
CREATED:20250102T162535Z
LAST-MODIFIED:20251201T153637Z
UID:10001873-1743014700-1743016500@tbsneedham.org
SUMMARY:Lay-Led Evening Minyan (online)
DESCRIPTION:Members of our community gather virtually for a warm and inclusive lay-led service.  These services take place even if there are fewer than ten participants\, last about 20-30 minutes\, and are a meaningful way to end your day. Join us on Zoom here.
URL:https://tbsneedham.org/event/lay-led-evening-minyan-online/2025-03-26/
CATEGORIES:Worship
END:VEVENT
BEGIN:VEVENT
DTSTART;TZID=US/Eastern:20250326T193000
DTEND;TZID=US/Eastern:20250326T203000
DTSTAMP:20260422T090422
CREATED:20250311T140047Z
LAST-MODIFIED:20250414T150548Z
UID:10005151-1743017400-1743021000@tbsneedham.org
SUMMARY:The Impact of a Phone-Based Childhood
DESCRIPTION:For parents with children of all ages! Join parent coach Maggie DiPasquale as she unpacks Jonathan Haidt’s #1 New York Times bestseller\, The Anxious Generation. With rates of teen anxiety\, depression\, and self-harm on the rise\, Maggie explores how “screen-based childhoods” are reshaping adolescent development. Using her lens as a wellness counselor\, she’ll connect key insights from Haidt’s book to the challenges she sees unfolding in her private practice and share practical strategies for parents to support their children’s emotional and mental well-being.\nRegister: t-b-s.me/phonebased\nMaggie DiPasquale is a teen mentor and parent coach dedicated to guiding t(w)eens and their parents through the challenges of growing up. With a background in Clinical Psychology and Education from Columbia University and 10+ years as a wellness counselor\, she provides personalized support with heart to help adolescents manage anxiety\, navigate friendships\, and build self-worth. Maggie’s work has been featured on Boston’s 103.3 Amp Radio\, Teen Vogue\, and Yoga Journal. Her mentorship offers the guidance and reassurance families need during the tricky teen years\, especially in the digital world.
URL:https://tbsneedham.org/event/the-impact-of-a-phone-based-childhood/
LOCATION:Beit Midrash
CATEGORIES:Events
ATTACH;FMTTYPE=image/png:https://tbsneedham.org/wp-content/uploads/2025/03/Maggie-DiPasquale-Headshot-e1741701637982.png
END:VEVENT
END:VCALENDAR