BEGIN:VCALENDAR
VERSION:2.0
PRODID:-//Temple Beth Shalom - ECPv6.15.17.1//NONSGML v1.0//EN
CALSCALE:GREGORIAN
METHOD:PUBLISH
X-WR-CALNAME:Temple Beth Shalom
X-ORIGINAL-URL:https://tbsneedham.org
X-WR-CALDESC:Events for Temple Beth Shalom
REFRESH-INTERVAL;VALUE=DURATION:PT1H
X-Robots-Tag:noindex
X-PUBLISHED-TTL:PT1H
BEGIN:VTIMEZONE
TZID:America/New_York
BEGIN:DAYLIGHT
TZOFFSETFROM:-0500
TZOFFSETTO:-0400
TZNAME:EDT
DTSTART:20240310T070000
END:DAYLIGHT
BEGIN:STANDARD
TZOFFSETFROM:-0400
TZOFFSETTO:-0500
TZNAME:EST
DTSTART:20241103T060000
END:STANDARD
BEGIN:DAYLIGHT
TZOFFSETFROM:-0500
TZOFFSETTO:-0400
TZNAME:EDT
DTSTART:20250309T070000
END:DAYLIGHT
BEGIN:STANDARD
TZOFFSETFROM:-0400
TZOFFSETTO:-0500
TZNAME:EST
DTSTART:20251102T060000
END:STANDARD
BEGIN:DAYLIGHT
TZOFFSETFROM:-0500
TZOFFSETTO:-0400
TZNAME:EDT
DTSTART:20260308T070000
END:DAYLIGHT
BEGIN:STANDARD
TZOFFSETFROM:-0400
TZOFFSETTO:-0500
TZNAME:EST
DTSTART:20261101T060000
END:STANDARD
END:VTIMEZONE
BEGIN:VEVENT
DTSTART;VALUE=DATE:20250328
DTEND;VALUE=DATE:20250331
DTSTAMP:20260422T085913
CREATED:20250106T200227Z
LAST-MODIFIED:20250414T150547Z
UID:10004945-1743120000-1743379199@tbsneedham.org
SUMMARY:TBS Family Camp
DESCRIPTION:Enjoy a weekend away with other TBS families\, including Shabbat\, outdoor fun\, family activities\, s’mores\, and singing around the campfire. We are headed to URJ Eisner Camp\, located about two hours away in Great Barrington\, MA. Our program begins with Shabbat dinner on Friday night and ends Sunday morning. Family Camp is designed for families with elementary-age children\, with older and younger siblings welcome. \nRegister here: t-b-s.me/familycamp
URL:https://tbsneedham.org/event/tbs-family-camp/
CATEGORIES:Families with School Age Children
END:VEVENT
BEGIN:VEVENT
DTSTART;TZID=America/New_York:20250329T083000
DTEND;TZID=America/New_York:20250329T090000
DTSTAMP:20260422T085913
CREATED:20250102T180658Z
LAST-MODIFIED:20250709T163958Z
UID:10003945-1743237000-1743238800@tbsneedham.org
SUMMARY:Lay-Led Shabbat Morning Service
DESCRIPTION:Join in virtually\, or join us in person in the Beit Midrash! Please refer to your Shabbat Shalom email for the Zoom information.
URL:https://tbsneedham.org/event/lay-led-shabbat-morning-service-27/2025-03-29/
CATEGORIES:Worship
END:VEVENT
BEGIN:VEVENT
DTSTART;TZID=America/New_York:20250329T091500
DTEND;TZID=America/New_York:20250329T101500
DTSTAMP:20260422T085913
CREATED:20250102T162833Z
LAST-MODIFIED:20250709T165122Z
UID:10004638-1743239700-1743243300@tbsneedham.org
SUMMARY:Torah Study
DESCRIPTION:No previous experience with Torah study is required…just an open mind and a desire to learn more!
URL:https://tbsneedham.org/event/torah-study-29/2025-03-29/
CATEGORIES:Worship
ATTACH;FMTTYPE=image/webp:https://tbsneedham.org/wp-content/uploads/2024/11/Morning-Minyan.webp
END:VEVENT
END:VCALENDAR