BEGIN:VCALENDAR
VERSION:2.0
PRODID:-//Temple Beth Shalom - ECPv6.15.17.1//NONSGML v1.0//EN
CALSCALE:GREGORIAN
METHOD:PUBLISH
X-WR-CALNAME:Temple Beth Shalom
X-ORIGINAL-URL:https://tbsneedham.org
X-WR-CALDESC:Events for Temple Beth Shalom
REFRESH-INTERVAL;VALUE=DURATION:PT1H
X-Robots-Tag:noindex
X-PUBLISHED-TTL:PT1H
BEGIN:VTIMEZONE
TZID:America/New_York
BEGIN:DAYLIGHT
TZOFFSETFROM:-0500
TZOFFSETTO:-0400
TZNAME:EDT
DTSTART:20240310T070000
END:DAYLIGHT
BEGIN:STANDARD
TZOFFSETFROM:-0400
TZOFFSETTO:-0500
TZNAME:EST
DTSTART:20241103T060000
END:STANDARD
BEGIN:DAYLIGHT
TZOFFSETFROM:-0500
TZOFFSETTO:-0400
TZNAME:EDT
DTSTART:20250309T070000
END:DAYLIGHT
BEGIN:STANDARD
TZOFFSETFROM:-0400
TZOFFSETTO:-0500
TZNAME:EST
DTSTART:20251102T060000
END:STANDARD
BEGIN:DAYLIGHT
TZOFFSETFROM:-0500
TZOFFSETTO:-0400
TZNAME:EDT
DTSTART:20260308T070000
END:DAYLIGHT
BEGIN:STANDARD
TZOFFSETFROM:-0400
TZOFFSETTO:-0500
TZNAME:EST
DTSTART:20261101T060000
END:STANDARD
END:VTIMEZONE
BEGIN:VTIMEZONE
TZID:US/Eastern
BEGIN:DAYLIGHT
TZOFFSETFROM:-0500
TZOFFSETTO:-0400
TZNAME:EDT
DTSTART:20240310T070000
END:DAYLIGHT
BEGIN:STANDARD
TZOFFSETFROM:-0400
TZOFFSETTO:-0500
TZNAME:EST
DTSTART:20241103T060000
END:STANDARD
BEGIN:DAYLIGHT
TZOFFSETFROM:-0500
TZOFFSETTO:-0400
TZNAME:EDT
DTSTART:20250309T070000
END:DAYLIGHT
BEGIN:STANDARD
TZOFFSETFROM:-0400
TZOFFSETTO:-0500
TZNAME:EST
DTSTART:20251102T060000
END:STANDARD
BEGIN:DAYLIGHT
TZOFFSETFROM:-0500
TZOFFSETTO:-0400
TZNAME:EDT
DTSTART:20260308T070000
END:DAYLIGHT
BEGIN:STANDARD
TZOFFSETFROM:-0400
TZOFFSETTO:-0500
TZNAME:EST
DTSTART:20261101T060000
END:STANDARD
END:VTIMEZONE
BEGIN:VEVENT
DTSTART;TZID=America/New_York:20251112T184500
DTEND;TZID=America/New_York:20251112T191500
DTSTAMP:20260423T191011
CREATED:20250102T162535Z
LAST-MODIFIED:20251201T153637Z
UID:10005430-1762973100-1762974900@tbsneedham.org
SUMMARY:Lay-Led Evening Minyan (online)
DESCRIPTION:Members of our community gather virtually for a warm and inclusive lay-led service.  These services take place even if there are fewer than ten participants\, last about 20-30 minutes\, and are a meaningful way to end your day. Join us on Zoom here.
URL:https://tbsneedham.org/event/lay-led-evening-minyan-online/2025-11-12/
CATEGORIES:Worship
END:VEVENT
BEGIN:VEVENT
DTSTART;TZID=US/Eastern:20251112T190000
DTEND;TZID=US/Eastern:20251112T210000
DTSTAMP:20260423T191011
CREATED:20251001T152516Z
LAST-MODIFIED:20251112T222535Z
UID:10006224-1762974000-1762981200@tbsneedham.org
SUMMARY:Learn to Play Mah Jongg
DESCRIPTION:Join Sisterhood for this three part series to learn to play Mah Jongg! While it’s best if you can make it to all three dates (because it takes a while to learn the game and practice)\, even if you can only make it to one or two\, still sign up. The first session will be the most important\, so please try to make it to at least that one. The sessions will be held: Wednesday\, November 5 from 7:00 – 9:00 PM Wednesday\, November 12 from 7:00 – 9:00 PM Wednesday\, November 19 from 7:00 – 9:00 PM
URL:https://tbsneedham.org/event/learn-to-play-mah-jongg-2-of-3/
LOCATION:Carmen Hall
CATEGORIES:Events,Sisterhood
END:VEVENT
BEGIN:VEVENT
DTSTART;TZID=US/Eastern:20251112T191500
DTEND;TZID=US/Eastern:20251112T204500
DTSTAMP:20260423T191011
CREATED:20250819T192954Z
LAST-MODIFIED:20251112T222535Z
UID:10006002-1762974900-1762980300@tbsneedham.org
SUMMARY:Garden Club: Starting with Mums
DESCRIPTION:Beth Shalom Garden Club presents “Starting with Mums”\, a floral program when four of our own talented club members will create unique fall floral arrangements\, using some of the same materials. All four club members start with the same bundle of flowers but end up with totally different arrangements. Watch with fascination how designers create floral arrangements before your own eyes. Everyone is invited. First time visitors are free. After that visit\, the fee is $10. Questions: please email gardenclub@tbsneedham.org.\nContact: Garden Club
URL:https://tbsneedham.org/event/garden-club-starting-with-mums/
LOCATION:Simon Hall
CATEGORIES:Events,Garden Club,Homepage Feature
ATTACH;FMTTYPE=image/jpeg:https://tbsneedham.org/wp-content/uploads/2025/08/Mums-scaled-e1761757555308.jpg
END:VEVENT
END:VCALENDAR