BEGIN:VCALENDAR
VERSION:2.0
PRODID:-//Temple Beth Shalom - ECPv6.15.17.1//NONSGML v1.0//EN
CALSCALE:GREGORIAN
METHOD:PUBLISH
X-WR-CALNAME:Temple Beth Shalom
X-ORIGINAL-URL:https://tbsneedham.org
X-WR-CALDESC:Events for Temple Beth Shalom
REFRESH-INTERVAL;VALUE=DURATION:PT1H
X-Robots-Tag:noindex
X-PUBLISHED-TTL:PT1H
BEGIN:VTIMEZONE
TZID:US/Eastern
BEGIN:DAYLIGHT
TZOFFSETFROM:-0500
TZOFFSETTO:-0400
TZNAME:EDT
DTSTART:20240310T070000
END:DAYLIGHT
BEGIN:STANDARD
TZOFFSETFROM:-0400
TZOFFSETTO:-0500
TZNAME:EST
DTSTART:20241103T060000
END:STANDARD
BEGIN:DAYLIGHT
TZOFFSETFROM:-0500
TZOFFSETTO:-0400
TZNAME:EDT
DTSTART:20250309T070000
END:DAYLIGHT
BEGIN:STANDARD
TZOFFSETFROM:-0400
TZOFFSETTO:-0500
TZNAME:EST
DTSTART:20251102T060000
END:STANDARD
BEGIN:DAYLIGHT
TZOFFSETFROM:-0500
TZOFFSETTO:-0400
TZNAME:EDT
DTSTART:20260308T070000
END:DAYLIGHT
BEGIN:STANDARD
TZOFFSETFROM:-0400
TZOFFSETTO:-0500
TZNAME:EST
DTSTART:20261101T060000
END:STANDARD
END:VTIMEZONE
BEGIN:VTIMEZONE
TZID:America/New_York
BEGIN:DAYLIGHT
TZOFFSETFROM:-0500
TZOFFSETTO:-0400
TZNAME:EDT
DTSTART:20240310T070000
END:DAYLIGHT
BEGIN:STANDARD
TZOFFSETFROM:-0400
TZOFFSETTO:-0500
TZNAME:EST
DTSTART:20241103T060000
END:STANDARD
BEGIN:DAYLIGHT
TZOFFSETFROM:-0500
TZOFFSETTO:-0400
TZNAME:EDT
DTSTART:20250309T070000
END:DAYLIGHT
BEGIN:STANDARD
TZOFFSETFROM:-0400
TZOFFSETTO:-0500
TZNAME:EST
DTSTART:20251102T060000
END:STANDARD
BEGIN:DAYLIGHT
TZOFFSETFROM:-0500
TZOFFSETTO:-0400
TZNAME:EDT
DTSTART:20260308T070000
END:DAYLIGHT
BEGIN:STANDARD
TZOFFSETFROM:-0400
TZOFFSETTO:-0500
TZNAME:EST
DTSTART:20261101T060000
END:STANDARD
END:VTIMEZONE
BEGIN:VEVENT
DTSTART;TZID=US/Eastern:20251114T091500
DTEND;TZID=US/Eastern:20251114T094500
DTSTAMP:20260423T190922
CREATED:20250902T174929Z
LAST-MODIFIED:20251113T181004Z
UID:10006125-1763111700-1763113500@tbsneedham.org
SUMMARY:Bag Lunches and Breakfast Items for Homeless Shelters
DESCRIPTION:Join TBS Social Action for our 6th year of donating bag lunches\, snacks and breakfast foods to guests in the Father Bill’s network of homeless shelters in Brockton! EVERY MONTH we commit to donating100 bag lunches\, snacks and breakfast foods\, providing immediate and measurable impact. This is a great project for individuals or families! We will collect donations between 9:15 and 9:45am on the Webster side of the TBS front parking lot. Drive right up and we will unload your bagged items from your car. We appreciate your on-time drop-off as we depart for Brockton delivery immediately following the collection. Can’t make it to the collection? No problem! Non-perishable donations may be dropped at a Needham address prior to the collection day. Details in the sign-up link. Thank you for helping to feed the stranger in our midst.\nPlease email us at socialaction@tbsneedham.org with any questions\, to arrange to make your non-perishable donation at a Needham address prior to the collection or to request to be added to the TBS Social Action mailing list.
URL:https://tbsneedham.org/event/bag-lunches-and-breakfast-items-for-homeless-shelters-15/
LOCATION:Parking Lot (Front)
CATEGORIES:Events,Social Action
END:VEVENT
BEGIN:VEVENT
DTSTART;TZID=US/Eastern:20251114T094500
DTEND;TZID=US/Eastern:20251114T110000
DTSTAMP:20260423T190922
CREATED:20250817T155656Z
LAST-MODIFIED:20251113T181004Z
UID:10005962-1763113500-1763118000@tbsneedham.org
SUMMARY:Grandparenting in Today's World
DESCRIPTION:Join us for a discussion with other TBS grandparents of young children facilitated by Margie Bogdanow\, LISCW\, about grandparenting in today’s world. Margie Bogdanow is an LICSW social worker\, coach\, and consultant based in New England. Her professional work focuses on impacting adults to make a positive difference in the lives of young people. She currently serves as the Senior Advisor to the BeWell Initiative at Jewish Federations of North America. In that role she consults with communities across the country to assist them in their mental health efforts. She is on the Parenting Through a Jewish Lens faculty at Hebrew College and was a co-creator of the Grandparenting Through a Jewish Lens and Parenting Teens Through a Jewish Lens curriculum. She currently serves as the Chair of the 18 doors Grandparent Advisory Council\, as well as being involved in numerous other Grandparent projects. She is the gramma to 7.
URL:https://tbsneedham.org/event/grandparenting-in-todays-world-2/
LOCATION:Beit Midrash
CATEGORIES:Events
END:VEVENT
BEGIN:VEVENT
DTSTART;TZID=US/Eastern:20251114T171500
DTEND;TZID=US/Eastern:20251114T193000
DTSTAMP:20260423T190922
CREATED:20251024T132408Z
LAST-MODIFIED:20251114T201314Z
UID:10006340-1763140500-1763148600@tbsneedham.org
SUMMARY:TBS Rashi Family Shabbat Dinner & Service!
DESCRIPTION:Dinner: 5:15 pm / Service: 6:15 pm \nTBS invites our Rashi families to join us for a festive Shabbat dinner\, which will be followed by a special musical Shabbat service featuring Rick Recht! During the service our Rashi families will also receive a special blessing. Please register by Tuesday\, November 11.
URL:https://tbsneedham.org/event/tbs-rashi-family-shabbat-dinner-service/
LOCATION:Carmen Hall
CATEGORIES:Events
END:VEVENT
BEGIN:VEVENT
DTSTART;TZID=America/New_York:20251114T181500
DTEND;TZID=America/New_York:20251114T194500
DTSTAMP:20260423T190922
CREATED:20251028T183209Z
LAST-MODIFIED:20251028T183210Z
UID:10005611-1763144100-1763149500@tbsneedham.org
SUMMARY:Erev Shabbat Service featuring Rick Recht
DESCRIPTION:Join us as internationally known Jewish rock musician Rick Recht returns to TBS for a super special Shabbat evening service!  Rick is one of the most influential and celebrated Jewish artists and leaders of our time. His innovations in Jewish music\, media\, and leadership have had a profound impact on Jewish life in the U.S. and around the world.  To listen to a sampling of Rick’s music\, click here. \nIf you are a TBS member who would like to join us virtually\, please check your Shabbat Shalom email for the link.
URL:https://tbsneedham.org/event/erev-shabbat-service-26-13/
CATEGORIES:Homepage Feature,Worship
ATTACH;FMTTYPE=image/jpeg:https://tbsneedham.org/wp-content/uploads/2025/01/RR-Road-flat-e1761676291652.jpg
END:VEVENT
END:VCALENDAR