BEGIN:VCALENDAR
VERSION:2.0
PRODID:-//Temple Beth Shalom - ECPv6.15.17.1//NONSGML v1.0//EN
CALSCALE:GREGORIAN
METHOD:PUBLISH
X-WR-CALNAME:Temple Beth Shalom
X-ORIGINAL-URL:https://tbsneedham.org
X-WR-CALDESC:Events for Temple Beth Shalom
REFRESH-INTERVAL;VALUE=DURATION:PT1H
X-Robots-Tag:noindex
X-PUBLISHED-TTL:PT1H
BEGIN:VTIMEZONE
TZID:US/Eastern
BEGIN:DAYLIGHT
TZOFFSETFROM:-0500
TZOFFSETTO:-0400
TZNAME:EDT
DTSTART:20240310T070000
END:DAYLIGHT
BEGIN:STANDARD
TZOFFSETFROM:-0400
TZOFFSETTO:-0500
TZNAME:EST
DTSTART:20241103T060000
END:STANDARD
BEGIN:DAYLIGHT
TZOFFSETFROM:-0500
TZOFFSETTO:-0400
TZNAME:EDT
DTSTART:20250309T070000
END:DAYLIGHT
BEGIN:STANDARD
TZOFFSETFROM:-0400
TZOFFSETTO:-0500
TZNAME:EST
DTSTART:20251102T060000
END:STANDARD
BEGIN:DAYLIGHT
TZOFFSETFROM:-0500
TZOFFSETTO:-0400
TZNAME:EDT
DTSTART:20260308T070000
END:DAYLIGHT
BEGIN:STANDARD
TZOFFSETFROM:-0400
TZOFFSETTO:-0500
TZNAME:EST
DTSTART:20261101T060000
END:STANDARD
BEGIN:DAYLIGHT
TZOFFSETFROM:-0500
TZOFFSETTO:-0400
TZNAME:EDT
DTSTART:20270314T070000
END:DAYLIGHT
BEGIN:STANDARD
TZOFFSETFROM:-0400
TZOFFSETTO:-0500
TZNAME:EST
DTSTART:20271107T060000
END:STANDARD
END:VTIMEZONE
BEGIN:VTIMEZONE
TZID:America/New_York
BEGIN:DAYLIGHT
TZOFFSETFROM:-0500
TZOFFSETTO:-0400
TZNAME:EDT
DTSTART:20240310T070000
END:DAYLIGHT
BEGIN:STANDARD
TZOFFSETFROM:-0400
TZOFFSETTO:-0500
TZNAME:EST
DTSTART:20241103T060000
END:STANDARD
BEGIN:DAYLIGHT
TZOFFSETFROM:-0500
TZOFFSETTO:-0400
TZNAME:EDT
DTSTART:20250309T070000
END:DAYLIGHT
BEGIN:STANDARD
TZOFFSETFROM:-0400
TZOFFSETTO:-0500
TZNAME:EST
DTSTART:20251102T060000
END:STANDARD
BEGIN:DAYLIGHT
TZOFFSETFROM:-0500
TZOFFSETTO:-0400
TZNAME:EDT
DTSTART:20260308T070000
END:DAYLIGHT
BEGIN:STANDARD
TZOFFSETFROM:-0400
TZOFFSETTO:-0500
TZNAME:EST
DTSTART:20261101T060000
END:STANDARD
END:VTIMEZONE
BEGIN:VEVENT
DTSTART;VALUE=DATE:20251224
DTEND;VALUE=DATE:20260103
DTSTAMP:20260423T202314
CREATED:20250817T155218Z
LAST-MODIFIED:20260102T211023Z
UID:10005131-1766534400-1767398399@tbsneedham.org
SUMMARY:Children's Center No School- Winter Break
DESCRIPTION:Contact: Ellen Dietrick
URL:https://tbsneedham.org/event/childrens-center-no-school-winter-break/
CATEGORIES:Children's Center,Closures
END:VEVENT
BEGIN:VEVENT
DTSTART;VALUE=DATE:20251229
DTEND;VALUE=DATE:20251230
DTSTAMP:20260423T202314
CREATED:20250304T183144Z
LAST-MODIFIED:20251229T214016Z
UID:10005084-1766966400-1767052799@tbsneedham.org
SUMMARY:No K-12 Learning Programs (December Break)
DESCRIPTION:
URL:https://tbsneedham.org/event/no-k-12-learning-programs-december-break-6/
CATEGORIES:Closures
END:VEVENT
BEGIN:VEVENT
DTSTART;TZID=America/New_York:20251229T070000
DTEND;TZID=America/New_York:20251229T073000
DTSTAMP:20260423T202314
CREATED:20250102T180302Z
LAST-MODIFIED:20250709T164130Z
UID:10005338-1766991600-1766993400@tbsneedham.org
SUMMARY:Lay-Led Morning Minyan
DESCRIPTION:Members of our community gather virtually for a warm and inclusive lay-led service.  These services take place even if there are fewer than ten participants\, last about 20-30 minutes\, and are a meaningful way to start your day. \nPlease join us in person; we are no longer meeting virtually.
URL:https://tbsneedham.org/event/lay-led-morning-minyan-53/2025-12-29/
CATEGORIES:Worship
END:VEVENT
BEGIN:VEVENT
DTSTART;TZID=America/New_York:20251229T190000
DTEND;TZID=America/New_York:20251229T203000
DTSTAMP:20260423T202314
CREATED:20250102T201216Z
LAST-MODIFIED:20250902T181046Z
UID:10006171-1767034800-1767040200@tbsneedham.org
SUMMARY:Israeli Dance
DESCRIPTION:
URL:https://tbsneedham.org/event/israeli-dance-22/2025-12-29/
CATEGORIES:Classes
END:VEVENT
END:VCALENDAR