BEGIN:VCALENDAR
VERSION:2.0
PRODID:-//Temple Beth Shalom - ECPv6.15.17.1//NONSGML v1.0//EN
CALSCALE:GREGORIAN
METHOD:PUBLISH
X-ORIGINAL-URL:https://tbsneedham.org
X-WR-CALDESC:Events for Temple Beth Shalom
REFRESH-INTERVAL;VALUE=DURATION:PT1H
X-Robots-Tag:noindex
X-PUBLISHED-TTL:PT1H
BEGIN:VTIMEZONE
TZID:US/Eastern
BEGIN:DAYLIGHT
TZOFFSETFROM:-0500
TZOFFSETTO:-0400
TZNAME:EDT
DTSTART:20240310T070000
END:DAYLIGHT
BEGIN:STANDARD
TZOFFSETFROM:-0400
TZOFFSETTO:-0500
TZNAME:EST
DTSTART:20241103T060000
END:STANDARD
BEGIN:DAYLIGHT
TZOFFSETFROM:-0500
TZOFFSETTO:-0400
TZNAME:EDT
DTSTART:20250309T070000
END:DAYLIGHT
BEGIN:STANDARD
TZOFFSETFROM:-0400
TZOFFSETTO:-0500
TZNAME:EST
DTSTART:20251102T060000
END:STANDARD
BEGIN:DAYLIGHT
TZOFFSETFROM:-0500
TZOFFSETTO:-0400
TZNAME:EDT
DTSTART:20260308T070000
END:DAYLIGHT
BEGIN:STANDARD
TZOFFSETFROM:-0400
TZOFFSETTO:-0500
TZNAME:EST
DTSTART:20261101T060000
END:STANDARD
END:VTIMEZONE
BEGIN:VEVENT
DTSTART;VALUE=DATE:20250214
DTEND;VALUE=DATE:20250215
DTSTAMP:20260421T134752
CREATED:20250214T191453Z
LAST-MODIFIED:20250414T150603Z
UID:10005038-1739491200-1739577599@tbsneedham.org
SUMMARY:No K-12 (February Break)
DESCRIPTION:
URL:https://tbsneedham.org/event/no-k-12-february-break/
CATEGORIES:Closures
END:VEVENT
BEGIN:VEVENT
DTSTART;VALUE=DATE:20250216
DTEND;VALUE=DATE:20250217
DTSTAMP:20260421T134752
CREATED:20250107T220321Z
LAST-MODIFIED:20250414T150603Z
UID:10004960-1739664000-1739750399@tbsneedham.org
SUMMARY:No K-12 Learning Programs - February Break
DESCRIPTION:
URL:https://tbsneedham.org/event/no-k-12-learning-programs-february-break-7/
CATEGORIES:Closures
END:VEVENT
BEGIN:VEVENT
DTSTART;VALUE=DATE:20250217
DTEND;VALUE=DATE:20250218
DTSTAMP:20260421T134752
CREATED:20250107T220230Z
LAST-MODIFIED:20250414T150603Z
UID:10004963-1739750400-1739836799@tbsneedham.org
SUMMARY:Temple Office Closed - Presidents' Day
DESCRIPTION:
URL:https://tbsneedham.org/event/temple-office-closed-presidents-day/
CATEGORIES:Closures
END:VEVENT
BEGIN:VEVENT
DTSTART;VALUE=DATE:20250217
DTEND;VALUE=DATE:20250218
DTSTAMP:20260421T134752
CREATED:20250107T220240Z
LAST-MODIFIED:20250414T150603Z
UID:10004962-1739750400-1739836799@tbsneedham.org
SUMMARY:No K-12 Learning Programs - February Break
DESCRIPTION:
URL:https://tbsneedham.org/event/no-k-12-learning-programs-february-break-6/
CATEGORIES:Closures
END:VEVENT
BEGIN:VEVENT
DTSTART;VALUE=DATE:20250217
DTEND;VALUE=DATE:20250218
DTSTAMP:20260421T134752
CREATED:20250107T220247Z
LAST-MODIFIED:20250414T150603Z
UID:10004961-1739750400-1739836799@tbsneedham.org
SUMMARY:Children's Center No School - Presidents' Day
DESCRIPTION:
URL:https://tbsneedham.org/event/childrens-center-no-school-presidents-day/
CATEGORIES:Closures
END:VEVENT
BEGIN:VEVENT
DTSTART;VALUE=DATE:20250218
DTEND;VALUE=DATE:20250219
DTSTAMP:20260421T134752
CREATED:20250107T220216Z
LAST-MODIFIED:20250414T150603Z
UID:10004965-1739836800-1739923199@tbsneedham.org
SUMMARY:No K-12 Learning Programs - February Break
DESCRIPTION:
URL:https://tbsneedham.org/event/no-k-12-learning-programs-february-break-5/
CATEGORIES:Closures
END:VEVENT
BEGIN:VEVENT
DTSTART;VALUE=DATE:20250218
DTEND;VALUE=DATE:20250219
DTSTAMP:20260421T134752
CREATED:20250107T220223Z
LAST-MODIFIED:20250414T150603Z
UID:10004964-1739836800-1739923199@tbsneedham.org
SUMMARY:Children's Center No School for School Year Students (Regular Day for Year Round Students) - February Break
DESCRIPTION:
URL:https://tbsneedham.org/event/childrens-center-no-school-for-school-year-students-regular-day-for-year-round-students-february-break-4/
CATEGORIES:Closures
END:VEVENT
BEGIN:VEVENT
DTSTART;VALUE=DATE:20250219
DTEND;VALUE=DATE:20250220
DTSTAMP:20260421T134752
CREATED:20250107T220142Z
LAST-MODIFIED:20250414T150603Z
UID:10004971-1739923200-1740009599@tbsneedham.org
SUMMARY:Children's Center No School for School Year Students (Regular Day for Year Round Students) - February Break
DESCRIPTION:
URL:https://tbsneedham.org/event/childrens-center-no-school-for-school-year-students-regular-day-for-year-round-students-february-break-2/
CATEGORIES:Closures
END:VEVENT
BEGIN:VEVENT
DTSTART;VALUE=DATE:20250219
DTEND;VALUE=DATE:20250220
DTSTAMP:20260421T134752
CREATED:20250107T220153Z
LAST-MODIFIED:20250414T150603Z
UID:10004970-1739923200-1740009599@tbsneedham.org
SUMMARY:No K-12 Learning Programs - February Break
DESCRIPTION:
URL:https://tbsneedham.org/event/no-k-12-learning-programs-february-break-3/
CATEGORIES:Closures
END:VEVENT
BEGIN:VEVENT
DTSTART;VALUE=DATE:20250220
DTEND;VALUE=DATE:20250221
DTSTAMP:20260421T134752
CREATED:20250107T220126Z
LAST-MODIFIED:20250414T150603Z
UID:10004969-1740009600-1740095999@tbsneedham.org
SUMMARY:Children's Center No School for School Year Students (Regular Day for Year Round Students) - February Break
DESCRIPTION:
URL:https://tbsneedham.org/event/childrens-center-no-school-for-school-year-students-regular-day-for-year-round-students-february-break/
CATEGORIES:Closures
END:VEVENT
BEGIN:VEVENT
DTSTART;VALUE=DATE:20250220
DTEND;VALUE=DATE:20250221
DTSTAMP:20260421T134752
CREATED:20250107T220135Z
LAST-MODIFIED:20250414T150603Z
UID:10004968-1740009600-1740095999@tbsneedham.org
SUMMARY:No K-12 Learning Programs - February Break
DESCRIPTION:
URL:https://tbsneedham.org/event/no-k-12-learning-programs-february-break-2/
CATEGORIES:Closures
END:VEVENT
BEGIN:VEVENT
DTSTART;VALUE=DATE:20250221
DTEND;VALUE=DATE:20250222
DTSTAMP:20260421T134752
CREATED:20250107T220159Z
LAST-MODIFIED:20250414T150603Z
UID:10004967-1740096000-1740182399@tbsneedham.org
SUMMARY:Children's Center No School for School Year Students (Regular Day for Year Round Students) - February Break
DESCRIPTION:
URL:https://tbsneedham.org/event/childrens-center-no-school-for-school-year-students-regular-day-for-year-round-students-february-break-3/
CATEGORIES:Closures
END:VEVENT
BEGIN:VEVENT
DTSTART;VALUE=DATE:20250221
DTEND;VALUE=DATE:20250222
DTSTAMP:20260421T134752
CREATED:20250107T220207Z
LAST-MODIFIED:20250414T150603Z
UID:10004966-1740096000-1740182399@tbsneedham.org
SUMMARY:No K-12 Learning Programs - February Break
DESCRIPTION:
URL:https://tbsneedham.org/event/no-k-12-learning-programs-february-break-4/
CATEGORIES:Closures
END:VEVENT
BEGIN:VEVENT
DTSTART;VALUE=DATE:20250223
DTEND;VALUE=DATE:20250224
DTSTAMP:20260421T134752
CREATED:20250107T220120Z
LAST-MODIFIED:20250414T150603Z
UID:10004972-1740268800-1740355199@tbsneedham.org
SUMMARY:No K-12 Learning Programs - February Break
DESCRIPTION:
URL:https://tbsneedham.org/event/no-k-12-learning-programs-february-break/
CATEGORIES:Closures
END:VEVENT
END:VCALENDAR