BEGIN:VCALENDAR
VERSION:2.0
PRODID:-//Temple Beth Shalom - ECPv6.15.17.1//NONSGML v1.0//EN
CALSCALE:GREGORIAN
METHOD:PUBLISH
X-ORIGINAL-URL:https://tbsneedham.org
X-WR-CALDESC:Events for Temple Beth Shalom
REFRESH-INTERVAL;VALUE=DURATION:PT1H
X-Robots-Tag:noindex
X-PUBLISHED-TTL:PT1H
BEGIN:VTIMEZONE
TZID:US/Eastern
BEGIN:DAYLIGHT
TZOFFSETFROM:-0500
TZOFFSETTO:-0400
TZNAME:EDT
DTSTART:20250309T070000
END:DAYLIGHT
BEGIN:STANDARD
TZOFFSETFROM:-0400
TZOFFSETTO:-0500
TZNAME:EST
DTSTART:20251102T060000
END:STANDARD
BEGIN:DAYLIGHT
TZOFFSETFROM:-0500
TZOFFSETTO:-0400
TZNAME:EDT
DTSTART:20260308T070000
END:DAYLIGHT
BEGIN:STANDARD
TZOFFSETFROM:-0400
TZOFFSETTO:-0500
TZNAME:EST
DTSTART:20261101T060000
END:STANDARD
BEGIN:DAYLIGHT
TZOFFSETFROM:-0500
TZOFFSETTO:-0400
TZNAME:EDT
DTSTART:20270314T070000
END:DAYLIGHT
BEGIN:STANDARD
TZOFFSETFROM:-0400
TZOFFSETTO:-0500
TZNAME:EST
DTSTART:20271107T060000
END:STANDARD
END:VTIMEZONE
BEGIN:VEVENT
DTSTART;TZID=US/Eastern:20260107T120000
DTEND;TZID=US/Eastern:20260107T133000
DTSTAMP:20260421T232619
CREATED:20251223T145358Z
LAST-MODIFIED:20260106T215519Z
UID:10006399-1767787200-1767792600@tbsneedham.org
SUMMARY:ConNEXTions+ Lunch & Learn Special Edition-Israelis and Palestinians Post-Gaza War: Essential Israeli Efforts to Build a Jewish and Democratic State
DESCRIPTION:In the aftermath of the war in Gaza\, Rabbi Zilberman Soloway is on the ‘front lines’ of working to build an Israel envisioned by Israel’s Declaration of Independence – a Jewish state that fully honors the diversity of the population of Israel. Join us for an informative presentation and conversation about how Israelis are mobilizing in this essential work and how we may partner with them!
URL:https://tbsneedham.org/event/israelis-and-palestinians-post-gaza-war-essential-israeli-efforts-to-build-a-jewish-and-democratic-state/
LOCATION:Carmen Hall
CATEGORIES:ConNEXTions+,Events
END:VEVENT
BEGIN:VEVENT
DTSTART;TZID=US/Eastern:20260111T130000
DTEND;TZID=US/Eastern:20260111T150000
DTSTAMP:20260421T232619
CREATED:20251211T192439Z
LAST-MODIFIED:20260110T214020Z
UID:10006389-1768136400-1768143600@tbsneedham.org
SUMMARY:ConNEXTions+ Matinee Movie
DESCRIPTION:Join ConNEXTions+ for a Sunday matinee showing of the 2015 comedy film Dough. We’ll have some of your favorite movie snacks and a classic candy selection to enjoy. Start the new year off right as we gather at TBS with good friends have a great laugh together.
URL:https://tbsneedham.org/event/connextions-matinee-movie/
LOCATION:Beit Midrash
CATEGORIES:ConNEXTions+,Events
END:VEVENT
BEGIN:VEVENT
DTSTART;TZID=US/Eastern:20260120T100000
DTEND;TZID=US/Eastern:20260120T120000
DTSTAMP:20260421T232619
CREATED:20250903T175917Z
LAST-MODIFIED:20260112T214026Z
UID:10005951-1768903200-1768910400@tbsneedham.org
SUMMARY:ConNEXTions+ Book Club
DESCRIPTION:
URL:https://tbsneedham.org/event/connextions-book-club-14/
LOCATION:Chesed Room
CATEGORIES:ConNEXTions+,Events
END:VEVENT
BEGIN:VEVENT
DTSTART;TZID=US/Eastern:20260126T120000
DTEND;TZID=US/Eastern:20260126T133000
DTSTAMP:20260421T232619
CREATED:20250903T175853Z
LAST-MODIFIED:20260125T224041Z
UID:10006205-1769428800-1769434200@tbsneedham.org
SUMMARY:Canceled: ConNEXTions+ Lunch & Learn
DESCRIPTION:Due to the snow\, this program has been canceled. Please contact Connextionsplus@tbsneedham.org with any questions.
URL:https://tbsneedham.org/event/connextions-lunch-learn-6/
LOCATION:Conference Room (front)
CATEGORIES:ConNEXTions+,Events
END:VEVENT
END:VCALENDAR