BEGIN:VCALENDAR
VERSION:2.0
PRODID:-//Temple Beth Shalom - ECPv6.15.17.1//NONSGML v1.0//EN
CALSCALE:GREGORIAN
METHOD:PUBLISH
X-ORIGINAL-URL:https://tbsneedham.org
X-WR-CALDESC:Events for Temple Beth Shalom
REFRESH-INTERVAL;VALUE=DURATION:PT1H
X-Robots-Tag:noindex
X-PUBLISHED-TTL:PT1H
BEGIN:VTIMEZONE
TZID:US/Eastern
BEGIN:DAYLIGHT
TZOFFSETFROM:-0500
TZOFFSETTO:-0400
TZNAME:EDT
DTSTART:20250309T070000
END:DAYLIGHT
BEGIN:STANDARD
TZOFFSETFROM:-0400
TZOFFSETTO:-0500
TZNAME:EST
DTSTART:20251102T060000
END:STANDARD
BEGIN:DAYLIGHT
TZOFFSETFROM:-0500
TZOFFSETTO:-0400
TZNAME:EDT
DTSTART:20260308T070000
END:DAYLIGHT
BEGIN:STANDARD
TZOFFSETFROM:-0400
TZOFFSETTO:-0500
TZNAME:EST
DTSTART:20261101T060000
END:STANDARD
BEGIN:DAYLIGHT
TZOFFSETFROM:-0500
TZOFFSETTO:-0400
TZNAME:EDT
DTSTART:20270314T070000
END:DAYLIGHT
BEGIN:STANDARD
TZOFFSETFROM:-0400
TZOFFSETTO:-0500
TZNAME:EST
DTSTART:20271107T060000
END:STANDARD
END:VTIMEZONE
BEGIN:VEVENT
DTSTART;TZID=US/Eastern:20260217T100000
DTEND;TZID=US/Eastern:20260217T120000
DTSTAMP:20260421T232627
CREATED:20250903T175826Z
LAST-MODIFIED:20260216T214023Z
UID:10005952-1771322400-1771329600@tbsneedham.org
SUMMARY:ConNEXTions+ Book Club
DESCRIPTION:
URL:https://tbsneedham.org/event/connextions-book-club-13/
LOCATION:Chesed Room
CATEGORIES:ConNEXTions+,Events
END:VEVENT
BEGIN:VEVENT
DTSTART;TZID=US/Eastern:20260223T120000
DTEND;TZID=US/Eastern:20260223T133000
DTSTAMP:20260421T232627
CREATED:20250903T175807Z
LAST-MODIFIED:20260223T143206Z
UID:10006206-1771848000-1771853400@tbsneedham.org
SUMMARY:Canceled due to snow: ConNEXTions+ Lunch & Learn
DESCRIPTION:Please check your email for information about rescheduling.
URL:https://tbsneedham.org/event/connextions-lunch-learn-5/
LOCATION:Conference Room (front)
CATEGORIES:ConNEXTions+,Events
END:VEVENT
END:VCALENDAR