BEGIN:VCALENDAR
VERSION:2.0
PRODID:-//Temple Beth Shalom - ECPv6.15.17.1//NONSGML v1.0//EN
CALSCALE:GREGORIAN
METHOD:PUBLISH
X-ORIGINAL-URL:https://tbsneedham.org
X-WR-CALDESC:Events for Temple Beth Shalom
REFRESH-INTERVAL;VALUE=DURATION:PT1H
X-Robots-Tag:noindex
X-PUBLISHED-TTL:PT1H
BEGIN:VTIMEZONE
TZID:US/Eastern
BEGIN:DAYLIGHT
TZOFFSETFROM:-0500
TZOFFSETTO:-0400
TZNAME:EDT
DTSTART:20250309T070000
END:DAYLIGHT
BEGIN:STANDARD
TZOFFSETFROM:-0400
TZOFFSETTO:-0500
TZNAME:EST
DTSTART:20251102T060000
END:STANDARD
BEGIN:DAYLIGHT
TZOFFSETFROM:-0500
TZOFFSETTO:-0400
TZNAME:EDT
DTSTART:20260308T070000
END:DAYLIGHT
BEGIN:STANDARD
TZOFFSETFROM:-0400
TZOFFSETTO:-0500
TZNAME:EST
DTSTART:20261101T060000
END:STANDARD
BEGIN:DAYLIGHT
TZOFFSETFROM:-0500
TZOFFSETTO:-0400
TZNAME:EDT
DTSTART:20270314T070000
END:DAYLIGHT
BEGIN:STANDARD
TZOFFSETFROM:-0400
TZOFFSETTO:-0500
TZNAME:EST
DTSTART:20271107T060000
END:STANDARD
END:VTIMEZONE
BEGIN:VEVENT
DTSTART;TZID=US/Eastern:20260107T120000
DTEND;TZID=US/Eastern:20260107T133000
DTSTAMP:20260424T122355
CREATED:20251223T145358Z
LAST-MODIFIED:20260106T215519Z
UID:10006399-1767787200-1767792600@tbsneedham.org
SUMMARY:ConNEXTions+ Lunch & Learn Special Edition-Israelis and Palestinians Post-Gaza War: Essential Israeli Efforts to Build a Jewish and Democratic State
DESCRIPTION:In the aftermath of the war in Gaza\, Rabbi Zilberman Soloway is on the ‘front lines’ of working to build an Israel envisioned by Israel’s Declaration of Independence – a Jewish state that fully honors the diversity of the population of Israel. Join us for an informative presentation and conversation about how Israelis are mobilizing in this essential work and how we may partner with them!
URL:https://tbsneedham.org/event/israelis-and-palestinians-post-gaza-war-essential-israeli-efforts-to-build-a-jewish-and-democratic-state/
LOCATION:Carmen Hall
CATEGORIES:ConNEXTions+,Events
END:VEVENT
END:VCALENDAR