BEGIN:VCALENDAR
VERSION:2.0
PRODID:-//Temple Beth Shalom - ECPv6.15.17.1//NONSGML v1.0//EN
CALSCALE:GREGORIAN
METHOD:PUBLISH
X-WR-CALNAME:Temple Beth Shalom
X-ORIGINAL-URL:https://tbsneedham.org
X-WR-CALDESC:Events for Temple Beth Shalom
REFRESH-INTERVAL;VALUE=DURATION:PT1H
X-Robots-Tag:noindex
X-PUBLISHED-TTL:PT1H
BEGIN:VTIMEZONE
TZID:US/Eastern
BEGIN:DAYLIGHT
TZOFFSETFROM:-0500
TZOFFSETTO:-0400
TZNAME:EDT
DTSTART:20240310T070000
END:DAYLIGHT
BEGIN:STANDARD
TZOFFSETFROM:-0400
TZOFFSETTO:-0500
TZNAME:EST
DTSTART:20241103T060000
END:STANDARD
BEGIN:DAYLIGHT
TZOFFSETFROM:-0500
TZOFFSETTO:-0400
TZNAME:EDT
DTSTART:20250309T070000
END:DAYLIGHT
BEGIN:STANDARD
TZOFFSETFROM:-0400
TZOFFSETTO:-0500
TZNAME:EST
DTSTART:20251102T060000
END:STANDARD
BEGIN:DAYLIGHT
TZOFFSETFROM:-0500
TZOFFSETTO:-0400
TZNAME:EDT
DTSTART:20260308T070000
END:DAYLIGHT
BEGIN:STANDARD
TZOFFSETFROM:-0400
TZOFFSETTO:-0500
TZNAME:EST
DTSTART:20261101T060000
END:STANDARD
END:VTIMEZONE
BEGIN:VEVENT
DTSTART;TZID=US/Eastern:20251118T100000
DTEND;TZID=US/Eastern:20251118T120000
DTSTAMP:20260421T205649
CREATED:20250903T180036Z
LAST-MODIFIED:20251117T212518Z
UID:10005949-1763460000-1763467200@tbsneedham.org
SUMMARY:ConNEXTions+ Book Club
DESCRIPTION:
URL:https://tbsneedham.org/event/connextions-book-club-16/
LOCATION:Chesed Room
CATEGORIES:ConNEXTions+,Events
END:VEVENT
BEGIN:VEVENT
DTSTART;TZID=US/Eastern:20251117T120000
DTEND;TZID=US/Eastern:20251117T133000
DTSTAMP:20260421T205649
CREATED:20250903T180103Z
LAST-MODIFIED:20251116T212518Z
UID:10006203-1763380800-1763386200@tbsneedham.org
SUMMARY:ConNEXTions+ Lunch & Learn
DESCRIPTION:Join us for the second year of the ConNEXTions+ Lunch & Learn series\, this year featuring a series of fascinating discussions led by our TBS House Scholars. In November\, Rabbi Bob Orkand will be our featured speaker. Come for delicious food\, camaraderie\, and a little learning along the way. Questions? Contact: Leah Goldstein.
URL:https://tbsneedham.org/event/connextions-lunch-learn-8/
LOCATION:Conference Room (front)
CATEGORIES:ConNEXTions+,Events
END:VEVENT
BEGIN:VEVENT
DTSTART;TZID=US/Eastern:20251109T173000
DTEND;TZID=US/Eastern:20251109T200000
DTSTAMP:20260421T205649
CREATED:20250723T151446Z
LAST-MODIFIED:20251109T214018Z
UID:10005860-1762709400-1762718400@tbsneedham.org
SUMMARY:Supporting Older Adults in Aging with Dignity
DESCRIPTION:ConNEXTions\, ConNEXTions+\, and Chesed Present: Supporting Older Adults in Aging with Dignity\nSunday\, November 9\, 5:30-8pm\, TBS\nAging brings beauty\, wisdom\, and resilience – but it can often bring challenges like loss\, loneliness\, illness and uncertainty. For older adults and the people who care for them\, navigating these challenges can feel overwhelming.\nJoin leaders from Jewish Family & Children’s Service of Greater Boston for an insightful discussion on how to support older adults and their families through the emotional and practical complexities of aging. Topics will include:\nEnsuring home safety\nCoordinating medical care and supportive services\nCoping with grief and loss\nNavigating challenging family dynamics. \nBring your questions and join us for a conversation that’s informative\, compassionate\, and empowering.\nA light dinner will be served at 5:30-6pm\, program starting at 6pm. More details to come!
URL:https://tbsneedham.org/event/supporting-older-adults-in-aging-with-dignity/
LOCATION:Beit Midrash
CATEGORIES:ConNEXTions,ConNEXTions+,Events
END:VEVENT
BEGIN:VEVENT
DTSTART;TZID=US/Eastern:20251021T100000
DTEND;TZID=US/Eastern:20251021T120000
DTSTAMP:20260421T205649
CREATED:20250902T191229Z
LAST-MODIFIED:20251020T212609Z
UID:10005948-1761040800-1761048000@tbsneedham.org
SUMMARY:ConNEXTions+ Book Club
DESCRIPTION:
URL:https://tbsneedham.org/event/connextions-book-club-9/
LOCATION:Chesed Room
CATEGORIES:ConNEXTions+,Events
END:VEVENT
BEGIN:VEVENT
DTSTART;TZID=US/Eastern:20251020T120000
DTEND;TZID=US/Eastern:20251020T133000
DTSTAMP:20260421T205649
CREATED:20250903T133922Z
LAST-MODIFIED:20251019T212516Z
UID:10006202-1760961600-1760967000@tbsneedham.org
SUMMARY:ConNEXTions+ Lunch & Learn
DESCRIPTION:Join us as we begin the second year of our ConNEXTions+ Monthly Lunch & Learns. This year we will be featuring a series of fascinating discussions led by our TBS House Scholars. Come for delicious food\, camaraderie\, and a little learning along the way. $10/session.
URL:https://tbsneedham.org/event/connextions-lunch-learn/
LOCATION:Conference Room (front)
CATEGORIES:ConNEXTions+,Events
END:VEVENT
BEGIN:VEVENT
DTSTART;TZID=US/Eastern:20250916T100000
DTEND;TZID=US/Eastern:20250916T120000
DTSTAMP:20260421T205649
CREATED:20250711T144450Z
LAST-MODIFIED:20250915T214018Z
UID:10005859-1758016800-1758024000@tbsneedham.org
SUMMARY:ConNEXTions+ Book Club
DESCRIPTION:“My Father’s Paradise: A Son’s Search for His Family’s Past” by Ariel Sabar.
URL:https://tbsneedham.org/event/connextions-book-club-7/
LOCATION:Chesed Room
CATEGORIES:ConNEXTions+,Events
END:VEVENT
BEGIN:VEVENT
DTSTART;TZID=US/Eastern:20250914T140000
DTEND;TZID=US/Eastern:20250914T160000
DTSTAMP:20260421T205649
CREATED:20250723T134920Z
LAST-MODIFIED:20250913T211029Z
UID:10005233-1757858400-1757865600@tbsneedham.org
SUMMARY:An Afternoon of Jazz with Elliot Steger & Friends
DESCRIPTION:Join us for an afternoon of jazz featuring music by Jewish composers\, performed by Elliot Steger in concert with Jon Hazilla on drums and David Landoni on bass. We will feature Jewish composers such as Billy Joel and Rodgers & Hammerstein as well as original compositions. Elliot’s compositions emphasize a strong melody line appreciated by even those unfamiliar with jazz. Light refreshments will be served. Cost: $20. Contact Cantor DJ with any questions. Cosponsored by ConNEXTions+. \nElliot Steger is a jazz pianist and composer who has produced 5 CD’s of original music. He was the featured artist on radio station WICN’s Jazz New England program and was a finalist for best jazz instrumental song of the year. He began classical lessons at age 4 and studied jazz with a professor from the Berklee College of Music for 20 years. His music can be heard on Spotify\, Amazon Music and YouTube. He has played at many venues in the Boston area and has donated all proceeds from CD sales and performances to the Alzheimer’s Association\, the American Cancer Society and the Multiple Sclerosis Society.\nHe is joined by Jon Hazilla on drums\, a professor at the Berklee College of Music\, a graduate of the New England Conservatory of Music\, and performer at numerous International Jazz festivals. David Landoni on acoustic bass is a music professor at UMass Boston and has toured internationally including performing with the Artie Shaw Orchestra. \nRegister:
URL:https://tbsneedham.org/event/an-afternoon-of-jazz-with-elliot-steger-friends/
LOCATION:Carmen Hall
CATEGORIES:ConNEXTions+,Events,Homepage Feature
ATTACH;FMTTYPE=image/jpeg:https://tbsneedham.org/wp-content/uploads/2025/07/Page-20.51-FKA-Dr.-Steger-performing-photo-scaled-e1755092567796.jpg
END:VEVENT
BEGIN:VEVENT
DTSTART;TZID=US/Eastern:20250618T100000
DTEND;TZID=US/Eastern:20250618T120000
DTSTAMP:20260421T205649
CREATED:20250102T214133Z
LAST-MODIFIED:20250617T231017Z
UID:10004605-1750240800-1750248000@tbsneedham.org
SUMMARY:ConNEXTions+ Book Club
DESCRIPTION:
URL:https://tbsneedham.org/event/connextions-book-club-5/
LOCATION:Chesed Room
CATEGORIES:ConNEXTions+,Events
END:VEVENT
BEGIN:VEVENT
DTSTART;TZID=US/Eastern:20250521T100000
DTEND;TZID=US/Eastern:20250521T120000
DTSTAMP:20260421T205649
CREATED:20241226T203640Z
LAST-MODIFIED:20250520T212538Z
UID:10001839-1747821600-1747828800@tbsneedham.org
SUMMARY:ConNEXTions+ Book Club
DESCRIPTION:Join ConNEXTions+ for our May meeting. We will be discussing Mrs. Everything by Jennifer Weiner. The selection for our June 18th meeting is One Day in October: Forty Heroes. Forty Stories by Yair Agmon. Questions\, or have a suggestion for a book? Contact ConNEXTions+.
URL:https://tbsneedham.org/event/connextions-book-club-4/
LOCATION:Chesed Room
CATEGORIES:ConNEXTions+,Events
END:VEVENT
BEGIN:VEVENT
DTSTART;TZID=US/Eastern:20250519T120000
DTEND;TZID=US/Eastern:20250519T133000
DTSTAMP:20260421T205649
CREATED:20241226T203628Z
LAST-MODIFIED:20250518T211017Z
UID:10001837-1747656000-1747661400@tbsneedham.org
SUMMARY:Lunch & Learn: Agricultural Roots of the Jewish Calendar
DESCRIPTION:Noah Weinberg\, Jewish Farm Educator at Gann Academy\, will guide a discussion on the Jewish values of farming. \nThe Jewish calendar is not random! The Jewish calendar evolved in dialogue with our farming ancestors’ experience of the natural world. Join us to map out the Jewish calendar in concentric circles\, connecting and aligning the seasons\, harvests\, holidays\, directions\, times of day\, and lifecycle moments\, revealing new meaning in the cycles of Jewish time!\n\nAll are welcome. \nRegister for this and other sessions at t-b-s.me/lunchandlearn.
URL:https://tbsneedham.org/event/lunch-learn-5/
LOCATION:Beit Midrash
CATEGORIES:ConNEXTions+,Events
END:VEVENT
BEGIN:VEVENT
DTSTART;TZID=US/Eastern:20250428T120000
DTEND;TZID=US/Eastern:20250428T133000
DTSTAMP:20260421T205649
CREATED:20241226T203547Z
LAST-MODIFIED:20250427T231020Z
UID:10001828-1745841600-1745847000@tbsneedham.org
SUMMARY:Lunch & Learn
DESCRIPTION:Visual Arts meet Jewish Music in this remarkable feast for the senses\, with presenter Jerry Goldberg. All are welcome. \nRegister for this and other sessions at t-b-s.me/lunchandlearn.
URL:https://tbsneedham.org/event/lunch-learn-4/
LOCATION:Beit Midrash
CATEGORIES:ConNEXTions+,Events
END:VEVENT
BEGIN:VEVENT
DTSTART;TZID=US/Eastern:20250416T100000
DTEND;TZID=US/Eastern:20250416T120000
DTSTAMP:20260421T205649
CREATED:20241226T203521Z
LAST-MODIFIED:20250415T234024Z
UID:10001824-1744797600-1744804800@tbsneedham.org
SUMMARY:ConNEXTions+ Book Club
DESCRIPTION:Start-Up Nation by Dan Senor and Saul Singer
URL:https://tbsneedham.org/event/connextions-book-club-3/
LOCATION:Chesed Room
CATEGORIES:ConNEXTions+,Events
END:VEVENT
BEGIN:VEVENT
DTSTART;TZID=US/Eastern:20250406T163000
DTEND;TZID=US/Eastern:20250406T180000
DTSTAMP:20260421T205649
CREATED:20250205T200620Z
LAST-MODIFIED:20250414T150547Z
UID:10005033-1743957000-1743962400@tbsneedham.org
SUMMARY:Pizza and Bingo
DESCRIPTION:Reserve you seat now for the annual ConNextions+ Pizza and Bingo party! After time to enjoy delicious pizza\, our Bingo masters will be challenging us with entertaining twists on each game\, and handing out cash prizes to the winners. Open to all adults in the TBS community. $10 per person. Questions? Contact connextionsplus@tbsneedham.org. Register: t-b-s.me/pizzaandbingo.
URL:https://tbsneedham.org/event/pizza-and-bingo/
LOCATION:Carmen Hall
CATEGORIES:ConNEXTions+,Events,Homepage Feature
ATTACH;FMTTYPE=image/jpeg:https://tbsneedham.org/wp-content/uploads/2025/02/BingoandPizza300-e1742927288932.jpg
END:VEVENT
BEGIN:VEVENT
DTSTART;TZID=US/Eastern:20250317T120000
DTEND;TZID=US/Eastern:20250317T133000
DTSTAMP:20260421T205649
CREATED:20241226T203404Z
LAST-MODIFIED:20250414T150548Z
UID:10001808-1742212800-1742218200@tbsneedham.org
SUMMARY:Lunch & Learn
DESCRIPTION:All about Purim\, the adult version\, with Rabbi Bob Orkand. There’s more to this holiday than shpiels and carnivals! All are welcome. \nRegister for this and other sessions at t-b-s.me/lunchandlearn.
URL:https://tbsneedham.org/event/lunch-learn-3/
LOCATION:Beit Midrash
CATEGORIES:ConNEXTions+,Events
END:VEVENT
BEGIN:VEVENT
DTSTART;TZID=US/Eastern:20250224T120000
DTEND;TZID=US/Eastern:20250224T133000
DTSTAMP:20260421T205649
CREATED:20241226T203312Z
LAST-MODIFIED:20250414T150603Z
UID:10001796-1740398400-1740403800@tbsneedham.org
SUMMARY:Lunch & Learn
DESCRIPTION:Join us for the February ConNEXTions+ Lunch & Learn\, when we will meet local Jewish professional actor Jeremiah Kissel. Hear about how religion informs his art and artistic choices. All are welcome. \nRegister for this and other sessions at t-b-s.me/lunchandlearn.
URL:https://tbsneedham.org/event/lunch-learn-2/
LOCATION:Beit Midrash
CATEGORIES:ConNEXTions+,Events
END:VEVENT
BEGIN:VEVENT
DTSTART;TZID=US/Eastern:20250219T100000
DTEND;TZID=US/Eastern:20250219T120000
DTSTAMP:20260421T205649
CREATED:20241226T203259Z
LAST-MODIFIED:20250414T150603Z
UID:10001792-1739959200-1739966400@tbsneedham.org
SUMMARY:ConNEXTions+ Book Club
DESCRIPTION:The Marriage of Opposites by Alice Hoffman
URL:https://tbsneedham.org/event/connextions-book-club/
LOCATION:Chesed Room
CATEGORIES:ConNEXTions+,Events
END:VEVENT
BEGIN:VEVENT
DTSTART;TZID=US/Eastern:20250115T100000
DTEND;TZID=US/Eastern:20250115T120000
DTSTAMP:20260421T205649
CREATED:20250106T190953Z
LAST-MODIFIED:20250414T150617Z
UID:10004892-1736935200-1736942400@tbsneedham.org
SUMMARY:ConNEXTions+ Book Club
DESCRIPTION:
URL:https://tbsneedham.org/event/connextions-book-club-6/
LOCATION:Chesed Room
CATEGORIES:ConNEXTions+,Events
END:VEVENT
BEGIN:VEVENT
DTSTART;TZID=US/Eastern:20250113T120000
DTEND;TZID=US/Eastern:20250113T133000
DTSTAMP:20260421T205649
CREATED:20241226T203057Z
LAST-MODIFIED:20250414T150617Z
UID:10001744-1736769600-1736775000@tbsneedham.org
SUMMARY:Lunch & Learn
DESCRIPTION:Register for this and other sessions at t-b-s.me/lunchandlearn.
URL:https://tbsneedham.org/event/lunch-learn/
LOCATION:Beit Midrash
CATEGORIES:ConNEXTions+,Events
END:VEVENT
BEGIN:VEVENT
DTSTART;TZID=US/Eastern:20250105T093000
DTEND;TZID=US/Eastern:20250105T113000
DTSTAMP:20260421T205649
CREATED:20241226T203031Z
LAST-MODIFIED:20250414T150629Z
UID:10001732-1736069400-1736076600@tbsneedham.org
SUMMARY:ConNEXTions+ New Year Brunch
DESCRIPTION:Join ConNEXTions+ in welcoming the new year! We will enjoy a traditional bagel brunch\, catch up with old friends and make new ones\, and be regaled with a fun musical performance by A&W Ukulele Players\, including our own Barbara Pack! \nRegister: t-b-s.me/newyearsbrunch\nContact: ConNEXTions+ at connextionsplus@tbsneedham.org
URL:https://tbsneedham.org/event/connextions-new-year-brunch/
LOCATION:Carmen Hall
CATEGORIES:ConNEXTions+,Events
ATTACH;FMTTYPE=image/webp:https://tbsneedham.org/wp-content/uploads/2024/10/Community-Dinner.webp
END:VEVENT
END:VCALENDAR