BEGIN:VCALENDAR
VERSION:2.0
PRODID:-//Temple Beth Shalom - ECPv6.15.17.1//NONSGML v1.0//EN
CALSCALE:GREGORIAN
METHOD:PUBLISH
X-ORIGINAL-URL:https://tbsneedham.org
X-WR-CALDESC:Events for Temple Beth Shalom
REFRESH-INTERVAL;VALUE=DURATION:PT1H
X-Robots-Tag:noindex
X-PUBLISHED-TTL:PT1H
BEGIN:VTIMEZONE
TZID:US/Eastern
BEGIN:DAYLIGHT
TZOFFSETFROM:-0500
TZOFFSETTO:-0400
TZNAME:EDT
DTSTART:20250309T070000
END:DAYLIGHT
BEGIN:STANDARD
TZOFFSETFROM:-0400
TZOFFSETTO:-0500
TZNAME:EST
DTSTART:20251102T060000
END:STANDARD
BEGIN:DAYLIGHT
TZOFFSETFROM:-0500
TZOFFSETTO:-0400
TZNAME:EDT
DTSTART:20260308T070000
END:DAYLIGHT
BEGIN:STANDARD
TZOFFSETFROM:-0400
TZOFFSETTO:-0500
TZNAME:EST
DTSTART:20261101T060000
END:STANDARD
BEGIN:DAYLIGHT
TZOFFSETFROM:-0500
TZOFFSETTO:-0400
TZNAME:EDT
DTSTART:20270314T070000
END:DAYLIGHT
BEGIN:STANDARD
TZOFFSETFROM:-0400
TZOFFSETTO:-0500
TZNAME:EST
DTSTART:20271107T060000
END:STANDARD
END:VTIMEZONE
BEGIN:VEVENT
DTSTART;VALUE=DATE:20260410
DTEND;VALUE=DATE:20260413
DTSTAMP:20260424T071222
CREATED:20251119T183821Z
LAST-MODIFIED:20260410T155820Z
UID:10006355-1775779200-1776038399@tbsneedham.org
SUMMARY:TBS Family Camp
DESCRIPTION:Friday-Sunday\, April 10-12\, 2026 \nEnjoy a weekend away with other TBS families\, including Shabbat\, outdoor fun\, family activities\, s’mores\, and singing around the campfire. We are headed to URJ Eisner Camp\, located about two hours away in Great Barrington\, MA. Our program begins with Shabbat dinner on Friday night and ends Sunday morning. Family Camp is designed for families with elementary-age children\, with older and younger siblings welcome.
URL:https://tbsneedham.org/event/tbs-family-camp-3/
LOCATION:Eisner Camp
CATEGORIES:Families with School Age Children
END:VEVENT
END:VCALENDAR