BEGIN:VCALENDAR
VERSION:2.0
PRODID:-//Temple Beth Shalom - ECPv6.15.17.1//NONSGML v1.0//EN
CALSCALE:GREGORIAN
METHOD:PUBLISH
X-WR-CALNAME:Temple Beth Shalom
X-ORIGINAL-URL:https://tbsneedham.org
X-WR-CALDESC:Events for Temple Beth Shalom
REFRESH-INTERVAL;VALUE=DURATION:PT1H
X-Robots-Tag:noindex
X-PUBLISHED-TTL:PT1H
BEGIN:VTIMEZONE
TZID:US/Eastern
BEGIN:DAYLIGHT
TZOFFSETFROM:-0500
TZOFFSETTO:-0400
TZNAME:EDT
DTSTART:20240310T070000
END:DAYLIGHT
BEGIN:STANDARD
TZOFFSETFROM:-0400
TZOFFSETTO:-0500
TZNAME:EST
DTSTART:20241103T060000
END:STANDARD
BEGIN:DAYLIGHT
TZOFFSETFROM:-0500
TZOFFSETTO:-0400
TZNAME:EDT
DTSTART:20250309T070000
END:DAYLIGHT
BEGIN:STANDARD
TZOFFSETFROM:-0400
TZOFFSETTO:-0500
TZNAME:EST
DTSTART:20251102T060000
END:STANDARD
BEGIN:DAYLIGHT
TZOFFSETFROM:-0500
TZOFFSETTO:-0400
TZNAME:EDT
DTSTART:20260308T070000
END:DAYLIGHT
BEGIN:STANDARD
TZOFFSETFROM:-0400
TZOFFSETTO:-0500
TZNAME:EST
DTSTART:20261101T060000
END:STANDARD
END:VTIMEZONE
BEGIN:VEVENT
DTSTART;TZID=US/Eastern:20251206T090000
DTEND;TZID=US/Eastern:20251206T100000
DTSTAMP:20260424T101350
CREATED:20251203T214700Z
LAST-MODIFIED:20251205T231031Z
UID:10006375-1765011600-1765015200@tbsneedham.org
SUMMARY:Menorah Making
DESCRIPTION:Join us for a joyful\, hands on Chanukah experience designed especially for families with young children! Together\, we’ll build and decorate child friendly menorahs using wood\, tiles\, paint\, and plenty of sparkle. Come celebrate\, create\, and share the light with your TBS community! We have two types of menorahs. Please choose one per child when you register. 1- Wooden menorah with wooden candles for dramatic play or as a mantle/shelf decoration to track the holiday progression. 2- Useable menorahs made from wood or ceramics. Geared towards children ages 2-10 but all are welcome.
URL:https://tbsneedham.org/event/menorah-making/
LOCATION:Carmen Hall
CATEGORIES:Families with Young Children
END:VEVENT
BEGIN:VEVENT
DTSTART;TZID=US/Eastern:20251207T160000
DTEND;TZID=US/Eastern:20251207T163000
DTSTAMP:20260424T101350
CREATED:20251022T183513Z
LAST-MODIFIED:20251206T232518Z
UID:10006229-1765123200-1765125000@tbsneedham.org
SUMMARY:Sing & Dance with Cantor DJ: Chanukah Fun!
DESCRIPTION:Bring the whole family for a joyful morning of singing\, dancing\, and instrument play with Cantor DJ Fortine. Each session blends holiday traditions with music learning and is designed for children ages 0–5 and their grown-ups. $15 per family. TBS members use coupon code LL for free registration.
URL:https://tbsneedham.org/event/sing-dance-with-cantor-dj-chanukah-fun/
LOCATION:Family Reading Room
CATEGORIES:Families with Young Children
END:VEVENT
BEGIN:VEVENT
DTSTART;TZID=US/Eastern:20251207T163000
DTEND;TZID=US/Eastern:20251207T180000
DTSTAMP:20260424T101350
CREATED:20250905T181311Z
LAST-MODIFIED:20250910T182316Z
UID:10006201-1765125000-1765130400@tbsneedham.org
SUMMARY:Parenting Through a Jewish Lens
DESCRIPTION:Parenting Through a Jewish Lens (for parents of infants through age 9) Join Rabbi Elyse Pincus Abrahams and a group of fellow parents of newborns through nine-year-olds to discuss topics that matter to you as a parent; explore Jewish values that can enrich your family; reflect on the joys and challenges of raising kids today; and find support\, encouragement\, and connection. Discover the many ways in which Jewish sources of wisdom can inform their choices. How can I help foster my child’s uniqueness? How can I nurture my child’s resilience? How can I help my family through dark times? How do I talk to my child about God? Meets at TBS on Sundays from 4:30-6pm for a series of four sessions: \nOctober 26 \nNovember 2 \nNovember 16 \nDecember 7 \nBabysitting and pizza dinner provided for the kids! Questions? Contact Ellen Dietrick.
URL:https://tbsneedham.org/event/parenting-through-a-jewish-lens/
LOCATION:Conference Room (front)
CATEGORIES:Classes,Families with School Age Children,Families with Young Children
END:VEVENT
BEGIN:VEVENT
DTSTART;TZID=US/Eastern:20251216T170000
DTEND;TZID=US/Eastern:20251216T180000
DTSTAMP:20260424T101350
CREATED:20251203T214327Z
LAST-MODIFIED:20251216T221019Z
UID:10006364-1765904400-1765908000@tbsneedham.org
SUMMARY:The Big Chanukah Playdate
DESCRIPTION:Join us for a joyful evening designed just for children ages 0–6 and their families!\nCelebrate Chanukah through hands-on\, sensory-rich activities and playful games that bring the holiday to life. Children will scoop\, sprinkle\, spin\, squeeze\, and explore at themed stations inspired by sufganiyot\, dreidels\, candles\, and more. From festive sensory bins to creative crafts\, there’s something for every age and stage. Plus chicken finger and latke dinner!\nCome play\, create\, sing\, and celebrate together as we welcome the light of Chanukah with our TBS community! \n$18 per family. TBS members use coupon code LL for free registration.
URL:https://tbsneedham.org/event/the-big-chanukah-playdate/
LOCATION:Carmen Hall
CATEGORIES:Families with Young Children
END:VEVENT
BEGIN:VEVENT
DTSTART;TZID=US/Eastern:20251219T171500
DTEND;TZID=US/Eastern:20251219T173000
DTSTAMP:20260424T101350
CREATED:20250817T154027Z
LAST-MODIFIED:20251219T205704Z
UID:10005145-1766164500-1766165400@tbsneedham.org
SUMMARY:Tot Shabbat Tater Tot Nosh
DESCRIPTION:
URL:https://tbsneedham.org/event/tot-shabbat-tater-tot-nosh-14/
LOCATION:Simon Hall
CATEGORIES:Families with Young Children
END:VEVENT
BEGIN:VEVENT
DTSTART;TZID=US/Eastern:20251219T173000
DTEND;TZID=US/Eastern:20251219T180000
DTSTAMP:20260424T101350
CREATED:20250815T172223Z
LAST-MODIFIED:20250919T133155Z
UID:10005104-1766165400-1766167200@tbsneedham.org
SUMMARY:Tot Shabbat Service
DESCRIPTION:Contact: Ellen Dietrick
URL:https://tbsneedham.org/event/tot-shabbat-service-11/
LOCATION:Sanctuary
CATEGORIES:Families with Young Children,Worship
END:VEVENT
BEGIN:VEVENT
DTSTART;TZID=US/Eastern:20251219T173000
DTEND;TZID=US/Eastern:20251219T180000
DTSTAMP:20260424T101350
CREATED:20250817T155321Z
LAST-MODIFIED:20251219T205704Z
UID:10005146-1766165400-1766167200@tbsneedham.org
SUMMARY:Tot Shabbat Service
DESCRIPTION:Contact: Ellen Dietrick
URL:https://tbsneedham.org/event/tot-shabbat-service-19/
LOCATION:Sanctuary
CATEGORIES:Families with Young Children,Worship
END:VEVENT
BEGIN:VEVENT
DTSTART;TZID=US/Eastern:20251221T160000
DTEND;TZID=US/Eastern:20251221T163000
DTSTAMP:20260424T101350
CREATED:20251022T183814Z
LAST-MODIFIED:20251221T211026Z
UID:10006232-1766332800-1766334600@tbsneedham.org
SUMMARY:Sing & Dance with Cantor DJ: More Chanukah Songs & Dance
DESCRIPTION:Bring the whole family for a joyful morning of singing\, dancing\, and instrument play with Cantor DJ Fortine. Each session blends holiday traditions with music learning and is designed for children ages 0–5 and their grown-ups. $15 per family. TBS members use coupon code LL for free registration.
URL:https://tbsneedham.org/event/sing-dance-with-cantor-dj-more-chanukah-songs-dance/
LOCATION:Family Reading Room
CATEGORIES:Families with Young Children
END:VEVENT
END:VCALENDAR