BEGIN:VCALENDAR
VERSION:2.0
PRODID:-//Temple Beth Shalom - ECPv6.15.17.1//NONSGML v1.0//EN
CALSCALE:GREGORIAN
METHOD:PUBLISH
X-WR-CALNAME:Temple Beth Shalom
X-ORIGINAL-URL:https://tbsneedham.org
X-WR-CALDESC:Events for Temple Beth Shalom
REFRESH-INTERVAL;VALUE=DURATION:PT1H
X-Robots-Tag:noindex
X-PUBLISHED-TTL:PT1H
BEGIN:VTIMEZONE
TZID:US/Eastern
BEGIN:DAYLIGHT
TZOFFSETFROM:-0500
TZOFFSETTO:-0400
TZNAME:EDT
DTSTART:20240310T070000
END:DAYLIGHT
BEGIN:STANDARD
TZOFFSETFROM:-0400
TZOFFSETTO:-0500
TZNAME:EST
DTSTART:20241103T060000
END:STANDARD
BEGIN:DAYLIGHT
TZOFFSETFROM:-0500
TZOFFSETTO:-0400
TZNAME:EDT
DTSTART:20250309T070000
END:DAYLIGHT
BEGIN:STANDARD
TZOFFSETFROM:-0400
TZOFFSETTO:-0500
TZNAME:EST
DTSTART:20251102T060000
END:STANDARD
BEGIN:DAYLIGHT
TZOFFSETFROM:-0500
TZOFFSETTO:-0400
TZNAME:EDT
DTSTART:20260308T070000
END:DAYLIGHT
BEGIN:STANDARD
TZOFFSETFROM:-0400
TZOFFSETTO:-0500
TZNAME:EST
DTSTART:20261101T060000
END:STANDARD
END:VTIMEZONE
BEGIN:VEVENT
DTSTART;TZID=US/Eastern:20250113T190000
DTEND;TZID=US/Eastern:20250113T210000
DTSTAMP:20260423T120150
CREATED:20241226T203057Z
LAST-MODIFIED:20250414T150617Z
UID:10001745-1736794800-1736802000@tbsneedham.org
SUMMARY:Novels at Night
DESCRIPTION:Sign up here.\nPlease join Sisterhood’s special guest\, author Tova Mirvis\, to discuss her book\, The Book of Separation: A Memoir. This installment of Novels at Night is not to be missed!
URL:https://tbsneedham.org/event/novels/
CATEGORIES:Events,Homepage Feature,Sisterhood
ATTACH;FMTTYPE=image/jpeg:https://tbsneedham.org/wp-content/uploads/2024/12/IMG_3207-e1736185814772.jpeg
END:VEVENT
END:VCALENDAR