BEGIN:VCALENDAR
VERSION:2.0
PRODID:-//Temple Beth Shalom - ECPv6.15.17.1//NONSGML v1.0//EN
CALSCALE:GREGORIAN
METHOD:PUBLISH
X-ORIGINAL-URL:https://tbsneedham.org
X-WR-CALDESC:Events for Temple Beth Shalom
REFRESH-INTERVAL;VALUE=DURATION:PT1H
X-Robots-Tag:noindex
X-PUBLISHED-TTL:PT1H
BEGIN:VTIMEZONE
TZID:US/Eastern
BEGIN:DAYLIGHT
TZOFFSETFROM:-0500
TZOFFSETTO:-0400
TZNAME:EDT
DTSTART:20240310T070000
END:DAYLIGHT
BEGIN:STANDARD
TZOFFSETFROM:-0400
TZOFFSETTO:-0500
TZNAME:EST
DTSTART:20241103T060000
END:STANDARD
BEGIN:DAYLIGHT
TZOFFSETFROM:-0500
TZOFFSETTO:-0400
TZNAME:EDT
DTSTART:20250309T070000
END:DAYLIGHT
BEGIN:STANDARD
TZOFFSETFROM:-0400
TZOFFSETTO:-0500
TZNAME:EST
DTSTART:20251102T060000
END:STANDARD
BEGIN:DAYLIGHT
TZOFFSETFROM:-0500
TZOFFSETTO:-0400
TZNAME:EDT
DTSTART:20260308T070000
END:DAYLIGHT
BEGIN:STANDARD
TZOFFSETFROM:-0400
TZOFFSETTO:-0500
TZNAME:EST
DTSTART:20261101T060000
END:STANDARD
END:VTIMEZONE
BEGIN:VEVENT
DTSTART;TZID=US/Eastern:20250202T190000
DTEND;TZID=US/Eastern:20250202T203000
DTSTAMP:20260425T081137
CREATED:20250114T173805Z
LAST-MODIFIED:20250414T150616Z
UID:10005010-1738522800-1738528200@tbsneedham.org
SUMMARY:TBS Presents: Songs of Love and Devotion
DESCRIPTION:Over the past year\, Cantor DJ Fortine and pianist Lois Shapiro have teamed up with Francine Trester\, one of Berklee College of Music’s Professors of Composition\, to set meaningful Jewish texts to music. These original compositions — vocal duets and quartets which Temple Beth Shalom has formally commissioned — are celebrations of love\, devotion\, and enduring commitment\, based on texts from Song of Songs\, the Book of Ruth\, and poetry by Rabbi Rami Shapiro. This 60-minute concert — featuring Cantor DJ\, Alli Aaron\, Betty Bauman\, and Elijah Botkin — will also showcase an eclectic mix of love songs from genres ranging from contemporary musical theater to lieder from composers including Gustav Mahler and Clara Schumann. This February performance and its repertoire is dedicated to the love\, devotion\, and enduring commitment of our TBS community\, and is just one way to join our ongoing celebration of TBS’s 70-year anniversary! \nSuggested donation: $18 \nRegister: t-b-s.me/songsoflove
URL:https://tbsneedham.org/event/tbs-presents-songs-of-love-and-devotion-featuring-original-compositions-by-berklees-fran-trester/
LOCATION:Sanctuary
CATEGORIES:Events,Homepage Feature
ATTACH;FMTTYPE=image/png:https://tbsneedham.org/wp-content/uploads/2025/01/TBS_70th_logo_final_transparentWEB-e1737992102835.png
END:VEVENT
END:VCALENDAR