BEGIN:VCALENDAR
VERSION:2.0
PRODID:-//Temple Beth Shalom - ECPv6.15.17.1//NONSGML v1.0//EN
CALSCALE:GREGORIAN
METHOD:PUBLISH
X-ORIGINAL-URL:https://tbsneedham.org
X-WR-CALDESC:Events for Temple Beth Shalom
REFRESH-INTERVAL;VALUE=DURATION:PT1H
X-Robots-Tag:noindex
X-PUBLISHED-TTL:PT1H
BEGIN:VTIMEZONE
TZID:US/Eastern
BEGIN:DAYLIGHT
TZOFFSETFROM:-0500
TZOFFSETTO:-0400
TZNAME:EDT
DTSTART:20240310T070000
END:DAYLIGHT
BEGIN:STANDARD
TZOFFSETFROM:-0400
TZOFFSETTO:-0500
TZNAME:EST
DTSTART:20241103T060000
END:STANDARD
BEGIN:DAYLIGHT
TZOFFSETFROM:-0500
TZOFFSETTO:-0400
TZNAME:EDT
DTSTART:20250309T070000
END:DAYLIGHT
BEGIN:STANDARD
TZOFFSETFROM:-0400
TZOFFSETTO:-0500
TZNAME:EST
DTSTART:20251102T060000
END:STANDARD
BEGIN:DAYLIGHT
TZOFFSETFROM:-0500
TZOFFSETTO:-0400
TZNAME:EDT
DTSTART:20260308T070000
END:DAYLIGHT
BEGIN:STANDARD
TZOFFSETFROM:-0400
TZOFFSETTO:-0500
TZNAME:EST
DTSTART:20261101T060000
END:STANDARD
END:VTIMEZONE
BEGIN:VEVENT
DTSTART;TZID=US/Eastern:20250223T093000
DTEND;TZID=US/Eastern:20250223T113000
DTSTAMP:20260422T025150
CREATED:20241230T201325Z
LAST-MODIFIED:20250414T150603Z
UID:10001849-1740303000-1740310200@tbsneedham.org
SUMMARY:Israeli Art as a Window to Israeli History and Memory
DESCRIPTION:With Israeli artist and educator Shirel Horovitz \nThe TBS Adult Learning committee is pleased to invite Shirel Horovitz\, creative director for CSP\, and an award winning artist with exhibits in museums and galleries in Israel and the US. \nIn this program at TBS\, Shirel will present Israeli art from the early 20th century to today touching on key art works and themes to explore the way they highlight and challenge the Israeli narrative. It’s a fascinating way to take a fresh look at the Israeli narrative as well as a unique introduction to behind the scenes of the Israeli art world. Shirel will emphasize shifting narratives\, its relation to the international art world and will lay the groundwork to understanding the diversity of the contemporary local scene. \nA bagel breakfast will be served. $10 for non-members.\nRegister: t-b-s.me/israeliart\nContact: adultlearning@tbsneedham.org \nArtist and educator artist Shirel Horovitz\, creates performances and installations exploring cities\, communities and the relations between people and space. She earned her BFA from Bezalel Academy in Jerusalem\, and her MA from the interdisciplinary art program in Tel Aviv University. Her works were exhibited in museums and galleries in Israel and the US. She is recipient of the Rabinovich prize 2018 and the Weismann art grant for 2023. A new series of her drawings are part of a new exhibition at ANU museum and she is currently working on new sculptures in her studio in Tel Aviv towards a solo show opening in The Herzliya Artists Residence Gallery. \nAlongside her art practice\, Shirel is the creative director of CSP. Horovitz lectures\, leads art tours\, teaches art and is an art consultant to a variety of private groups and institutions\, among them Bezalel Academy of Art and Design\, Alma Hebrew college\, Classrooms Without Borders\, Azrieli LTD\, Minshar College of Art and more. \nDrawing from multiple fields of knowledge\, Shirel weaves into each experience aspects of social issues\, politics\, economy\, religion and more to create a vivid and nuanced image of Israeli reality. Her knowledge\, passion and love of all that is art and Israeli history are nothing less than contagious.
URL:https://tbsneedham.org/event/israeli-art-as-a-window-to-israeli-history-and-memory/
LOCATION:Carmen Hall
CATEGORIES:Adult Learning,Events,Homepage Feature
ATTACH;FMTTYPE=image/jpeg:https://tbsneedham.org/wp-content/uploads/2024/12/Tal-Shochat-2-e1738086483806.jpg
END:VEVENT
END:VCALENDAR