BEGIN:VCALENDAR
VERSION:2.0
PRODID:-//Temple Beth Shalom - ECPv6.15.17.1//NONSGML v1.0//EN
CALSCALE:GREGORIAN
METHOD:PUBLISH
X-ORIGINAL-URL:https://tbsneedham.org
X-WR-CALDESC:Events for Temple Beth Shalom
REFRESH-INTERVAL;VALUE=DURATION:PT1H
X-Robots-Tag:noindex
X-PUBLISHED-TTL:PT1H
BEGIN:VTIMEZONE
TZID:US/Eastern
BEGIN:DAYLIGHT
TZOFFSETFROM:-0500
TZOFFSETTO:-0400
TZNAME:EDT
DTSTART:20240310T070000
END:DAYLIGHT
BEGIN:STANDARD
TZOFFSETFROM:-0400
TZOFFSETTO:-0500
TZNAME:EST
DTSTART:20241103T060000
END:STANDARD
BEGIN:DAYLIGHT
TZOFFSETFROM:-0500
TZOFFSETTO:-0400
TZNAME:EDT
DTSTART:20250309T070000
END:DAYLIGHT
BEGIN:STANDARD
TZOFFSETFROM:-0400
TZOFFSETTO:-0500
TZNAME:EST
DTSTART:20251102T060000
END:STANDARD
BEGIN:DAYLIGHT
TZOFFSETFROM:-0500
TZOFFSETTO:-0400
TZNAME:EDT
DTSTART:20260308T070000
END:DAYLIGHT
BEGIN:STANDARD
TZOFFSETFROM:-0400
TZOFFSETTO:-0500
TZNAME:EST
DTSTART:20261101T060000
END:STANDARD
END:VTIMEZONE
BEGIN:VEVENT
DTSTART;TZID=US/Eastern:20250301T193000
DTEND;TZID=US/Eastern:20250301T223000
DTSTAMP:20260421T162314
CREATED:20250106T191444Z
LAST-MODIFIED:20250414T150602Z
UID:10004897-1740857400-1740868200@tbsneedham.org
SUMMARY:Purim Shpiel: Country Hoedown!
DESCRIPTION:Hey y’all\, join us for an adults-only evening of music\, revelry\, and lots of fun with friends as we celebrate Purim with our live and in-person house band and not-quite-ready-for-prime-time cast members. \nThis year\, the music of the show will be drawn from country and western music’s greatest hits. So get ready to line dance\, kick your heels up\, and “yeehaw!” Grab your cowboy boots\, and get your tickets today! Country-western or other costumes encouraged. Ages 21+ only. \nBarbecue\, beverages\, and dessert will be served. \nRegister: t-b-s.me/purim5785\, $25 \nContact: Craig Lustig at programs@tbsneedham.org
URL:https://tbsneedham.org/event/adult-purim-shpiel/
LOCATION:Carmen Hall
CATEGORIES:Events,Holidays,Homepage Feature
ATTACH;FMTTYPE=image/png:https://tbsneedham.org/wp-content/uploads/2025/01/purim-for-web-e1738168905912.png
END:VEVENT
END:VCALENDAR