BEGIN:VCALENDAR
VERSION:2.0
PRODID:-//Temple Beth Shalom - ECPv6.15.17.1//NONSGML v1.0//EN
CALSCALE:GREGORIAN
METHOD:PUBLISH
X-ORIGINAL-URL:https://tbsneedham.org
X-WR-CALDESC:Events for Temple Beth Shalom
REFRESH-INTERVAL;VALUE=DURATION:PT1H
X-Robots-Tag:noindex
X-PUBLISHED-TTL:PT1H
BEGIN:VTIMEZONE
TZID:US/Eastern
BEGIN:DAYLIGHT
TZOFFSETFROM:-0500
TZOFFSETTO:-0400
TZNAME:EDT
DTSTART:20240310T070000
END:DAYLIGHT
BEGIN:STANDARD
TZOFFSETFROM:-0400
TZOFFSETTO:-0500
TZNAME:EST
DTSTART:20241103T060000
END:STANDARD
BEGIN:DAYLIGHT
TZOFFSETFROM:-0500
TZOFFSETTO:-0400
TZNAME:EDT
DTSTART:20250309T070000
END:DAYLIGHT
BEGIN:STANDARD
TZOFFSETFROM:-0400
TZOFFSETTO:-0500
TZNAME:EST
DTSTART:20251102T060000
END:STANDARD
BEGIN:DAYLIGHT
TZOFFSETFROM:-0500
TZOFFSETTO:-0400
TZNAME:EDT
DTSTART:20260308T070000
END:DAYLIGHT
BEGIN:STANDARD
TZOFFSETFROM:-0400
TZOFFSETTO:-0500
TZNAME:EST
DTSTART:20261101T060000
END:STANDARD
END:VTIMEZONE
BEGIN:VEVENT
DTSTART;TZID=US/Eastern:20250309T093000
DTEND;TZID=US/Eastern:20250309T113000
DTSTAMP:20260423T110118
CREATED:20250106T191803Z
LAST-MODIFIED:20250414T150548Z
UID:10004901-1741512600-1741519800@tbsneedham.org
SUMMARY:Marc Comras Breakfast
DESCRIPTION:Join Brotherhood for a nosh with our clergy followed by a lively question and answer session we like to call “Stump the Rabbis.” Before the Q&A we will present our annual Marc Comras Community Service Award. This year’s recipient is … Florence Schumacher!  Florence served as chair of the Archives committee for many years\, wrote the history section of our TBS website\, and has contributed many articles to the Scroll about the history of the Temple. We are delighted to honor Florence while feasting on bagels and lox. \nSuggested Donation of $18 going to the Refugee Resettlement Fund \nRegister: t-b-s.me/comras
URL:https://tbsneedham.org/event/marc-comras-breakfast/
LOCATION:Carmen Hall
CATEGORIES:Brotherhood,Events,Homepage Feature
ATTACH;FMTTYPE=image/jpeg:https://tbsneedham.org/wp-content/uploads/2025/01/florence-e1738605798538.jpeg
END:VEVENT
END:VCALENDAR