BEGIN:VCALENDAR
VERSION:2.0
PRODID:-//Temple Beth Shalom - ECPv6.15.17.1//NONSGML v1.0//EN
CALSCALE:GREGORIAN
METHOD:PUBLISH
X-WR-CALNAME:Temple Beth Shalom
X-ORIGINAL-URL:https://tbsneedham.org
X-WR-CALDESC:Events for Temple Beth Shalom
REFRESH-INTERVAL;VALUE=DURATION:PT1H
X-Robots-Tag:noindex
X-PUBLISHED-TTL:PT1H
BEGIN:VTIMEZONE
TZID:US/Eastern
BEGIN:DAYLIGHT
TZOFFSETFROM:-0500
TZOFFSETTO:-0400
TZNAME:EDT
DTSTART:20240310T070000
END:DAYLIGHT
BEGIN:STANDARD
TZOFFSETFROM:-0400
TZOFFSETTO:-0500
TZNAME:EST
DTSTART:20241103T060000
END:STANDARD
BEGIN:DAYLIGHT
TZOFFSETFROM:-0500
TZOFFSETTO:-0400
TZNAME:EDT
DTSTART:20250309T070000
END:DAYLIGHT
BEGIN:STANDARD
TZOFFSETFROM:-0400
TZOFFSETTO:-0500
TZNAME:EST
DTSTART:20251102T060000
END:STANDARD
BEGIN:DAYLIGHT
TZOFFSETFROM:-0500
TZOFFSETTO:-0400
TZNAME:EDT
DTSTART:20260308T070000
END:DAYLIGHT
BEGIN:STANDARD
TZOFFSETFROM:-0400
TZOFFSETTO:-0500
TZNAME:EST
DTSTART:20261101T060000
END:STANDARD
END:VTIMEZONE
BEGIN:VEVENT
DTSTART;TZID=US/Eastern:20250325T193000
DTEND;TZID=US/Eastern:20250325T210000
DTSTAMP:20260422T012939
CREATED:20250205T201138Z
LAST-MODIFIED:20250414T150548Z
UID:10005025-1742931000-1742936400@tbsneedham.org
SUMMARY:Orly Erez-Likhovski\, Executive Director of the Israel Religious Action Center
DESCRIPTION:The Israel Religious Action Center (IRAC) is the Israeli Reform Movement’s most senior organizing body working to promote equality\, democracy\, civil rights\, and pluralism throughout Israel. With the rise of right-wing political power in Israel\, the Reform Movement has been on the front lines to protect vulnerable populations\, to fight against discrimination\, and to ensure that Reform Jewish values are upheld in Israeli society. Register: t-b-s.me/israelrac\nOrly Erez-Likhovski (she/her) received her law degree from Tel Aviv University and her master’s degree in law from Columbia University. She has interned in Israel’s Supreme Court and has served as the Director of IRA since 2021. Through Orly’s leadership\, IRAC has brought about significant legal achievements such as making gender segregation on public transportation illegal\, ended the Orthodox monopoly on state-funded salaries to rabbis\, filing (and winning!) the first ever class action suit regarding exclusion of women\, and disqualifying racist candidates from running for Israel’s parliament. Register: t-b-s.me/israelrac
URL:https://tbsneedham.org/event/orly-erez-likhovski-executive-director-of-the-israel-religious-action-center/
LOCATION:Sanctuary
CATEGORIES:Events,Homepage Feature
ATTACH;FMTTYPE=image/jpeg:https://tbsneedham.org/wp-content/uploads/2025/02/IRAC-logo-e1742305895494.jpg
END:VEVENT
END:VCALENDAR