BEGIN:VCALENDAR
VERSION:2.0
PRODID:-//Temple Beth Shalom - ECPv6.15.17.1//NONSGML v1.0//EN
CALSCALE:GREGORIAN
METHOD:PUBLISH
X-WR-CALNAME:Temple Beth Shalom
X-ORIGINAL-URL:https://tbsneedham.org
X-WR-CALDESC:Events for Temple Beth Shalom
REFRESH-INTERVAL;VALUE=DURATION:PT1H
X-Robots-Tag:noindex
X-PUBLISHED-TTL:PT1H
BEGIN:VTIMEZONE
TZID:US/Eastern
BEGIN:DAYLIGHT
TZOFFSETFROM:-0500
TZOFFSETTO:-0400
TZNAME:EDT
DTSTART:20240310T070000
END:DAYLIGHT
BEGIN:STANDARD
TZOFFSETFROM:-0400
TZOFFSETTO:-0500
TZNAME:EST
DTSTART:20241103T060000
END:STANDARD
BEGIN:DAYLIGHT
TZOFFSETFROM:-0500
TZOFFSETTO:-0400
TZNAME:EDT
DTSTART:20250309T070000
END:DAYLIGHT
BEGIN:STANDARD
TZOFFSETFROM:-0400
TZOFFSETTO:-0500
TZNAME:EST
DTSTART:20251102T060000
END:STANDARD
BEGIN:DAYLIGHT
TZOFFSETFROM:-0500
TZOFFSETTO:-0400
TZNAME:EDT
DTSTART:20260308T070000
END:DAYLIGHT
BEGIN:STANDARD
TZOFFSETFROM:-0400
TZOFFSETTO:-0500
TZNAME:EST
DTSTART:20261101T060000
END:STANDARD
END:VTIMEZONE
BEGIN:VEVENT
DTSTART;TZID=US/Eastern:20250518T080000
DTEND;TZID=US/Eastern:20250518T140000
DTSTAMP:20260424T112906
CREATED:20250106T193732Z
LAST-MODIFIED:20250516T235526Z
UID:10004931-1747555200-1747576800@tbsneedham.org
SUMMARY:Blood Drive
DESCRIPTION:Continuing our minhag (tradition)\, TBS Brotherhood\, in partnership with the Needham High School Red Cross Club\, is pleased to invite volunteer helpers and blood donors to participate in our annual May blood drive. We will once again be serving the traditional bagels and lox feast\, as well as sweet treats and individually wrapped snacks\, along with lots of love and heartfelt appreciation. \nTo donate blood: t-b-s.me/giveblood \nTo volunteer: t-b-s.me/bloodvolunteer \nContact: donateblood@tbsneedham.org or brotherhood@tbsneedham.org
URL:https://tbsneedham.org/event/blood-drive/
LOCATION:Simon Hall
CATEGORIES:Brotherhood,Events,Homepage Feature
ATTACH;FMTTYPE=image/png:https://tbsneedham.org/wp-content/uploads/2025/01/202505-Signup20250518-CCDisplay-e1744219182753.png
END:VEVENT
END:VCALENDAR