BEGIN:VCALENDAR
VERSION:2.0
PRODID:-//Temple Beth Shalom - ECPv6.15.17.1//NONSGML v1.0//EN
CALSCALE:GREGORIAN
METHOD:PUBLISH
X-ORIGINAL-URL:https://tbsneedham.org
X-WR-CALDESC:Events for Temple Beth Shalom
REFRESH-INTERVAL;VALUE=DURATION:PT1H
X-Robots-Tag:noindex
X-PUBLISHED-TTL:PT1H
BEGIN:VTIMEZONE
TZID:US/Eastern
BEGIN:DAYLIGHT
TZOFFSETFROM:-0500
TZOFFSETTO:-0400
TZNAME:EDT
DTSTART:20240310T070000
END:DAYLIGHT
BEGIN:STANDARD
TZOFFSETFROM:-0400
TZOFFSETTO:-0500
TZNAME:EST
DTSTART:20241103T060000
END:STANDARD
BEGIN:DAYLIGHT
TZOFFSETFROM:-0500
TZOFFSETTO:-0400
TZNAME:EDT
DTSTART:20250309T070000
END:DAYLIGHT
BEGIN:STANDARD
TZOFFSETFROM:-0400
TZOFFSETTO:-0500
TZNAME:EST
DTSTART:20251102T060000
END:STANDARD
BEGIN:DAYLIGHT
TZOFFSETFROM:-0500
TZOFFSETTO:-0400
TZNAME:EDT
DTSTART:20260308T070000
END:DAYLIGHT
BEGIN:STANDARD
TZOFFSETFROM:-0400
TZOFFSETTO:-0500
TZNAME:EST
DTSTART:20261101T060000
END:STANDARD
END:VTIMEZONE
BEGIN:VEVENT
DTSTART;TZID=US/Eastern:20251015T193000
DTEND;TZID=US/Eastern:20251015T210000
DTSTAMP:20260423T135854
CREATED:20250919T183641Z
LAST-MODIFIED:20251015T215516Z
UID:10006243-1760556600-1760562000@tbsneedham.org
SUMMARY:Behind the Scenes: Explore the Origins and Stories Behind the MFA Judaica Exhibit
DESCRIPTION:MFA’s Judaica Curator Simona Di Nepi will visit TBS and offer us a tour\, through slides\, of Intentional Beauty: Jewish Ritual Art from the Collection – one of the very first Judaica galleries in an encyclopaedic art museum in the world. Explore the 27 works on view and the stories behind their recent acquisition (or unearthing) by Simona: from an Italian Renaissance Torah binder\, and an Iraqi Torah case used in India— to a Yemenite woman’s festive headdress\, and a Torah Ark from 1920s Chelsea\, Massachusetts. Spanning five hundred years and four continents\, and featuring silver\, textiles\, furniture\, paintings\, and books- these works highlight the extraordinary diversity of Jewish cultures. Light refreshments will be served.\nQuestions? Contact Adult Learning.
URL:https://tbsneedham.org/event/behind-the-scenes-explore-the-origins-and-stories-behind-the-mfa-judaica-exhibit/
LOCATION:Beit Midrash
CATEGORIES:Adult Learning,Events,Homepage Feature
ATTACH;FMTTYPE=image/png:https://tbsneedham.org/wp-content/uploads/2025/09/MFA-judaica-e1758306617502.png
END:VEVENT
END:VCALENDAR