BEGIN:VCALENDAR
VERSION:2.0
PRODID:-//Temple Beth Shalom - ECPv6.15.17.1//NONSGML v1.0//EN
CALSCALE:GREGORIAN
METHOD:PUBLISH
X-WR-CALNAME:Temple Beth Shalom
X-ORIGINAL-URL:https://tbsneedham.org
X-WR-CALDESC:Events for Temple Beth Shalom
REFRESH-INTERVAL;VALUE=DURATION:PT1H
X-Robots-Tag:noindex
X-PUBLISHED-TTL:PT1H
BEGIN:VTIMEZONE
TZID:US/Eastern
BEGIN:DAYLIGHT
TZOFFSETFROM:-0500
TZOFFSETTO:-0400
TZNAME:EDT
DTSTART:20240310T070000
END:DAYLIGHT
BEGIN:STANDARD
TZOFFSETFROM:-0400
TZOFFSETTO:-0500
TZNAME:EST
DTSTART:20241103T060000
END:STANDARD
BEGIN:DAYLIGHT
TZOFFSETFROM:-0500
TZOFFSETTO:-0400
TZNAME:EDT
DTSTART:20250309T070000
END:DAYLIGHT
BEGIN:STANDARD
TZOFFSETFROM:-0400
TZOFFSETTO:-0500
TZNAME:EST
DTSTART:20251102T060000
END:STANDARD
BEGIN:DAYLIGHT
TZOFFSETFROM:-0500
TZOFFSETTO:-0400
TZNAME:EDT
DTSTART:20260308T070000
END:DAYLIGHT
BEGIN:STANDARD
TZOFFSETFROM:-0400
TZOFFSETTO:-0500
TZNAME:EST
DTSTART:20261101T060000
END:STANDARD
END:VTIMEZONE
BEGIN:VEVENT
DTSTART;TZID=US/Eastern:20251108T130000
DTEND;TZID=US/Eastern:20251108T150000
DTSTAMP:20260424T092455
CREATED:20250814T163246Z
LAST-MODIFIED:20251107T211015Z
UID:10005981-1762606800-1762614000@tbsneedham.org
SUMMARY:Volunteer Shift at Cradles to Crayons
DESCRIPTION:Bring your kids (ages 5+) and join Mitzvah Makers and TBS Social Action for an afternoon of volunteering at the Cradles to Crayons (C2C) Giving Factory in Newton! We will quality check\, sort\, package\, and prepare new and gently used donations to go to kids in the Greater Boston community through C2C’s incredible network of Service Partners. Please note that this program takes place off-site at Cradles to Crayons\, which is about a 20 minute drive from TBS. While younger siblings are typically welcome at Mitzvah Makers events\, C2C requires volunteers to be at least 5 years old. \nWhether you are able to participate in the C2C shift or not\, please consider donating to our C2C clothing drive! Volunteers may bring their bag(s) of gently used children’s clothing to the shift on November 8. Those who are not volunteering may drop their bags on the front porch of 109 Arch Street\, Needham beginning on November 1st. Donation details may be found HERE and/or feel free to use C2C’s Amazon Wishlist HERE.
URL:https://tbsneedham.org/event/volunteer-shift-at-cradles-to-crayons-mitzvah-makers-and-social-action/
LOCATION:Outside of Temple
CATEGORIES:Families with School Age Children,Social Action
END:VEVENT
BEGIN:VEVENT
DTSTART;TZID=US/Eastern:20251114T091500
DTEND;TZID=US/Eastern:20251114T094500
DTSTAMP:20260424T092455
CREATED:20250902T174929Z
LAST-MODIFIED:20251113T181004Z
UID:10006125-1763111700-1763113500@tbsneedham.org
SUMMARY:Bag Lunches and Breakfast Items for Homeless Shelters
DESCRIPTION:Join TBS Social Action for our 6th year of donating bag lunches\, snacks and breakfast foods to guests in the Father Bill’s network of homeless shelters in Brockton! EVERY MONTH we commit to donating100 bag lunches\, snacks and breakfast foods\, providing immediate and measurable impact. This is a great project for individuals or families! We will collect donations between 9:15 and 9:45am on the Webster side of the TBS front parking lot. Drive right up and we will unload your bagged items from your car. We appreciate your on-time drop-off as we depart for Brockton delivery immediately following the collection. Can’t make it to the collection? No problem! Non-perishable donations may be dropped at a Needham address prior to the collection day. Details in the sign-up link. Thank you for helping to feed the stranger in our midst.\nPlease email us at socialaction@tbsneedham.org with any questions\, to arrange to make your non-perishable donation at a Needham address prior to the collection or to request to be added to the TBS Social Action mailing list.
URL:https://tbsneedham.org/event/bag-lunches-and-breakfast-items-for-homeless-shelters-15/
LOCATION:Parking Lot (Front)
CATEGORIES:Events,Social Action
END:VEVENT
BEGIN:VEVENT
DTSTART;TZID=US/Eastern:20251124T180000
DTEND;TZID=US/Eastern:20251124T200000
DTSTAMP:20260424T092455
CREATED:20251001T152922Z
LAST-MODIFIED:20251124T195314Z
UID:10006227-1764007200-1764014400@tbsneedham.org
SUMMARY:Thanksgiving Pie Bake
DESCRIPTION:Join TBS Social Action for our 7th annual Thanksgiving Apple Pie Bake! We will make pies to brighten Thanksgiving for the Allston Brighton Food Pantry’s Thanksgiving community dinner and for the Needham Police and Fire Departments who serve us year-round! Together\, we will peel\, core and slice apples\, fill pre-made crusts and make the crumb topping. We will take care of the baking\, making this a great activity for families (5 years and older with an adult) and any adults of any age who want to have fun doing a mitzvah as a community! This multi-generational event will not only bring joy to the recipients but is always fun and impactful! Questions? Contact Social Action.
URL:https://tbsneedham.org/event/thanksgiving-pie-bake/
LOCATION:Simon Hall
CATEGORIES:Events,Social Action
END:VEVENT
END:VCALENDAR