BEGIN:VCALENDAR
VERSION:2.0
PRODID:-//Temple Beth Shalom - ECPv6.15.17.1//NONSGML v1.0//EN
CALSCALE:GREGORIAN
METHOD:PUBLISH
X-WR-CALNAME:Temple Beth Shalom
X-ORIGINAL-URL:https://tbsneedham.org
X-WR-CALDESC:Events for Temple Beth Shalom
REFRESH-INTERVAL;VALUE=DURATION:PT1H
X-Robots-Tag:noindex
X-PUBLISHED-TTL:PT1H
BEGIN:VTIMEZONE
TZID:US/Eastern
BEGIN:DAYLIGHT
TZOFFSETFROM:-0500
TZOFFSETTO:-0400
TZNAME:EDT
DTSTART:20240310T070000
END:DAYLIGHT
BEGIN:STANDARD
TZOFFSETFROM:-0400
TZOFFSETTO:-0500
TZNAME:EST
DTSTART:20241103T060000
END:STANDARD
BEGIN:DAYLIGHT
TZOFFSETFROM:-0500
TZOFFSETTO:-0400
TZNAME:EDT
DTSTART:20250309T070000
END:DAYLIGHT
BEGIN:STANDARD
TZOFFSETFROM:-0400
TZOFFSETTO:-0500
TZNAME:EST
DTSTART:20251102T060000
END:STANDARD
BEGIN:DAYLIGHT
TZOFFSETFROM:-0500
TZOFFSETTO:-0400
TZNAME:EDT
DTSTART:20260308T070000
END:DAYLIGHT
BEGIN:STANDARD
TZOFFSETFROM:-0400
TZOFFSETTO:-0500
TZNAME:EST
DTSTART:20261101T060000
END:STANDARD
END:VTIMEZONE
BEGIN:VEVENT
DTSTART;TZID=US/Eastern:20250110T173000
DTEND;TZID=US/Eastern:20250110T180000
DTSTAMP:20260424T141137
CREATED:20241226T203045Z
LAST-MODIFIED:20250414T150629Z
UID:10001738-1736530200-1736532000@tbsneedham.org
SUMMARY:Tot Shabbat Service
DESCRIPTION:
URL:https://tbsneedham.org/event/tot-shabbat-service/
LOCATION:Sanctuary
CATEGORIES:Families with Young Children,Worship
END:VEVENT
BEGIN:VEVENT
DTSTART;TZID=US/Eastern:20250110T181500
DTEND;TZID=US/Eastern:20250110T194500
DTSTAMP:20260424T141137
CREATED:20241224T171949Z
LAST-MODIFIED:20250414T150629Z
UID:10001516-1736532900-1736538300@tbsneedham.org
SUMMARY:Erev Shabbat Service with Rabbi Miriam Klimova from Haifa
DESCRIPTION:If you are a temple member\, please check your Shabbat Shalom email for the livestream link. \nWe are honored to welcome Rabbi Miriam Klimova to Temple Beth Shalom. Rabbi Klimova serves Congregation Shirat HaYam in Haifa. Born and raised in Ukraine\, she grew up in a Reform congregation where she was active in her community. Rabbi Klimova’s studies took her to Moscow and Poland where she served as both a prayer leader and gifted teacher. In 2018\, Rabbi Klimova made aliyah to Israel and was ordained as a rabbi from the Hebrew Union College – Jewish Institute of Religion. At Shirat HaYam\, Rabbi Klimova works closely with the Russian-speaking and Ukrainian-speaking Jewish communities\, creating a meaningful spiritual home for Israelis of all backgrounds. Please join us for what promises to be a special evening.
URL:https://tbsneedham.org/event/erev-shabbat-service-3/
LOCATION:Sanctuary
CATEGORIES:Worship
END:VEVENT
END:VCALENDAR