BEGIN:VCALENDAR
VERSION:2.0
PRODID:-//Temple Beth Shalom - ECPv6.15.17.1//NONSGML v1.0//EN
CALSCALE:GREGORIAN
METHOD:PUBLISH
X-ORIGINAL-URL:https://tbsneedham.org
X-WR-CALDESC:Events for Temple Beth Shalom
REFRESH-INTERVAL;VALUE=DURATION:PT1H
X-Robots-Tag:noindex
X-PUBLISHED-TTL:PT1H
BEGIN:VTIMEZONE
TZID:America/New_York
BEGIN:DAYLIGHT
TZOFFSETFROM:-0500
TZOFFSETTO:-0400
TZNAME:EDT
DTSTART:20240310T070000
END:DAYLIGHT
BEGIN:STANDARD
TZOFFSETFROM:-0400
TZOFFSETTO:-0500
TZNAME:EST
DTSTART:20241103T060000
END:STANDARD
BEGIN:DAYLIGHT
TZOFFSETFROM:-0500
TZOFFSETTO:-0400
TZNAME:EDT
DTSTART:20250309T070000
END:DAYLIGHT
BEGIN:STANDARD
TZOFFSETFROM:-0400
TZOFFSETTO:-0500
TZNAME:EST
DTSTART:20251102T060000
END:STANDARD
BEGIN:DAYLIGHT
TZOFFSETFROM:-0500
TZOFFSETTO:-0400
TZNAME:EDT
DTSTART:20260308T070000
END:DAYLIGHT
BEGIN:STANDARD
TZOFFSETFROM:-0400
TZOFFSETTO:-0500
TZNAME:EST
DTSTART:20261101T060000
END:STANDARD
END:VTIMEZONE
BEGIN:VEVENT
DTSTART;TZID=America/New_York:20250621T083000
DTEND;TZID=America/New_York:20250621T090000
DTSTAMP:20260421T180439
CREATED:20250102T180658Z
LAST-MODIFIED:20250709T163958Z
UID:10003957-1750494600-1750496400@tbsneedham.org
SUMMARY:Lay-Led Shabbat Morning Service
DESCRIPTION:Join in virtually\, or join us in person in the Beit Midrash! Please refer to your Shabbat Shalom email for the Zoom information.
URL:https://tbsneedham.org/event/lay-led-shabbat-morning-service-27/2025-06-21/
CATEGORIES:Worship
END:VEVENT
BEGIN:VEVENT
DTSTART;TZID=America/New_York:20250621T091500
DTEND;TZID=America/New_York:20250621T101500
DTSTAMP:20260421T180439
CREATED:20250603T145228Z
LAST-MODIFIED:20250603T145334Z
UID:10004650-1750497300-1750500900@tbsneedham.org
SUMMARY:Torah Study
DESCRIPTION:No previous experience with Torah study is required…just an open mind and a desire to learn more! \nAll are welcome as we join together for a special Shabbat morning Torah Study in honor of beloved longstanding TBS Lay Leader\, Dave Berg.  Since joining TBS in 1958\, Dave has helped shape the life of our community. Dave’s care for people\, devotion to Jewish values\, and dedication to prayer and learning have inspired his leadership over the years.  A highly respected engineer\, Dave actively consulted on every TBS building project since he and his beloved Shirley\, of blessed memory\, became part of the congregation.  Our learning will focus on the Torah portion-of-the-week known as Sh’lach L’cha (Numbers 13:1ff).  This is the Torah portion that Dave read when he became Bar Mitzvah in 1945!  A delicious buffet breakfast will be served.
URL:https://tbsneedham.org/event/torah-study-29-2/
CATEGORIES:Worship
ATTACH;FMTTYPE=image/webp:https://tbsneedham.org/wp-content/uploads/2024/11/Morning-Minyan.webp
END:VEVENT
END:VCALENDAR