BEGIN:VCALENDAR
VERSION:2.0
PRODID:-//Temple Beth Shalom - ECPv6.15.17.1//NONSGML v1.0//EN
CALSCALE:GREGORIAN
METHOD:PUBLISH
X-ORIGINAL-URL:https://tbsneedham.org
X-WR-CALDESC:Events for Temple Beth Shalom
REFRESH-INTERVAL;VALUE=DURATION:PT1H
X-Robots-Tag:noindex
X-PUBLISHED-TTL:PT1H
BEGIN:VTIMEZONE
TZID:US/Eastern
BEGIN:DAYLIGHT
TZOFFSETFROM:-0500
TZOFFSETTO:-0400
TZNAME:EDT
DTSTART:20250309T070000
END:DAYLIGHT
BEGIN:STANDARD
TZOFFSETFROM:-0400
TZOFFSETTO:-0500
TZNAME:EST
DTSTART:20251102T060000
END:STANDARD
BEGIN:DAYLIGHT
TZOFFSETFROM:-0500
TZOFFSETTO:-0400
TZNAME:EDT
DTSTART:20260308T070000
END:DAYLIGHT
BEGIN:STANDARD
TZOFFSETFROM:-0400
TZOFFSETTO:-0500
TZNAME:EST
DTSTART:20261101T060000
END:STANDARD
BEGIN:DAYLIGHT
TZOFFSETFROM:-0500
TZOFFSETTO:-0400
TZNAME:EDT
DTSTART:20270314T070000
END:DAYLIGHT
BEGIN:STANDARD
TZOFFSETFROM:-0400
TZOFFSETTO:-0500
TZNAME:EST
DTSTART:20271107T060000
END:STANDARD
END:VTIMEZONE
BEGIN:VTIMEZONE
TZID:America/New_York
BEGIN:DAYLIGHT
TZOFFSETFROM:-0500
TZOFFSETTO:-0400
TZNAME:EDT
DTSTART:20250309T070000
END:DAYLIGHT
BEGIN:STANDARD
TZOFFSETFROM:-0400
TZOFFSETTO:-0500
TZNAME:EST
DTSTART:20251102T060000
END:STANDARD
BEGIN:DAYLIGHT
TZOFFSETFROM:-0500
TZOFFSETTO:-0400
TZNAME:EDT
DTSTART:20260308T070000
END:DAYLIGHT
BEGIN:STANDARD
TZOFFSETFROM:-0400
TZOFFSETTO:-0500
TZNAME:EST
DTSTART:20261101T060000
END:STANDARD
BEGIN:DAYLIGHT
TZOFFSETFROM:-0500
TZOFFSETTO:-0400
TZNAME:EDT
DTSTART:20270314T070000
END:DAYLIGHT
BEGIN:STANDARD
TZOFFSETFROM:-0400
TZOFFSETTO:-0500
TZNAME:EST
DTSTART:20271107T060000
END:STANDARD
END:VTIMEZONE
BEGIN:VEVENT
DTSTART;TZID=US/Eastern:20260508T173000
DTEND;TZID=US/Eastern:20260508T180000
DTSTAMP:20260419T110600
CREATED:20250815T153331Z
LAST-MODIFIED:20260418T212545Z
UID:10005211-1778261400-1778263200@tbsneedham.org
SUMMARY:Tot Shabbat Service
DESCRIPTION:Contact: Ellen Dietrick
URL:https://tbsneedham.org/event/tot-shabbat-service-5/
LOCATION:Sanctuary
CATEGORIES:Families with Young Children,Worship
END:VEVENT
BEGIN:VEVENT
DTSTART;TZID=America/New_York:20260508T181500
DTEND;TZID=America/New_York:20260508T194500
DTSTAMP:20260419T110600
CREATED:20250102T180530Z
LAST-MODIFIED:20250709T170642Z
UID:10005636-1778264100-1778269500@tbsneedham.org
SUMMARY:Erev Shabbat Service
DESCRIPTION:If you are a TBS member who would like to join us virtually\, please check your Shabbat Shalom email for the link.
URL:https://tbsneedham.org/event/erev-shabbat-service-26/2026-05-08/
CATEGORIES:Worship
END:VEVENT
BEGIN:VEVENT
DTSTART;TZID=America/New_York:20260509T083000
DTEND;TZID=America/New_York:20260509T090000
DTSTAMP:20260419T110600
CREATED:20250709T164758Z
LAST-MODIFIED:20250709T164759Z
UID:10005279-1778315400-1778317200@tbsneedham.org
SUMMARY:Lay-Led Shabbat Morning Service
DESCRIPTION:Join in virtually\, or join us in person in the Beit Midrash! Please refer to your Shabbat Shalom email for the Zoom information.
URL:https://tbsneedham.org/event/lay-led-shabbat-morning-service-27-2/2026-05-09/
CATEGORIES:Worship
END:VEVENT
BEGIN:VEVENT
DTSTART;TZID=America/New_York:20260509T091500
DTEND;TZID=America/New_York:20260509T101500
DTSTAMP:20260419T110600
CREATED:20250102T162833Z
LAST-MODIFIED:20250709T165122Z
UID:10005584-1778318100-1778321700@tbsneedham.org
SUMMARY:Torah Study
DESCRIPTION:No previous experience with Torah study is required…just an open mind and a desire to learn more!
URL:https://tbsneedham.org/event/torah-study-29/2026-05-09/
CATEGORIES:Worship
ATTACH;FMTTYPE=image/webp:https://tbsneedham.org/wp-content/uploads/2024/11/Morning-Minyan.webp
END:VEVENT
BEGIN:VEVENT
DTSTART;TZID=America/New_York:20260511T070000
DTEND;TZID=America/New_York:20260511T073000
DTSTAMP:20260419T110600
CREATED:20250102T180302Z
LAST-MODIFIED:20250709T164130Z
UID:10005376-1778482800-1778484600@tbsneedham.org
SUMMARY:Lay-Led Morning Minyan
DESCRIPTION:Members of our community gather virtually for a warm and inclusive lay-led service.  These services take place even if there are fewer than ten participants\, last about 20-30 minutes\, and are a meaningful way to start your day. \nPlease join us in person; we are no longer meeting virtually.
URL:https://tbsneedham.org/event/lay-led-morning-minyan-53/2026-05-11/
CATEGORIES:Worship
END:VEVENT
BEGIN:VEVENT
DTSTART;TZID=America/New_York:20260514T070000
DTEND;TZID=America/New_York:20260514T073000
DTSTAMP:20260419T110600
CREATED:20250102T180302Z
LAST-MODIFIED:20250709T164130Z
UID:10005377-1778742000-1778743800@tbsneedham.org
SUMMARY:Lay-Led Morning Minyan
DESCRIPTION:Members of our community gather virtually for a warm and inclusive lay-led service.  These services take place even if there are fewer than ten participants\, last about 20-30 minutes\, and are a meaningful way to start your day. \nPlease join us in person; we are no longer meeting virtually.
URL:https://tbsneedham.org/event/lay-led-morning-minyan-53/2026-05-14/
CATEGORIES:Worship
END:VEVENT
BEGIN:VEVENT
DTSTART;TZID=America/New_York:20260515T181500
DTEND;TZID=America/New_York:20260515T194500
DTSTAMP:20260419T110600
CREATED:20250102T180530Z
LAST-MODIFIED:20250709T170642Z
UID:10005637-1778868900-1778874300@tbsneedham.org
SUMMARY:Erev Shabbat Service
DESCRIPTION:If you are a TBS member who would like to join us virtually\, please check your Shabbat Shalom email for the link.
URL:https://tbsneedham.org/event/erev-shabbat-service-26/2026-05-15/
CATEGORIES:Worship
END:VEVENT
BEGIN:VEVENT
DTSTART;TZID=America/New_York:20260516T083000
DTEND;TZID=America/New_York:20260516T090000
DTSTAMP:20260419T110600
CREATED:20250709T164758Z
LAST-MODIFIED:20250709T164759Z
UID:10005280-1778920200-1778922000@tbsneedham.org
SUMMARY:Lay-Led Shabbat Morning Service
DESCRIPTION:Join in virtually\, or join us in person in the Beit Midrash! Please refer to your Shabbat Shalom email for the Zoom information.
URL:https://tbsneedham.org/event/lay-led-shabbat-morning-service-27-2/2026-05-16/
CATEGORIES:Worship
END:VEVENT
BEGIN:VEVENT
DTSTART;TZID=America/New_York:20260516T091500
DTEND;TZID=America/New_York:20260516T101500
DTSTAMP:20260419T110600
CREATED:20250102T162833Z
LAST-MODIFIED:20250709T165122Z
UID:10005585-1778922900-1778926500@tbsneedham.org
SUMMARY:Torah Study
DESCRIPTION:No previous experience with Torah study is required…just an open mind and a desire to learn more!
URL:https://tbsneedham.org/event/torah-study-29/2026-05-16/
CATEGORIES:Worship
ATTACH;FMTTYPE=image/webp:https://tbsneedham.org/wp-content/uploads/2024/11/Morning-Minyan.webp
END:VEVENT
BEGIN:VEVENT
DTSTART;TZID=America/New_York:20260518T070000
DTEND;TZID=America/New_York:20260518T073000
DTSTAMP:20260419T110600
CREATED:20250102T180302Z
LAST-MODIFIED:20250709T164130Z
UID:10005378-1779087600-1779089400@tbsneedham.org
SUMMARY:Lay-Led Morning Minyan
DESCRIPTION:Members of our community gather virtually for a warm and inclusive lay-led service.  These services take place even if there are fewer than ten participants\, last about 20-30 minutes\, and are a meaningful way to start your day. \nPlease join us in person; we are no longer meeting virtually.
URL:https://tbsneedham.org/event/lay-led-morning-minyan-53/2026-05-18/
CATEGORIES:Worship
END:VEVENT
BEGIN:VEVENT
DTSTART;TZID=America/New_York:20260521T070000
DTEND;TZID=America/New_York:20260521T073000
DTSTAMP:20260419T110600
CREATED:20250102T180302Z
LAST-MODIFIED:20250709T164130Z
UID:10005379-1779346800-1779348600@tbsneedham.org
SUMMARY:Lay-Led Morning Minyan
DESCRIPTION:Members of our community gather virtually for a warm and inclusive lay-led service.  These services take place even if there are fewer than ten participants\, last about 20-30 minutes\, and are a meaningful way to start your day. \nPlease join us in person; we are no longer meeting virtually.
URL:https://tbsneedham.org/event/lay-led-morning-minyan-53/2026-05-21/
CATEGORIES:Worship
END:VEVENT
BEGIN:VEVENT
DTSTART;TZID=America/New_York:20260522T181500
DTEND;TZID=America/New_York:20260522T194500
DTSTAMP:20260419T110600
CREATED:20250102T180530Z
LAST-MODIFIED:20250709T170642Z
UID:10005638-1779473700-1779479100@tbsneedham.org
SUMMARY:Erev Shabbat Service
DESCRIPTION:If you are a TBS member who would like to join us virtually\, please check your Shabbat Shalom email for the link.
URL:https://tbsneedham.org/event/erev-shabbat-service-26/2026-05-22/
CATEGORIES:Worship
END:VEVENT
BEGIN:VEVENT
DTSTART;TZID=America/New_York:20260523T083000
DTEND;TZID=America/New_York:20260523T090000
DTSTAMP:20260419T110600
CREATED:20250709T164758Z
LAST-MODIFIED:20250709T164759Z
UID:10005281-1779525000-1779526800@tbsneedham.org
SUMMARY:Lay-Led Shabbat Morning Service
DESCRIPTION:Join in virtually\, or join us in person in the Beit Midrash! Please refer to your Shabbat Shalom email for the Zoom information.
URL:https://tbsneedham.org/event/lay-led-shabbat-morning-service-27-2/2026-05-23/
CATEGORIES:Worship
END:VEVENT
BEGIN:VEVENT
DTSTART;TZID=America/New_York:20260523T091500
DTEND;TZID=America/New_York:20260523T101500
DTSTAMP:20260419T110600
CREATED:20250102T162833Z
LAST-MODIFIED:20250709T165122Z
UID:10005586-1779527700-1779531300@tbsneedham.org
SUMMARY:Torah Study
DESCRIPTION:No previous experience with Torah study is required…just an open mind and a desire to learn more!
URL:https://tbsneedham.org/event/torah-study-29/2026-05-23/
CATEGORIES:Worship
ATTACH;FMTTYPE=image/webp:https://tbsneedham.org/wp-content/uploads/2024/11/Morning-Minyan.webp
END:VEVENT
BEGIN:VEVENT
DTSTART;TZID=America/New_York:20260525T070000
DTEND;TZID=America/New_York:20260525T073000
DTSTAMP:20260419T110600
CREATED:20250102T180302Z
LAST-MODIFIED:20250709T164130Z
UID:10005380-1779692400-1779694200@tbsneedham.org
SUMMARY:Lay-Led Morning Minyan
DESCRIPTION:Members of our community gather virtually for a warm and inclusive lay-led service.  These services take place even if there are fewer than ten participants\, last about 20-30 minutes\, and are a meaningful way to start your day. \nPlease join us in person; we are no longer meeting virtually.
URL:https://tbsneedham.org/event/lay-led-morning-minyan-53/2026-05-25/
CATEGORIES:Worship
END:VEVENT
BEGIN:VEVENT
DTSTART;TZID=America/New_York:20260528T070000
DTEND;TZID=America/New_York:20260528T073000
DTSTAMP:20260419T110600
CREATED:20250102T180302Z
LAST-MODIFIED:20250709T164130Z
UID:10005381-1779951600-1779953400@tbsneedham.org
SUMMARY:Lay-Led Morning Minyan
DESCRIPTION:Members of our community gather virtually for a warm and inclusive lay-led service.  These services take place even if there are fewer than ten participants\, last about 20-30 minutes\, and are a meaningful way to start your day. \nPlease join us in person; we are no longer meeting virtually.
URL:https://tbsneedham.org/event/lay-led-morning-minyan-53/2026-05-28/
CATEGORIES:Worship
END:VEVENT
BEGIN:VEVENT
DTSTART;TZID=America/New_York:20260529T181500
DTEND;TZID=America/New_York:20260529T194500
DTSTAMP:20260419T110600
CREATED:20250102T180530Z
LAST-MODIFIED:20250709T170642Z
UID:10005639-1780078500-1780083900@tbsneedham.org
SUMMARY:Erev Shabbat Service
DESCRIPTION:If you are a TBS member who would like to join us virtually\, please check your Shabbat Shalom email for the link.
URL:https://tbsneedham.org/event/erev-shabbat-service-26/2026-05-29/
CATEGORIES:Worship
END:VEVENT
BEGIN:VEVENT
DTSTART;TZID=America/New_York:20260530T083000
DTEND;TZID=America/New_York:20260530T090000
DTSTAMP:20260419T110600
CREATED:20250709T164758Z
LAST-MODIFIED:20250709T164759Z
UID:10005282-1780129800-1780131600@tbsneedham.org
SUMMARY:Lay-Led Shabbat Morning Service
DESCRIPTION:Join in virtually\, or join us in person in the Beit Midrash! Please refer to your Shabbat Shalom email for the Zoom information.
URL:https://tbsneedham.org/event/lay-led-shabbat-morning-service-27-2/2026-05-30/
CATEGORIES:Worship
END:VEVENT
BEGIN:VEVENT
DTSTART;TZID=America/New_York:20260530T091500
DTEND;TZID=America/New_York:20260530T101500
DTSTAMP:20260419T110600
CREATED:20250102T162833Z
LAST-MODIFIED:20250709T165122Z
UID:10005587-1780132500-1780136100@tbsneedham.org
SUMMARY:Torah Study
DESCRIPTION:No previous experience with Torah study is required…just an open mind and a desire to learn more!
URL:https://tbsneedham.org/event/torah-study-29/2026-05-30/
CATEGORIES:Worship
ATTACH;FMTTYPE=image/webp:https://tbsneedham.org/wp-content/uploads/2024/11/Morning-Minyan.webp
END:VEVENT
BEGIN:VEVENT
DTSTART;TZID=America/New_York:20260601T070000
DTEND;TZID=America/New_York:20260601T073000
DTSTAMP:20260419T110600
CREATED:20250102T180302Z
LAST-MODIFIED:20250709T164130Z
UID:10005382-1780297200-1780299000@tbsneedham.org
SUMMARY:Lay-Led Morning Minyan
DESCRIPTION:Members of our community gather virtually for a warm and inclusive lay-led service.  These services take place even if there are fewer than ten participants\, last about 20-30 minutes\, and are a meaningful way to start your day. \nPlease join us in person; we are no longer meeting virtually.
URL:https://tbsneedham.org/event/lay-led-morning-minyan-53/2026-06-01/
CATEGORIES:Worship
END:VEVENT
BEGIN:VEVENT
DTSTART;TZID=America/New_York:20260604T070000
DTEND;TZID=America/New_York:20260604T073000
DTSTAMP:20260419T110600
CREATED:20250102T180302Z
LAST-MODIFIED:20250709T164130Z
UID:10005383-1780556400-1780558200@tbsneedham.org
SUMMARY:Lay-Led Morning Minyan
DESCRIPTION:Members of our community gather virtually for a warm and inclusive lay-led service.  These services take place even if there are fewer than ten participants\, last about 20-30 minutes\, and are a meaningful way to start your day. \nPlease join us in person; we are no longer meeting virtually.
URL:https://tbsneedham.org/event/lay-led-morning-minyan-53/2026-06-04/
CATEGORIES:Worship
END:VEVENT
BEGIN:VEVENT
DTSTART;TZID=America/New_York:20260605T181500
DTEND;TZID=America/New_York:20260605T194500
DTSTAMP:20260419T110600
CREATED:20250102T180530Z
LAST-MODIFIED:20250709T170642Z
UID:10005640-1780683300-1780688700@tbsneedham.org
SUMMARY:Erev Shabbat Service
DESCRIPTION:If you are a TBS member who would like to join us virtually\, please check your Shabbat Shalom email for the link.
URL:https://tbsneedham.org/event/erev-shabbat-service-26/2026-06-05/
CATEGORIES:Worship
END:VEVENT
BEGIN:VEVENT
DTSTART;TZID=America/New_York:20260606T083000
DTEND;TZID=America/New_York:20260606T090000
DTSTAMP:20260419T110600
CREATED:20250709T164758Z
LAST-MODIFIED:20250709T164759Z
UID:10005283-1780734600-1780736400@tbsneedham.org
SUMMARY:Lay-Led Shabbat Morning Service
DESCRIPTION:Join in virtually\, or join us in person in the Beit Midrash! Please refer to your Shabbat Shalom email for the Zoom information.
URL:https://tbsneedham.org/event/lay-led-shabbat-morning-service-27-2/2026-06-06/
CATEGORIES:Worship
END:VEVENT
BEGIN:VEVENT
DTSTART;TZID=America/New_York:20260606T091500
DTEND;TZID=America/New_York:20260606T101500
DTSTAMP:20260419T110600
CREATED:20250102T162833Z
LAST-MODIFIED:20250709T165122Z
UID:10005588-1780737300-1780740900@tbsneedham.org
SUMMARY:Torah Study
DESCRIPTION:No previous experience with Torah study is required…just an open mind and a desire to learn more!
URL:https://tbsneedham.org/event/torah-study-29/2026-06-06/
CATEGORIES:Worship
ATTACH;FMTTYPE=image/webp:https://tbsneedham.org/wp-content/uploads/2024/11/Morning-Minyan.webp
END:VEVENT
BEGIN:VEVENT
DTSTART;TZID=America/New_York:20260608T070000
DTEND;TZID=America/New_York:20260608T073000
DTSTAMP:20260419T110600
CREATED:20250102T180302Z
LAST-MODIFIED:20250709T164130Z
UID:10005384-1780902000-1780903800@tbsneedham.org
SUMMARY:Lay-Led Morning Minyan
DESCRIPTION:Members of our community gather virtually for a warm and inclusive lay-led service.  These services take place even if there are fewer than ten participants\, last about 20-30 minutes\, and are a meaningful way to start your day. \nPlease join us in person; we are no longer meeting virtually.
URL:https://tbsneedham.org/event/lay-led-morning-minyan-53/2026-06-08/
CATEGORIES:Worship
END:VEVENT
BEGIN:VEVENT
DTSTART;TZID=America/New_York:20260611T070000
DTEND;TZID=America/New_York:20260611T073000
DTSTAMP:20260419T110600
CREATED:20250102T180302Z
LAST-MODIFIED:20250709T164130Z
UID:10005385-1781161200-1781163000@tbsneedham.org
SUMMARY:Lay-Led Morning Minyan
DESCRIPTION:Members of our community gather virtually for a warm and inclusive lay-led service.  These services take place even if there are fewer than ten participants\, last about 20-30 minutes\, and are a meaningful way to start your day. \nPlease join us in person; we are no longer meeting virtually.
URL:https://tbsneedham.org/event/lay-led-morning-minyan-53/2026-06-11/
CATEGORIES:Worship
END:VEVENT
BEGIN:VEVENT
DTSTART;TZID=America/New_York:20260612T181500
DTEND;TZID=America/New_York:20260612T194500
DTSTAMP:20260419T110600
CREATED:20250102T180530Z
LAST-MODIFIED:20250709T170642Z
UID:10005641-1781288100-1781293500@tbsneedham.org
SUMMARY:Erev Shabbat Service
DESCRIPTION:If you are a TBS member who would like to join us virtually\, please check your Shabbat Shalom email for the link.
URL:https://tbsneedham.org/event/erev-shabbat-service-26/2026-06-12/
CATEGORIES:Worship
END:VEVENT
BEGIN:VEVENT
DTSTART;TZID=America/New_York:20260613T083000
DTEND;TZID=America/New_York:20260613T090000
DTSTAMP:20260419T110600
CREATED:20250709T164758Z
LAST-MODIFIED:20250709T164759Z
UID:10005284-1781339400-1781341200@tbsneedham.org
SUMMARY:Lay-Led Shabbat Morning Service
DESCRIPTION:Join in virtually\, or join us in person in the Beit Midrash! Please refer to your Shabbat Shalom email for the Zoom information.
URL:https://tbsneedham.org/event/lay-led-shabbat-morning-service-27-2/2026-06-13/
CATEGORIES:Worship
END:VEVENT
BEGIN:VEVENT
DTSTART;TZID=America/New_York:20260613T091500
DTEND;TZID=America/New_York:20260613T101500
DTSTAMP:20260419T110600
CREATED:20250102T162833Z
LAST-MODIFIED:20250709T165122Z
UID:10005589-1781342100-1781345700@tbsneedham.org
SUMMARY:Torah Study
DESCRIPTION:No previous experience with Torah study is required…just an open mind and a desire to learn more!
URL:https://tbsneedham.org/event/torah-study-29/2026-06-13/
CATEGORIES:Worship
ATTACH;FMTTYPE=image/webp:https://tbsneedham.org/wp-content/uploads/2024/11/Morning-Minyan.webp
END:VEVENT
BEGIN:VEVENT
DTSTART;TZID=America/New_York:20260615T070000
DTEND;TZID=America/New_York:20260615T073000
DTSTAMP:20260419T110600
CREATED:20250102T180302Z
LAST-MODIFIED:20250709T164130Z
UID:10005386-1781506800-1781508600@tbsneedham.org
SUMMARY:Lay-Led Morning Minyan
DESCRIPTION:Members of our community gather virtually for a warm and inclusive lay-led service.  These services take place even if there are fewer than ten participants\, last about 20-30 minutes\, and are a meaningful way to start your day. \nPlease join us in person; we are no longer meeting virtually.
URL:https://tbsneedham.org/event/lay-led-morning-minyan-53/2026-06-15/
CATEGORIES:Worship
END:VEVENT
END:VCALENDAR