BEGIN:VCALENDAR
VERSION:2.0
PRODID:-//Temple Beth Shalom - ECPv6.15.17.1//NONSGML v1.0//EN
CALSCALE:GREGORIAN
METHOD:PUBLISH
X-WR-CALNAME:Temple Beth Shalom
X-ORIGINAL-URL:https://tbsneedham.org
X-WR-CALDESC:Events for Temple Beth Shalom
REFRESH-INTERVAL;VALUE=DURATION:PT1H
X-Robots-Tag:noindex
X-PUBLISHED-TTL:PT1H
BEGIN:VTIMEZONE
TZID:America/New_York
BEGIN:DAYLIGHT
TZOFFSETFROM:-0500
TZOFFSETTO:-0400
TZNAME:EDT
DTSTART:20290311T070000
END:DAYLIGHT
BEGIN:STANDARD
TZOFFSETFROM:-0400
TZOFFSETTO:-0500
TZNAME:EST
DTSTART:20291104T060000
END:STANDARD
BEGIN:DAYLIGHT
TZOFFSETFROM:-0500
TZOFFSETTO:-0400
TZNAME:EDT
DTSTART:20300310T070000
END:DAYLIGHT
BEGIN:STANDARD
TZOFFSETFROM:-0400
TZOFFSETTO:-0500
TZNAME:EST
DTSTART:20301103T060000
END:STANDARD
BEGIN:DAYLIGHT
TZOFFSETFROM:-0500
TZOFFSETTO:-0400
TZNAME:EDT
DTSTART:20310309T070000
END:DAYLIGHT
BEGIN:STANDARD
TZOFFSETFROM:-0400
TZOFFSETTO:-0500
TZNAME:EST
DTSTART:20311102T060000
END:STANDARD
BEGIN:DAYLIGHT
TZOFFSETFROM:-0500
TZOFFSETTO:-0400
TZNAME:EDT
DTSTART:20320314T070000
END:DAYLIGHT
BEGIN:STANDARD
TZOFFSETFROM:-0400
TZOFFSETTO:-0500
TZNAME:EST
DTSTART:20321107T060000
END:STANDARD
END:VTIMEZONE
BEGIN:VEVENT
DTSTART;TZID=America/New_York:20300802T181500
DTEND;TZID=America/New_York:20300802T194500
DTSTAMP:20260421T175546
CREATED:20250102T180530Z
LAST-MODIFIED:20250709T170642Z
UID:10006236-1911924900-1911930300@tbsneedham.org
SUMMARY:Erev Shabbat Service
DESCRIPTION:If you are a TBS member who would like to join us virtually\, please check your Shabbat Shalom email for the link.
URL:https://tbsneedham.org/event/erev-shabbat-service-26/2030-08-02/
CATEGORIES:Worship
END:VEVENT
BEGIN:VEVENT
DTSTART;TZID=America/New_York:20300809T181500
DTEND;TZID=America/New_York:20300809T194500
DTSTAMP:20260421T175546
CREATED:20250102T180530Z
LAST-MODIFIED:20250709T170642Z
UID:10006237-1912529700-1912535100@tbsneedham.org
SUMMARY:Erev Shabbat Service
DESCRIPTION:If you are a TBS member who would like to join us virtually\, please check your Shabbat Shalom email for the link.
URL:https://tbsneedham.org/event/erev-shabbat-service-26/2030-08-09/
CATEGORIES:Worship
END:VEVENT
BEGIN:VEVENT
DTSTART;TZID=America/New_York:20300816T181500
DTEND;TZID=America/New_York:20300816T194500
DTSTAMP:20260421T175546
CREATED:20250102T180530Z
LAST-MODIFIED:20250709T170642Z
UID:10006238-1913134500-1913139900@tbsneedham.org
SUMMARY:Erev Shabbat Service
DESCRIPTION:If you are a TBS member who would like to join us virtually\, please check your Shabbat Shalom email for the link.
URL:https://tbsneedham.org/event/erev-shabbat-service-26/2030-08-16/
CATEGORIES:Worship
END:VEVENT
BEGIN:VEVENT
DTSTART;TZID=America/New_York:20300823T181500
DTEND;TZID=America/New_York:20300823T194500
DTSTAMP:20260421T175546
CREATED:20250102T180530Z
LAST-MODIFIED:20250709T170642Z
UID:10006239-1913739300-1913744700@tbsneedham.org
SUMMARY:Erev Shabbat Service
DESCRIPTION:If you are a TBS member who would like to join us virtually\, please check your Shabbat Shalom email for the link.
URL:https://tbsneedham.org/event/erev-shabbat-service-26/2030-08-23/
CATEGORIES:Worship
END:VEVENT
BEGIN:VEVENT
DTSTART;TZID=America/New_York:20300830T181500
DTEND;TZID=America/New_York:20300830T194500
DTSTAMP:20260421T175546
CREATED:20250102T180530Z
LAST-MODIFIED:20250709T170642Z
UID:10006240-1914344100-1914349500@tbsneedham.org
SUMMARY:Erev Shabbat Service
DESCRIPTION:If you are a TBS member who would like to join us virtually\, please check your Shabbat Shalom email for the link.
URL:https://tbsneedham.org/event/erev-shabbat-service-26/2030-08-30/
CATEGORIES:Worship
END:VEVENT
BEGIN:VEVENT
DTSTART;TZID=America/New_York:20300906T181500
DTEND;TZID=America/New_York:20300906T194500
DTSTAMP:20260421T175546
CREATED:20250102T180530Z
LAST-MODIFIED:20250709T170642Z
UID:10006241-1914948900-1914954300@tbsneedham.org
SUMMARY:Erev Shabbat Service
DESCRIPTION:If you are a TBS member who would like to join us virtually\, please check your Shabbat Shalom email for the link.
URL:https://tbsneedham.org/event/erev-shabbat-service-26/2030-09-06/
CATEGORIES:Worship
END:VEVENT
BEGIN:VEVENT
DTSTART;TZID=America/New_York:20300913T181500
DTEND;TZID=America/New_York:20300913T194500
DTSTAMP:20260421T175546
CREATED:20250102T180530Z
LAST-MODIFIED:20250709T170642Z
UID:10006242-1915553700-1915559100@tbsneedham.org
SUMMARY:Erev Shabbat Service
DESCRIPTION:If you are a TBS member who would like to join us virtually\, please check your Shabbat Shalom email for the link.
URL:https://tbsneedham.org/event/erev-shabbat-service-26/2030-09-13/
CATEGORIES:Worship
END:VEVENT
BEGIN:VEVENT
DTSTART;TZID=America/New_York:20300920T181500
DTEND;TZID=America/New_York:20300920T194500
DTSTAMP:20260421T175546
CREATED:20250102T180530Z
LAST-MODIFIED:20250709T170642Z
UID:10006341-1916158500-1916163900@tbsneedham.org
SUMMARY:Erev Shabbat Service
DESCRIPTION:If you are a TBS member who would like to join us virtually\, please check your Shabbat Shalom email for the link.
URL:https://tbsneedham.org/event/erev-shabbat-service-26/2030-09-20/
CATEGORIES:Worship
END:VEVENT
BEGIN:VEVENT
DTSTART;TZID=America/New_York:20300927T181500
DTEND;TZID=America/New_York:20300927T194500
DTSTAMP:20260421T175546
CREATED:20250102T180530Z
LAST-MODIFIED:20250709T170642Z
UID:10006342-1916763300-1916768700@tbsneedham.org
SUMMARY:Erev Shabbat Service
DESCRIPTION:If you are a TBS member who would like to join us virtually\, please check your Shabbat Shalom email for the link.
URL:https://tbsneedham.org/event/erev-shabbat-service-26/2030-09-27/
CATEGORIES:Worship
END:VEVENT
BEGIN:VEVENT
DTSTART;TZID=America/New_York:20301004T181500
DTEND;TZID=America/New_York:20301004T194500
DTSTAMP:20260421T175546
CREATED:20250102T180530Z
LAST-MODIFIED:20250709T170642Z
UID:10006343-1917368100-1917373500@tbsneedham.org
SUMMARY:Erev Shabbat Service
DESCRIPTION:If you are a TBS member who would like to join us virtually\, please check your Shabbat Shalom email for the link.
URL:https://tbsneedham.org/event/erev-shabbat-service-26/2030-10-04/
CATEGORIES:Worship
END:VEVENT
BEGIN:VEVENT
DTSTART;TZID=America/New_York:20301011T181500
DTEND;TZID=America/New_York:20301011T194500
DTSTAMP:20260421T175546
CREATED:20250102T180530Z
LAST-MODIFIED:20250709T170642Z
UID:10006344-1917972900-1917978300@tbsneedham.org
SUMMARY:Erev Shabbat Service
DESCRIPTION:If you are a TBS member who would like to join us virtually\, please check your Shabbat Shalom email for the link.
URL:https://tbsneedham.org/event/erev-shabbat-service-26/2030-10-11/
CATEGORIES:Worship
END:VEVENT
BEGIN:VEVENT
DTSTART;TZID=America/New_York:20301018T181500
DTEND;TZID=America/New_York:20301018T194500
DTSTAMP:20260421T175546
CREATED:20250102T180530Z
LAST-MODIFIED:20250709T170642Z
UID:10006345-1918577700-1918583100@tbsneedham.org
SUMMARY:Erev Shabbat Service
DESCRIPTION:If you are a TBS member who would like to join us virtually\, please check your Shabbat Shalom email for the link.
URL:https://tbsneedham.org/event/erev-shabbat-service-26/2030-10-18/
CATEGORIES:Worship
END:VEVENT
BEGIN:VEVENT
DTSTART;TZID=America/New_York:20301025T181500
DTEND;TZID=America/New_York:20301025T194500
DTSTAMP:20260421T175546
CREATED:20250102T180530Z
LAST-MODIFIED:20250709T170642Z
UID:10006346-1919182500-1919187900@tbsneedham.org
SUMMARY:Erev Shabbat Service
DESCRIPTION:If you are a TBS member who would like to join us virtually\, please check your Shabbat Shalom email for the link.
URL:https://tbsneedham.org/event/erev-shabbat-service-26/2030-10-25/
CATEGORIES:Worship
END:VEVENT
BEGIN:VEVENT
DTSTART;TZID=America/New_York:20301101T181500
DTEND;TZID=America/New_York:20301101T194500
DTSTAMP:20260421T175546
CREATED:20250102T180530Z
LAST-MODIFIED:20250709T170642Z
UID:10006513-1919787300-1919792700@tbsneedham.org
SUMMARY:Erev Shabbat Service
DESCRIPTION:If you are a TBS member who would like to join us virtually\, please check your Shabbat Shalom email for the link.
URL:https://tbsneedham.org/event/erev-shabbat-service-26/2030-11-01/
CATEGORIES:Worship
END:VEVENT
BEGIN:VEVENT
DTSTART;TZID=America/New_York:20301108T181500
DTEND;TZID=America/New_York:20301108T194500
DTSTAMP:20260421T175546
CREATED:20250102T180530Z
LAST-MODIFIED:20250709T170642Z
UID:10006514-1920392100-1920397500@tbsneedham.org
SUMMARY:Erev Shabbat Service
DESCRIPTION:If you are a TBS member who would like to join us virtually\, please check your Shabbat Shalom email for the link.
URL:https://tbsneedham.org/event/erev-shabbat-service-26/2030-11-08/
CATEGORIES:Worship
END:VEVENT
BEGIN:VEVENT
DTSTART;TZID=America/New_York:20301115T181500
DTEND;TZID=America/New_York:20301115T194500
DTSTAMP:20260421T175546
CREATED:20250102T180530Z
LAST-MODIFIED:20250709T170642Z
UID:10006515-1920996900-1921002300@tbsneedham.org
SUMMARY:Erev Shabbat Service
DESCRIPTION:If you are a TBS member who would like to join us virtually\, please check your Shabbat Shalom email for the link.
URL:https://tbsneedham.org/event/erev-shabbat-service-26/2030-11-15/
CATEGORIES:Worship
END:VEVENT
BEGIN:VEVENT
DTSTART;TZID=America/New_York:20301122T181500
DTEND;TZID=America/New_York:20301122T194500
DTSTAMP:20260421T175546
CREATED:20250102T180530Z
LAST-MODIFIED:20250709T170642Z
UID:10006516-1921601700-1921607100@tbsneedham.org
SUMMARY:Erev Shabbat Service
DESCRIPTION:If you are a TBS member who would like to join us virtually\, please check your Shabbat Shalom email for the link.
URL:https://tbsneedham.org/event/erev-shabbat-service-26/2030-11-22/
CATEGORIES:Worship
END:VEVENT
BEGIN:VEVENT
DTSTART;TZID=America/New_York:20301129T181500
DTEND;TZID=America/New_York:20301129T194500
DTSTAMP:20260421T175546
CREATED:20250102T180530Z
LAST-MODIFIED:20250709T170642Z
UID:10006517-1922206500-1922211900@tbsneedham.org
SUMMARY:Erev Shabbat Service
DESCRIPTION:If you are a TBS member who would like to join us virtually\, please check your Shabbat Shalom email for the link.
URL:https://tbsneedham.org/event/erev-shabbat-service-26/2030-11-29/
CATEGORIES:Worship
END:VEVENT
BEGIN:VEVENT
DTSTART;TZID=America/New_York:20301206T181500
DTEND;TZID=America/New_York:20301206T194500
DTSTAMP:20260421T175546
CREATED:20250102T180530Z
LAST-MODIFIED:20250709T170642Z
UID:10006518-1922811300-1922816700@tbsneedham.org
SUMMARY:Erev Shabbat Service
DESCRIPTION:If you are a TBS member who would like to join us virtually\, please check your Shabbat Shalom email for the link.
URL:https://tbsneedham.org/event/erev-shabbat-service-26/2030-12-06/
CATEGORIES:Worship
END:VEVENT
BEGIN:VEVENT
DTSTART;TZID=America/New_York:20301213T181500
DTEND;TZID=America/New_York:20301213T194500
DTSTAMP:20260421T175546
CREATED:20250102T180530Z
LAST-MODIFIED:20250709T170642Z
UID:10006519-1923416100-1923421500@tbsneedham.org
SUMMARY:Erev Shabbat Service
DESCRIPTION:If you are a TBS member who would like to join us virtually\, please check your Shabbat Shalom email for the link.
URL:https://tbsneedham.org/event/erev-shabbat-service-26/2030-12-13/
CATEGORIES:Worship
END:VEVENT
BEGIN:VEVENT
DTSTART;TZID=America/New_York:20301220T181500
DTEND;TZID=America/New_York:20301220T194500
DTSTAMP:20260421T175546
CREATED:20250102T180530Z
LAST-MODIFIED:20250709T170642Z
UID:10006520-1924020900-1924026300@tbsneedham.org
SUMMARY:Erev Shabbat Service
DESCRIPTION:If you are a TBS member who would like to join us virtually\, please check your Shabbat Shalom email for the link.
URL:https://tbsneedham.org/event/erev-shabbat-service-26/2030-12-20/
CATEGORIES:Worship
END:VEVENT
BEGIN:VEVENT
DTSTART;TZID=America/New_York:20301227T181500
DTEND;TZID=America/New_York:20301227T194500
DTSTAMP:20260421T175546
CREATED:20250102T180530Z
LAST-MODIFIED:20250709T170642Z
UID:10006521-1924625700-1924631100@tbsneedham.org
SUMMARY:Erev Shabbat Service
DESCRIPTION:If you are a TBS member who would like to join us virtually\, please check your Shabbat Shalom email for the link.
URL:https://tbsneedham.org/event/erev-shabbat-service-26/2030-12-27/
CATEGORIES:Worship
END:VEVENT
BEGIN:VEVENT
DTSTART;TZID=America/New_York:20310103T181500
DTEND;TZID=America/New_York:20310103T194500
DTSTAMP:20260421T175546
CREATED:20250102T180530Z
LAST-MODIFIED:20250709T170642Z
UID:10006522-1925230500-1925235900@tbsneedham.org
SUMMARY:Erev Shabbat Service
DESCRIPTION:If you are a TBS member who would like to join us virtually\, please check your Shabbat Shalom email for the link.
URL:https://tbsneedham.org/event/erev-shabbat-service-26/2031-01-03/
CATEGORIES:Worship
END:VEVENT
BEGIN:VEVENT
DTSTART;TZID=America/New_York:20310110T181500
DTEND;TZID=America/New_York:20310110T194500
DTSTAMP:20260421T175546
CREATED:20250102T180530Z
LAST-MODIFIED:20250709T170642Z
UID:10006523-1925835300-1925840700@tbsneedham.org
SUMMARY:Erev Shabbat Service
DESCRIPTION:If you are a TBS member who would like to join us virtually\, please check your Shabbat Shalom email for the link.
URL:https://tbsneedham.org/event/erev-shabbat-service-26/2031-01-10/
CATEGORIES:Worship
END:VEVENT
BEGIN:VEVENT
DTSTART;TZID=America/New_York:20310117T181500
DTEND;TZID=America/New_York:20310117T194500
DTSTAMP:20260421T175546
CREATED:20250102T180530Z
LAST-MODIFIED:20250709T170642Z
UID:10006524-1926440100-1926445500@tbsneedham.org
SUMMARY:Erev Shabbat Service
DESCRIPTION:If you are a TBS member who would like to join us virtually\, please check your Shabbat Shalom email for the link.
URL:https://tbsneedham.org/event/erev-shabbat-service-26/2031-01-17/
CATEGORIES:Worship
END:VEVENT
BEGIN:VEVENT
DTSTART;TZID=America/New_York:20310124T181500
DTEND;TZID=America/New_York:20310124T194500
DTSTAMP:20260421T175546
CREATED:20250102T180530Z
LAST-MODIFIED:20250709T170642Z
UID:10006525-1927044900-1927050300@tbsneedham.org
SUMMARY:Erev Shabbat Service
DESCRIPTION:If you are a TBS member who would like to join us virtually\, please check your Shabbat Shalom email for the link.
URL:https://tbsneedham.org/event/erev-shabbat-service-26/2031-01-24/
CATEGORIES:Worship
END:VEVENT
BEGIN:VEVENT
DTSTART;TZID=America/New_York:20310131T181500
DTEND;TZID=America/New_York:20310131T194500
DTSTAMP:20260421T175546
CREATED:20250102T180530Z
LAST-MODIFIED:20250709T170642Z
UID:10006526-1927649700-1927655100@tbsneedham.org
SUMMARY:Erev Shabbat Service
DESCRIPTION:If you are a TBS member who would like to join us virtually\, please check your Shabbat Shalom email for the link.
URL:https://tbsneedham.org/event/erev-shabbat-service-26/2031-01-31/
CATEGORIES:Worship
END:VEVENT
BEGIN:VEVENT
DTSTART;TZID=America/New_York:20310207T181500
DTEND;TZID=America/New_York:20310207T194500
DTSTAMP:20260421T175546
CREATED:20250102T180530Z
LAST-MODIFIED:20250709T170642Z
UID:10006527-1928254500-1928259900@tbsneedham.org
SUMMARY:Erev Shabbat Service
DESCRIPTION:If you are a TBS member who would like to join us virtually\, please check your Shabbat Shalom email for the link.
URL:https://tbsneedham.org/event/erev-shabbat-service-26/2031-02-07/
CATEGORIES:Worship
END:VEVENT
BEGIN:VEVENT
DTSTART;TZID=America/New_York:20310214T181500
DTEND;TZID=America/New_York:20310214T194500
DTSTAMP:20260421T175546
CREATED:20250102T180530Z
LAST-MODIFIED:20250709T170642Z
UID:10006528-1928859300-1928864700@tbsneedham.org
SUMMARY:Erev Shabbat Service
DESCRIPTION:If you are a TBS member who would like to join us virtually\, please check your Shabbat Shalom email for the link.
URL:https://tbsneedham.org/event/erev-shabbat-service-26/2031-02-14/
CATEGORIES:Worship
END:VEVENT
BEGIN:VEVENT
DTSTART;TZID=America/New_York:20310221T181500
DTEND;TZID=America/New_York:20310221T194500
DTSTAMP:20260421T175546
CREATED:20250102T180530Z
LAST-MODIFIED:20250709T170642Z
UID:10006529-1929464100-1929469500@tbsneedham.org
SUMMARY:Erev Shabbat Service
DESCRIPTION:If you are a TBS member who would like to join us virtually\, please check your Shabbat Shalom email for the link.
URL:https://tbsneedham.org/event/erev-shabbat-service-26/2031-02-21/
CATEGORIES:Worship
END:VEVENT
END:VCALENDAR