BEGIN:VCALENDAR
VERSION:2.0
PRODID:-//Temple Beth Shalom - ECPv6.15.17.1//NONSGML v1.0//EN
CALSCALE:GREGORIAN
METHOD:PUBLISH
X-ORIGINAL-URL:https://tbsneedham.org
X-WR-CALDESC:Events for Temple Beth Shalom
REFRESH-INTERVAL;VALUE=DURATION:PT1H
X-Robots-Tag:noindex
X-PUBLISHED-TTL:PT1H
BEGIN:VTIMEZONE
TZID:America/New_York
BEGIN:DAYLIGHT
TZOFFSETFROM:-0500
TZOFFSETTO:-0400
TZNAME:EDT
DTSTART:20250309T070000
END:DAYLIGHT
BEGIN:STANDARD
TZOFFSETFROM:-0400
TZOFFSETTO:-0500
TZNAME:EST
DTSTART:20251102T060000
END:STANDARD
BEGIN:DAYLIGHT
TZOFFSETFROM:-0500
TZOFFSETTO:-0400
TZNAME:EDT
DTSTART:20260308T070000
END:DAYLIGHT
BEGIN:STANDARD
TZOFFSETFROM:-0400
TZOFFSETTO:-0500
TZNAME:EST
DTSTART:20261101T060000
END:STANDARD
BEGIN:DAYLIGHT
TZOFFSETFROM:-0500
TZOFFSETTO:-0400
TZNAME:EDT
DTSTART:20270314T070000
END:DAYLIGHT
BEGIN:STANDARD
TZOFFSETFROM:-0400
TZOFFSETTO:-0500
TZNAME:EST
DTSTART:20271107T060000
END:STANDARD
END:VTIMEZONE
BEGIN:VEVENT
DTSTART;TZID=America/New_York:20260611T070000
DTEND;TZID=America/New_York:20260611T073000
DTSTAMP:20260421T162203
CREATED:20250102T180302Z
LAST-MODIFIED:20250709T164130Z
UID:10005385-1781161200-1781163000@tbsneedham.org
SUMMARY:Lay-Led Morning Minyan
DESCRIPTION:Members of our community gather virtually for a warm and inclusive lay-led service.  These services take place even if there are fewer than ten participants\, last about 20-30 minutes\, and are a meaningful way to start your day. \nPlease join us in person; we are no longer meeting virtually.
URL:https://tbsneedham.org/event/lay-led-morning-minyan-53/2026-06-11/
CATEGORIES:Worship
END:VEVENT
BEGIN:VEVENT
DTSTART;TZID=America/New_York:20260612T181500
DTEND;TZID=America/New_York:20260612T194500
DTSTAMP:20260421T162203
CREATED:20250102T180530Z
LAST-MODIFIED:20250709T170642Z
UID:10005641-1781288100-1781293500@tbsneedham.org
SUMMARY:Erev Shabbat Service
DESCRIPTION:If you are a TBS member who would like to join us virtually\, please check your Shabbat Shalom email for the link.
URL:https://tbsneedham.org/event/erev-shabbat-service-26/2026-06-12/
CATEGORIES:Worship
END:VEVENT
BEGIN:VEVENT
DTSTART;TZID=America/New_York:20260613T083000
DTEND;TZID=America/New_York:20260613T090000
DTSTAMP:20260421T162203
CREATED:20250709T164758Z
LAST-MODIFIED:20250709T164759Z
UID:10005284-1781339400-1781341200@tbsneedham.org
SUMMARY:Lay-Led Shabbat Morning Service
DESCRIPTION:Join in virtually\, or join us in person in the Beit Midrash! Please refer to your Shabbat Shalom email for the Zoom information.
URL:https://tbsneedham.org/event/lay-led-shabbat-morning-service-27-2/2026-06-13/
CATEGORIES:Worship
END:VEVENT
BEGIN:VEVENT
DTSTART;TZID=America/New_York:20260613T091500
DTEND;TZID=America/New_York:20260613T101500
DTSTAMP:20260421T162203
CREATED:20250102T162833Z
LAST-MODIFIED:20250709T165122Z
UID:10005589-1781342100-1781345700@tbsneedham.org
SUMMARY:Torah Study
DESCRIPTION:No previous experience with Torah study is required…just an open mind and a desire to learn more!
URL:https://tbsneedham.org/event/torah-study-29/2026-06-13/
CATEGORIES:Worship
ATTACH;FMTTYPE=image/webp:https://tbsneedham.org/wp-content/uploads/2024/11/Morning-Minyan.webp
END:VEVENT
BEGIN:VEVENT
DTSTART;TZID=America/New_York:20260615T070000
DTEND;TZID=America/New_York:20260615T073000
DTSTAMP:20260421T162203
CREATED:20250102T180302Z
LAST-MODIFIED:20250709T164130Z
UID:10005386-1781506800-1781508600@tbsneedham.org
SUMMARY:Lay-Led Morning Minyan
DESCRIPTION:Members of our community gather virtually for a warm and inclusive lay-led service.  These services take place even if there are fewer than ten participants\, last about 20-30 minutes\, and are a meaningful way to start your day. \nPlease join us in person; we are no longer meeting virtually.
URL:https://tbsneedham.org/event/lay-led-morning-minyan-53/2026-06-15/
CATEGORIES:Worship
END:VEVENT
BEGIN:VEVENT
DTSTART;TZID=America/New_York:20260618T070000
DTEND;TZID=America/New_York:20260618T073000
DTSTAMP:20260421T162203
CREATED:20250102T180302Z
LAST-MODIFIED:20250709T164130Z
UID:10005387-1781766000-1781767800@tbsneedham.org
SUMMARY:Lay-Led Morning Minyan
DESCRIPTION:Members of our community gather virtually for a warm and inclusive lay-led service.  These services take place even if there are fewer than ten participants\, last about 20-30 minutes\, and are a meaningful way to start your day. \nPlease join us in person; we are no longer meeting virtually.
URL:https://tbsneedham.org/event/lay-led-morning-minyan-53/2026-06-18/
CATEGORIES:Worship
END:VEVENT
BEGIN:VEVENT
DTSTART;TZID=America/New_York:20260619T181500
DTEND;TZID=America/New_York:20260619T194500
DTSTAMP:20260421T162203
CREATED:20250102T180530Z
LAST-MODIFIED:20250709T170642Z
UID:10005642-1781892900-1781898300@tbsneedham.org
SUMMARY:Erev Shabbat Service
DESCRIPTION:If you are a TBS member who would like to join us virtually\, please check your Shabbat Shalom email for the link.
URL:https://tbsneedham.org/event/erev-shabbat-service-26/2026-06-19/
CATEGORIES:Worship
END:VEVENT
BEGIN:VEVENT
DTSTART;TZID=America/New_York:20260620T083000
DTEND;TZID=America/New_York:20260620T090000
DTSTAMP:20260421T162203
CREATED:20250709T164758Z
LAST-MODIFIED:20250709T164759Z
UID:10005285-1781944200-1781946000@tbsneedham.org
SUMMARY:Lay-Led Shabbat Morning Service
DESCRIPTION:Join in virtually\, or join us in person in the Beit Midrash! Please refer to your Shabbat Shalom email for the Zoom information.
URL:https://tbsneedham.org/event/lay-led-shabbat-morning-service-27-2/2026-06-20/
CATEGORIES:Worship
END:VEVENT
BEGIN:VEVENT
DTSTART;TZID=America/New_York:20260620T091500
DTEND;TZID=America/New_York:20260620T101500
DTSTAMP:20260421T162203
CREATED:20250102T162833Z
LAST-MODIFIED:20250709T165122Z
UID:10005590-1781946900-1781950500@tbsneedham.org
SUMMARY:Torah Study
DESCRIPTION:No previous experience with Torah study is required…just an open mind and a desire to learn more!
URL:https://tbsneedham.org/event/torah-study-29/2026-06-20/
CATEGORIES:Worship
ATTACH;FMTTYPE=image/webp:https://tbsneedham.org/wp-content/uploads/2024/11/Morning-Minyan.webp
END:VEVENT
BEGIN:VEVENT
DTSTART;TZID=America/New_York:20260622T070000
DTEND;TZID=America/New_York:20260622T073000
DTSTAMP:20260421T162203
CREATED:20250102T180302Z
LAST-MODIFIED:20250709T164130Z
UID:10005388-1782111600-1782113400@tbsneedham.org
SUMMARY:Lay-Led Morning Minyan
DESCRIPTION:Members of our community gather virtually for a warm and inclusive lay-led service.  These services take place even if there are fewer than ten participants\, last about 20-30 minutes\, and are a meaningful way to start your day. \nPlease join us in person; we are no longer meeting virtually.
URL:https://tbsneedham.org/event/lay-led-morning-minyan-53/2026-06-22/
CATEGORIES:Worship
END:VEVENT
BEGIN:VEVENT
DTSTART;TZID=America/New_York:20260625T070000
DTEND;TZID=America/New_York:20260625T073000
DTSTAMP:20260421T162203
CREATED:20250102T180302Z
LAST-MODIFIED:20250709T164130Z
UID:10005389-1782370800-1782372600@tbsneedham.org
SUMMARY:Lay-Led Morning Minyan
DESCRIPTION:Members of our community gather virtually for a warm and inclusive lay-led service.  These services take place even if there are fewer than ten participants\, last about 20-30 minutes\, and are a meaningful way to start your day. \nPlease join us in person; we are no longer meeting virtually.
URL:https://tbsneedham.org/event/lay-led-morning-minyan-53/2026-06-25/
CATEGORIES:Worship
END:VEVENT
BEGIN:VEVENT
DTSTART;TZID=America/New_York:20260626T181500
DTEND;TZID=America/New_York:20260626T194500
DTSTAMP:20260421T162203
CREATED:20250102T180530Z
LAST-MODIFIED:20250709T170642Z
UID:10005643-1782497700-1782503100@tbsneedham.org
SUMMARY:Erev Shabbat Service
DESCRIPTION:If you are a TBS member who would like to join us virtually\, please check your Shabbat Shalom email for the link.
URL:https://tbsneedham.org/event/erev-shabbat-service-26/2026-06-26/
CATEGORIES:Worship
END:VEVENT
BEGIN:VEVENT
DTSTART;TZID=America/New_York:20260627T083000
DTEND;TZID=America/New_York:20260627T090000
DTSTAMP:20260421T162203
CREATED:20250709T164758Z
LAST-MODIFIED:20250709T164759Z
UID:10005286-1782549000-1782550800@tbsneedham.org
SUMMARY:Lay-Led Shabbat Morning Service
DESCRIPTION:Join in virtually\, or join us in person in the Beit Midrash! Please refer to your Shabbat Shalom email for the Zoom information.
URL:https://tbsneedham.org/event/lay-led-shabbat-morning-service-27-2/2026-06-27/
CATEGORIES:Worship
END:VEVENT
BEGIN:VEVENT
DTSTART;TZID=America/New_York:20260627T091500
DTEND;TZID=America/New_York:20260627T101500
DTSTAMP:20260421T162203
CREATED:20250102T162833Z
LAST-MODIFIED:20250709T165122Z
UID:10005591-1782551700-1782555300@tbsneedham.org
SUMMARY:Torah Study
DESCRIPTION:No previous experience with Torah study is required…just an open mind and a desire to learn more!
URL:https://tbsneedham.org/event/torah-study-29/2026-06-27/
CATEGORIES:Worship
ATTACH;FMTTYPE=image/webp:https://tbsneedham.org/wp-content/uploads/2024/11/Morning-Minyan.webp
END:VEVENT
BEGIN:VEVENT
DTSTART;TZID=America/New_York:20260629T070000
DTEND;TZID=America/New_York:20260629T073000
DTSTAMP:20260421T162203
CREATED:20250102T180302Z
LAST-MODIFIED:20250709T164130Z
UID:10005390-1782716400-1782718200@tbsneedham.org
SUMMARY:Lay-Led Morning Minyan
DESCRIPTION:Members of our community gather virtually for a warm and inclusive lay-led service.  These services take place even if there are fewer than ten participants\, last about 20-30 minutes\, and are a meaningful way to start your day. \nPlease join us in person; we are no longer meeting virtually.
URL:https://tbsneedham.org/event/lay-led-morning-minyan-53/2026-06-29/
CATEGORIES:Worship
END:VEVENT
BEGIN:VEVENT
DTSTART;TZID=America/New_York:20260703T181500
DTEND;TZID=America/New_York:20260703T194500
DTSTAMP:20260421T162203
CREATED:20250102T180530Z
LAST-MODIFIED:20250709T170642Z
UID:10005644-1783102500-1783107900@tbsneedham.org
SUMMARY:Erev Shabbat Service
DESCRIPTION:If you are a TBS member who would like to join us virtually\, please check your Shabbat Shalom email for the link.
URL:https://tbsneedham.org/event/erev-shabbat-service-26/2026-07-03/
CATEGORIES:Worship
END:VEVENT
BEGIN:VEVENT
DTSTART;TZID=America/New_York:20260710T181500
DTEND;TZID=America/New_York:20260710T194500
DTSTAMP:20260421T162203
CREATED:20250102T180530Z
LAST-MODIFIED:20250709T170642Z
UID:10005645-1783707300-1783712700@tbsneedham.org
SUMMARY:Erev Shabbat Service
DESCRIPTION:If you are a TBS member who would like to join us virtually\, please check your Shabbat Shalom email for the link.
URL:https://tbsneedham.org/event/erev-shabbat-service-26/2026-07-10/
CATEGORIES:Worship
END:VEVENT
BEGIN:VEVENT
DTSTART;TZID=America/New_York:20260717T181500
DTEND;TZID=America/New_York:20260717T194500
DTSTAMP:20260421T162203
CREATED:20250102T180530Z
LAST-MODIFIED:20250709T170642Z
UID:10005646-1784312100-1784317500@tbsneedham.org
SUMMARY:Erev Shabbat Service
DESCRIPTION:If you are a TBS member who would like to join us virtually\, please check your Shabbat Shalom email for the link.
URL:https://tbsneedham.org/event/erev-shabbat-service-26/2026-07-17/
CATEGORIES:Worship
END:VEVENT
BEGIN:VEVENT
DTSTART;TZID=America/New_York:20260724T181500
DTEND;TZID=America/New_York:20260724T194500
DTSTAMP:20260421T162203
CREATED:20250102T180530Z
LAST-MODIFIED:20250709T170642Z
UID:10005647-1784916900-1784922300@tbsneedham.org
SUMMARY:Erev Shabbat Service
DESCRIPTION:If you are a TBS member who would like to join us virtually\, please check your Shabbat Shalom email for the link.
URL:https://tbsneedham.org/event/erev-shabbat-service-26/2026-07-24/
CATEGORIES:Worship
END:VEVENT
BEGIN:VEVENT
DTSTART;TZID=America/New_York:20260731T181500
DTEND;TZID=America/New_York:20260731T194500
DTSTAMP:20260421T162203
CREATED:20250102T180530Z
LAST-MODIFIED:20250709T170642Z
UID:10005648-1785521700-1785527100@tbsneedham.org
SUMMARY:Erev Shabbat Service
DESCRIPTION:If you are a TBS member who would like to join us virtually\, please check your Shabbat Shalom email for the link.
URL:https://tbsneedham.org/event/erev-shabbat-service-26/2026-07-31/
CATEGORIES:Worship
END:VEVENT
BEGIN:VEVENT
DTSTART;TZID=America/New_York:20260807T181500
DTEND;TZID=America/New_York:20260807T194500
DTSTAMP:20260421T162203
CREATED:20250102T180530Z
LAST-MODIFIED:20250709T170642Z
UID:10005649-1786126500-1786131900@tbsneedham.org
SUMMARY:Erev Shabbat Service
DESCRIPTION:If you are a TBS member who would like to join us virtually\, please check your Shabbat Shalom email for the link.
URL:https://tbsneedham.org/event/erev-shabbat-service-26/2026-08-07/
CATEGORIES:Worship
END:VEVENT
BEGIN:VEVENT
DTSTART;TZID=America/New_York:20260814T181500
DTEND;TZID=America/New_York:20260814T194500
DTSTAMP:20260421T162203
CREATED:20250102T180530Z
LAST-MODIFIED:20250709T170642Z
UID:10005650-1786731300-1786736700@tbsneedham.org
SUMMARY:Erev Shabbat Service
DESCRIPTION:If you are a TBS member who would like to join us virtually\, please check your Shabbat Shalom email for the link.
URL:https://tbsneedham.org/event/erev-shabbat-service-26/2026-08-14/
CATEGORIES:Worship
END:VEVENT
BEGIN:VEVENT
DTSTART;TZID=America/New_York:20260821T181500
DTEND;TZID=America/New_York:20260821T194500
DTSTAMP:20260421T162203
CREATED:20250102T180530Z
LAST-MODIFIED:20250709T170642Z
UID:10005651-1787336100-1787341500@tbsneedham.org
SUMMARY:Erev Shabbat Service
DESCRIPTION:If you are a TBS member who would like to join us virtually\, please check your Shabbat Shalom email for the link.
URL:https://tbsneedham.org/event/erev-shabbat-service-26/2026-08-21/
CATEGORIES:Worship
END:VEVENT
BEGIN:VEVENT
DTSTART;TZID=America/New_York:20260828T181500
DTEND;TZID=America/New_York:20260828T194500
DTSTAMP:20260421T162203
CREATED:20250102T180530Z
LAST-MODIFIED:20250709T170642Z
UID:10005652-1787940900-1787946300@tbsneedham.org
SUMMARY:Erev Shabbat Service
DESCRIPTION:If you are a TBS member who would like to join us virtually\, please check your Shabbat Shalom email for the link.
URL:https://tbsneedham.org/event/erev-shabbat-service-26/2026-08-28/
CATEGORIES:Worship
END:VEVENT
BEGIN:VEVENT
DTSTART;TZID=America/New_York:20260904T181500
DTEND;TZID=America/New_York:20260904T194500
DTSTAMP:20260421T162203
CREATED:20250102T180530Z
LAST-MODIFIED:20250709T170642Z
UID:10005653-1788545700-1788551100@tbsneedham.org
SUMMARY:Erev Shabbat Service
DESCRIPTION:If you are a TBS member who would like to join us virtually\, please check your Shabbat Shalom email for the link.
URL:https://tbsneedham.org/event/erev-shabbat-service-26/2026-09-04/
CATEGORIES:Worship
END:VEVENT
BEGIN:VEVENT
DTSTART;TZID=America/New_York:20260911T181500
DTEND;TZID=America/New_York:20260911T194500
DTSTAMP:20260421T162203
CREATED:20250102T180530Z
LAST-MODIFIED:20250709T170642Z
UID:10005654-1789150500-1789155900@tbsneedham.org
SUMMARY:Erev Shabbat Service
DESCRIPTION:If you are a TBS member who would like to join us virtually\, please check your Shabbat Shalom email for the link.
URL:https://tbsneedham.org/event/erev-shabbat-service-26/2026-09-11/
CATEGORIES:Worship
END:VEVENT
BEGIN:VEVENT
DTSTART;TZID=America/New_York:20260918T181500
DTEND;TZID=America/New_York:20260918T194500
DTSTAMP:20260421T162203
CREATED:20250102T180530Z
LAST-MODIFIED:20250709T170642Z
UID:10005655-1789755300-1789760700@tbsneedham.org
SUMMARY:Erev Shabbat Service
DESCRIPTION:If you are a TBS member who would like to join us virtually\, please check your Shabbat Shalom email for the link.
URL:https://tbsneedham.org/event/erev-shabbat-service-26/2026-09-18/
CATEGORIES:Worship
END:VEVENT
BEGIN:VEVENT
DTSTART;TZID=America/New_York:20260925T181500
DTEND;TZID=America/New_York:20260925T194500
DTSTAMP:20260421T162203
CREATED:20250102T180530Z
LAST-MODIFIED:20250709T170642Z
UID:10005656-1790360100-1790365500@tbsneedham.org
SUMMARY:Erev Shabbat Service
DESCRIPTION:If you are a TBS member who would like to join us virtually\, please check your Shabbat Shalom email for the link.
URL:https://tbsneedham.org/event/erev-shabbat-service-26/2026-09-25/
CATEGORIES:Worship
END:VEVENT
BEGIN:VEVENT
DTSTART;TZID=America/New_York:20261002T181500
DTEND;TZID=America/New_York:20261002T194500
DTSTAMP:20260421T162203
CREATED:20250102T180530Z
LAST-MODIFIED:20250709T170642Z
UID:10005657-1790964900-1790970300@tbsneedham.org
SUMMARY:Erev Shabbat Service
DESCRIPTION:If you are a TBS member who would like to join us virtually\, please check your Shabbat Shalom email for the link.
URL:https://tbsneedham.org/event/erev-shabbat-service-26/2026-10-02/
CATEGORIES:Worship
END:VEVENT
BEGIN:VEVENT
DTSTART;TZID=America/New_York:20261009T181500
DTEND;TZID=America/New_York:20261009T194500
DTSTAMP:20260421T162203
CREATED:20250102T180530Z
LAST-MODIFIED:20250709T170642Z
UID:10005658-1791569700-1791575100@tbsneedham.org
SUMMARY:Erev Shabbat Service
DESCRIPTION:If you are a TBS member who would like to join us virtually\, please check your Shabbat Shalom email for the link.
URL:https://tbsneedham.org/event/erev-shabbat-service-26/2026-10-09/
CATEGORIES:Worship
END:VEVENT
END:VCALENDAR